Workbook

Sheet Suvestinė
B1: 2020
B2: Rodiklis | C2: Reikšmė
B3: Premjerų skaičius | C3: 179
B4: Lietuviškų filmų premjerų skaičius | C4: 13
B5: Bendras filmų skaičius | C5: 271
B6: Bendros pajamos | C6: 8484162.7
B7: Bendras žiūrovų skaičius | C7: 1534128
B9: Filmų dalis rinkoje, %
B10: Kategorija | C10: Pajamos | D10: Žiūrovų skaičius | E10: Pajamos % | F10: Žiūrovų skaičius % | G10: Filmų skaičius
B11: Lietuva | C11: 1981466.8 | D11: 335324 | E11: 23.355 | F11: 21.858 | G11: 23
B12: Europa | C12: 1843702.2 | D12: 364012 | E12: 21.731 | F12: 23.728 | G12: 144
B13: JAV | C13: 4498794 | D13: 801244 | E13: 53.026 | F13: 52.228 | G13: 90
B14: Kita | C14: 160199.66 | D14: 33548 | E14: 1.888 | F14: 2.187 | G14: 14
B15: Total | C15: =SUBTOTAL(109,Table1[Pajamos]) -> 8484162.7 | D15: =SUBTOTAL(109,Table1[Žiūrovų skaičius]) -> 1534128 | E15: =SUBTOTAL(109,Table1[Pajamos %]) -> 100 | F15: =SUBTOTAL(109,Table1[Žiūrovų skaičius %]) -> 100.001 | G15: =SUBTOTAL(109,Table1[Filmų skaičius]) -> 271
B46: Pasiskirstymas pagal platintojus
A47: Eil. nr | B47: Platintojas | C47: Pajamos | D47: Žiūrovų skaičius | E47: Filmų skaičius | F47: Pajamos % | G47: Žiūrovų skaičius %
A48: =IF(B48<>"",ROWS($B$48:B48),"") -> 1 | B48: ACME Film | C48: 2290155.5 | D48: 389932 | E48: 38 | F48: 26.993 | G48: 25.417
A49: =IF(B49<>"",ROWS($B$48:B49),"") -> 2 | B49: Nord Play | C49: 874110.89 | D49: 146815 | E49: 1 | F49: 10.303 | G49: 9.57
A50: =IF(B50<>"",ROWS($B$48:B50),"") -> 3 | B50: Garsų pasaulio įrašai | C50: 815366 | D50: 151700 | E50: 21 | F50: 9.61 | G50: 9.888
A51: =IF(B51<>"",ROWS($B$48:B51),"") -> 4 | B51: Theatrical Film Distribution / WDSMPI | C51: 701182.33 | D51: 135187 | E51: 6 | F51: 8.265 | G51: 8.812
A52: =IF(B52<>"",ROWS($B$48:B52),"") -> 5 | B52: ACME Film / SONY | C52: 647376.9 | D52: 110552 | E52: 10 | F52: 7.63 | G52: 7.206
A53: =IF(B53<>"",ROWS($B$48:B53),"") -> 6 | B53: ACME Film / WB | C53: 563626.52 | D53: 93092 | E53: 18 | F53: 6.643 | G53: 6.068
A54: =IF(B54<>"",ROWS($B$48:B54),"") -> 7 | B54: VLG Film | C54: 446898.25 | D54: 93109 | E54: 27 | F54: 5.267 | G54: 6.069
A55: =IF(B55<>"",ROWS($B$48:B55),"") -> 8 | B55: Theatrical Film Distribution | C55: 297907.59 | D55: 52955 | E55: 18 | F55: 3.511 | G55: 3.452
A56: =IF(B56<>"",ROWS($B$48:B56),"") -> 9 | B56: Theatrical Film Distribution / 20th Century Fox / WDSMPI | C56: 246064.34 | D56: 51053 | E56: 1 | F56: 2.9 | G56: 3.328
A57: =IF(B57<>"",ROWS($B$48:B57),"") -> 10 | B57: Dukine Film Distribution / Universal Pictures International | C57: 237832.41 | D57: 52117 | E57: 5 | F57: 2.803 | G57: 3.397
A58: =IF(B58<>"",ROWS($B$48:B58),"") -> 11 | B58: Singing fish | C58: 224601 | D58: 36186 | E58: 3 | F58: 2.647 | G58: 2.359
A59: =IF(B59<>"",ROWS($B$48:B59),"") -> 12 | B59: Theatrical Film Distribution / 20th Century Fox | C59: 197040.97 | D59: 33312 | E59: 6 | F59: 2.322 | G59: 2.171
... A84: =IF(B84<>"",ROWS($B$48:B84),"") -> 37 | B84: CineMark | C84: 647 | D84: 279 | E84: 1 | F84: 0.008 | G84: 0.018
A85: =IF(B85<>"",ROWS($B$48:B87),"") -> 40 | B85: VšĮ Sengirė | C85: 210 | D85: 69 | E85: 1 | F85: 0.002 | G85: 0.004
A86: =IF(B86<>"",ROWS($B$48:B86),"") -> 39 | B86: NCG Distribution / Paramount Pictures | C86: 122.34 | D86: 21 | E86: 1 | F86: 0.001 | G86: 0.001
A87: =IF(B87<>"",ROWS($B$48:B87),"") -> 40 | B87: Kino Pasaka | C87: 73 | D87: 18 | E87: 1 | F87: 0.001 | G87: 0.001
A88: Total | C88: =SUBTOTAL(109,Table18[Pajamos]) -> 8484162.7 | D88: =SUBTOTAL(109,Table18[Žiūrovų skaičius]) -> 1534128 | E88: =SUBTOTAL(109,Table18[Filmų skaičius]) -> 271 | F88: =SUBTOTAL(109,Table18[Pajamos %]) -> 99.997 | G88: =SUBTOTAL(109,Table18[Žiūrovų skaičius %]) -> 99.997
A91: LT TOP
A92: Eil. Nr. | B92: Filmo pavadinimas | C92: Pajamos | D92: Žiūrovų skaičius | E92: Premjeros data | F92: Platintojas
A93: 1 | B93: Tobulas pasimatymas | C93: 874110.89 | D93: 146815 | E93: 43833 | F93: Nord Play
A94: 2 | B94: Importinis jaunikis | C94: 698797.32 | D94: 115283 | E94: 43861 | F94: ACME Film
A95: 3 | B95: Vedybos, skyrybos ir barsukas | C95: 111208 | D95: 18068 | E95: 43889 | F95: Singing fish
A96: 4 | B96: Moterys meluoja geriau. Robertėlis: antroji banga | C96: 79039 | D96: 13576 | E96: 44127 | F96: Singing fish
A97: 5 | B97: Nova Lituania | C97: 61099.26 | D97: 11172 | E97: 44008 | F97: Čiobreliai (M-films)
...

Sheet Platintojų pasiskirstymas
A1: Platintojas | B1: Filmo pavadinimas | C1: Pajamos | D1: Žiūrovų skaičius | E1: Premjeros data
A2: ACME Film | B2: Importinis jaunikis (Importinis jaunikis) | C2: 698797.32 | D2: 115283 | E2: 43861
B3: 1917 (1917) | C3: 456983.33 | D3: 75166 | E3: 43840
B4: Grenlandija: Išlikimas (Greenland) | C4: 227526.42 | D4: 37216 | E4: 44057
B5: Džentelmenai ((Toff Guys) Gentlemen (Gun head)) | C5: 209493.34 | D5: 35023 | E5: 43854
B6: Sapnų kūrėjai (Dreambuilders) | C6: 63817.13 | D6: 13747 | E6: 44113
B7: Šėtono vaikas II (Brahms: The Boy 2) | C7: 59027.04 | D7: 9641 | E7: 43889
B8: Antebellum: Išrinktoji (Antebellum) | C8: 57363.39 | D8: 9428 | E8: 44092
B9: Gauruoti šnipai (Spycies) | C9: 54209 | D9: 12509 | E9: 43861
B10: Idealus vyras ((НЕ)идеальный мужчина) | C10: 48130.53 | D10: 8193 | E10: 43854
B11: Invazija (Attraction 2 (Invasion)) | C11: 47110.81 | D11: 7653 | E11: 43833
B12: Skandalas (Untitled Charles Randolph Project (Bombshell)) | C12: 39837.73 | D12: 6980 | E12: 43847
B13: Ateik pažaisti (Come Play (Larry)) | C13: 37133.02 | D13: 6241 | E13: 44134
B14: Virsmas (Turning) | C14: 33246.99 | D14: 5450 | E14: 43861
... B39: Emilija iš Laisvės alėjos (Emilija iš Laisvės alėjos) | C39: 22 | D39: 11 | E39: 42790
A40: ACME Film Total | B40: =COUNTA(B2:B39) -> 38 | C40: 2290155.5 | D40: 389932
A41: Nord Play | B41: Tobulas pasimatymas (Tobulas pasimatymas) | C41: 874110.89 | D41: 146815 | E41: 43833
A42: Nord Play Total | B42: =COUNTA(B41) -> 1 | C42: 874110.89 | D42: 146815
A43: Garsų pasaulio įrašai | B43: After. Kai mes abejojom (After We Collided) | C43: 131018 | D43: 21604 | E43: 44085
B44: Tarnas (Холоп) | C44: 102100 | D44: 16319 | E44: 43826
B45: Augintiniai susivienija (Pets United) | C45: 91146 | D45: 20900 | E45: 43882
B46: Ledas 2 (Лёд 2) | C46: 67021 | D46: 10951 | E46: 43875
B47: Fiksiai prieš Krabius (Фиксики против кработов) | C47: 64871 | D47: 14678 | E47: 43854
B48: Kaponė (Capone) | C48: 61431 | D48: 9880 | E48: 44008
B49: Sek paskui mane (Follow me) | C49: 42016 | D49: 7095 | E49: 44036
B50: Gnomai sugrįžta (The Elfkin) | C50: 37931 | D50: 8770 | E50: 44029
B51: Kapitonas Kardadantis ir stebuklingas deimantas (Captain Sabertooth and the Magic Diamond) | C51: 36245 | D51: 8583 | E51: 44043
B52: Forpostas (The Outpost) | C52: 29347 | D52: 4747 | E52: 44036
B53: Viešbutis BELGRADAS (Отель «Белград») | C53: 26381 | D53: 4674 | E53: 44008
B54: Jaga. Tamsiojo miško košmaras (Яга. Кошмар тёмного леса) | C54: 25932 | D54: 4392 | E54: 44015
B55: Strelcovas (Стрельцов) | C55: 22202 | D55: 3875 | E55: 44099
... B63: Pūkuota šnipė (Marnie’s World) | C63: 463 | D63: 125 | E63: 43637
A64: Garsų pasaulio įrašai Total | B64: =COUNTA(B43:B63) -> 21 | C64: 815366 | D64: 151700
A65: Theatrical Film Distribution / WDSMPI | B65: Ledo šalis 2 (Frozen 2) | C65: 374172.23 | D65: 74840 | E65: 43824
B66: Pirmyn (Onward) | C66: 135898.79 | D66: 27975 | E66: 43896
B67: Protėvių šauksmas (The Call of The Wild) | C67: 84227.12 | D67: 14706 | E67: 43882
B68: Žvaigždžių karai. Skaivokerio iškilimas (Star Wars: The Rise of Skywalker) | C68: 61852.51 | D68: 10042 | E68: 43817
B69: Mulan (Mulan) | C69: 43847.42 | D69: 7378 | E69: 44085
B70: Liūtas karalius (The Lion King) | C70: 1184.26 | D70: 246 | E70: 43665
A71: Theatrical Film Distribution / WDSMPI Total | B71: =COUNTA(B65:B70) -> 6 | C71: 701182.33 | D71: 135187
...

Sheet 2020
A1: 2020
A2: Lietuvos kino teatruose rodytų filmų TOP
A5: Eil. Nr. | B5: Filmo pavadinimas | C5: Filmo pavadinimas originalo kalba | D5: Kilmės šalis | E5: Pajamos | F5: Žiūrovų skaičius | G5: Kopijų skaičius | H5: Premjeros data | I5: Platintojas
A6: =IF(B6<>"",ROWS($B$6:B6),"") -> 1 | B6: Tobulas pasimatymas | C6: Tobulas pasimatymas | D6: LT | E6: 874110.89 | F6: 146815 | G6: 16 | H6: 43833 | I6: Nord Play
A7: =IF(B7<>"",ROWS($B$6:B7),"") -> 2 | B7: Importinis jaunikis | C7: Importinis jaunikis | D7: LT | E7: 698797.32 | F7: 115283 | G7: 18 | H7: 43861 | I7: ACME Film
A8: =IF(B8<>"",ROWS($B$6:B8),"") -> 3 | B8: 1917 | C8: 1917 | D8: US, UK | E8: 456983.33 | F8: 75166 | G8: 19 | H8: 43840 | I8: ACME Film
A9: =IF(B9<>"",ROWS($B$6:B9),"") -> 4 | B9: Ledo šalis 2 | C9: Frozen 2 | D9: US | E9: 374172.23 | F9: 74840 | G9: 31 | H9: 43824 | I9: Theatrical Film Distribution / WDSMPI
A10: =IF(B10<>"",ROWS($B$6:B10),"") -> 5 | B10: Tenet | C10: Tenet | D10: US, UK | E10: 342134.83 | F10: 52938 | G10: 16 | H10: 44071 | I10: ACME Film / WB
A11: =IF(B11<>"",ROWS($B$6:B11),"") -> 6 | B11: Užsimaskavę šnipai | C11: Spies In Disguise | D11: US | E11: 246064.34 | F11: 51053 | G11: 27 | H11: 43840 | I11: Theatrical Film Distribution / WDSMPI
A12: =IF(B12<>"",ROWS($B$6:B12),"") -> 7 | B12: Troliai 2 | C12: Trolls World Tour | D12: US | E12: 229279.91 | F12: 48973 | G12: 18 | H12: 44078 | I12: Dukine Film Distribution / Universal Pictures International
A13: =IF(B13<>"",ROWS($B$6:B13),"") -> 8 | B13: Grenlandija: Išlikimas | C13: Greenland | D13: US | E13: 227526.42 | F13: 37216 | G13: 14 | H13: 44057 | I13: ACME Film
A14: =IF(B14<>"",ROWS($B$6:B14),"") -> 9 | B14: Džentelmenai | C14: (Toff Guys) Gentlemen (Gun head) | D14: US | E14: 209493.34 | F14: 35023 | G14: 14 | H14: 43854 | I14: ACME Film
A15: =IF(B15<>"",ROWS($B$6:B15),"") -> 10 | B15: Pašėlę vyrukai amžiams | C15: Bad Boys for Life | D15: US | E15: 188864.7 | F15: 31654 | G15: 14 | H15: 43847 | I15: ACME Film / SONY
A16: =IF(B16<>"",ROWS($B$6:B16),"") -> 11 | B16: Daktaras Dolitlis | C16: Dolittle | D16: US | E16: 142741.29 | F16: 28095 | G16: 17 | H16: 43847 | I16: NCG Distribution / Dukine Film Distribution / Universal Pictures International
A17: =IF(B17<>"",ROWS($B$6:B17),"") -> 12 | B17: Pirmyn | C17: Onward | D17: US | E17: 135898.79 | F17: 27975 | G17: 27 | H17: 43896 | I17: Theatrical Film Distribution / WDSMPI
A18: =IF(B18<>"",ROWS($B$6:B18),"") -> 13 | B18: After. Kai mes abejojom | C18: After We Collided | D18: US | E18: 131018 | F18: 21604 | G18: 14 | H18: 44085 | I18: Garsų pasaulio įrašai
A19: =IF(B19<>"",ROWS($B$6:B19),"") -> 14 | B19: Ypatingieji | C19: The Specials | D19: FR | E19: 129269.18 | F19: 22271 | G19: 17 | H19: 43868 | I19: Theatrical Film Distribution
A20: =IF(B20<>"",ROWS($B$6:B20),"") -> 15 | B20: Košmarų sala | C20: Fantasy Island | D20: US | E20: 127106.41 | F20: 22144 | G20: 14 | H20: 43875 | I20: ACME Film / SONY
A21: =IF(B21<>"",ROWS($B$6:B21),"") -> 16 | B21: Pagieža | C21: Grudge 2020 | D21: US, CA | E21: 120292.66 | F21: 19731 | G21: 14 | H21: 43833 | I21: ACME Film / SONY
A22: =IF(B22<>"",ROWS($B$6:B22),"") -> 17 | B22: Vedybos, skyrybos ir barsukas | C22: Vedybos, skyrybos ir barsukas | D22: LT | E22: 111208 | F22: 18068 | G22: 19 | H22: 43889 | I22: Singing fish
A23: =IF(B23<>"",ROWS($B$6:B23),"") -> 18 | B23: Didžiapėdžio vaikis 2 | C23: Bigfoot family | D23: BE, FR | E23: 111024.07 | F23: 22462 | G23: 14 | H23: 44106 | I23: VLG Film
A24: =IF(B24<>"",ROWS($B$6:B24),"") -> 19 | B24: Džiumandži: Kitas lygis | C24: Jumanji: The Next level (Jumanji 2) | D24: US | E24: 102966.47 | F24: 16933 | G24: 8 | H24: 43805 | I24: ACME Film / SONY
A25: =IF(B25<>"",ROWS($B$6:B25),"") -> 20 | B25: Tarnas | C25: Холоп | D25: RU | E25: 102100 | F25: 16319 | G25: 7 | H25: 43826 | I25: Garsų pasaulio įrašai
A26: =IF(B26<>"",ROWS($B$6:B26),"") -> 21 | B26: Mažosios moterys | C26: Little Women | D26: US | E26: 102062.98 | F26: 18545 | G26: 16 | H26: 43854 | I26: ACME Film / SONY
A27: =IF(B27<>"",ROWS($B$6:B27),"") -> 22 | B27: Zuikis Džodžo | C27: Jojo Rabbit | D27: CZ, NZ | E27: 100439.7 | F27: 17204 | G27: 16 | H27: 43840 | I27: Theatrical Film Distribution / 20th Century Fox
A28: =IF(B28<>"",ROWS($B$6:B28),"") -> 23 | B28: Augintiniai susivienija | C28: Pets United | D28: UK, CN, DE | E28: 91146 | F28: 20900 | G28: 17 | H28: 43882 | I28: Garsų pasaulio įrašai
A29: =IF(B29<>"",ROWS($B$6:B29),"") -> 24 | B29: Arkties Komanda | C29: Arctic Justice | D29: UK, KR, IN | E29: 89552.48 | F29: 20790 | G29: 21 | H29: 43875 | I29: VLG Film
A30: =IF(B30<>"",ROWS($B$6:B30),"") -> 25 | B30: Ežiukas Sonic | C30: Sonic The Hedgehog | D30: US, JP, CA | E30: 87054.28 | F30: 18280 | G30: 14 | H30: 44008 | I30: Dukine Film Distribution / Paramount Pictures
A31: =IF(B31<>"",ROWS($B$6:B31),"") -> 26 | B31: Protėvių šauksmas | C31: The Call of The Wild | D31: US, CA | E31: 84227.12 | F31: 14706 | G31: 16 | H31: 43882 | I31: Theatrical Film Distribution / WDSMPI
A32: =IF(B32<>"",ROWS($B$6:B32),"") -> 27 | B32: Plėšriosios paukštės ir fantastiškoji Harlė Kvin | C32: Birds of Prey | D32: US | E32: 83374.67 | F32: 13715 | G32: 15 | H32: 43868 | I32: ACME Film / WB
A33: =IF(B33<>"",ROWS($B$6:B33),"") -> 28 | B33: Moterys meluoja geriau. Robertėlis: antroji banga | C33: Moterys meluoja geriau. Robertėlis: antroji banga | D33: LT | E33: 79039 | F33: 13576 | G33: 18 | H33: 44127 | I33: Singing fish
A34: =IF(B34<>"",ROWS($B$6:B34),"") -> 29 | B34: SKŪBIS DŪ! | C34: Scoob! | D34: US | E34: 72743.9 | F34: 15088 | G34: 15 | H34: 44092 | I34: ACME Film / WB
A35: =IF(B35<>"",ROWS($B$6:B35),"") -> 30 | B35: Ledas 2 | C35: Лёд 2 | D35: RU | E35: 67021 | F35: 10951 | G35: 10 | H35: 43875 | I35: Garsų pasaulio įrašai
A36: =IF(B36<>"",ROWS($B$6:B36),"") -> 31 | B36: Fiksiai prieš Krabius | C36: Фиксики против кработов | D36: RU | E36: 64871 | F36: 14678 | G36: 15 | H36: 43854 | I36: Garsų pasaulio įrašai
A37: =IF(B37<>"",ROWS($B$6:B37),"") -> 32 | B37: Sapnų kūrėjai | C37: Dreambuilders | D37: DK | E37: 63817.13 | F37: 13747 | G37: 16 | H37: 44113 | I37: ACME Film
A38: =IF(B38<>"",ROWS($B$6:B38),"") -> 33 | B38: Žvaigždžių karai. Skaivokerio iškilimas | C38: Star Wars: The Rise of Skywalker | D38: US | E38: 61852.51 | F38: 10042 | G38: 20 | H38: 43817 | I38: Theatrical Film Distribution / WDSMPI
A39: =IF(B39<>"",ROWS($B$6:B39),"") -> 34 | B39: Kaponė | C39: Capone | D39: US | E39: 61431 | F39: 9880 | G39: 12 | H39: 44008 | I39: Garsų pasaulio įrašai
A40: =IF(B40<>"",ROWS($B$6:B40),"") -> 35 | B40: Nova Lituania | C40: Nova Lituania | D40: LT | E40: 61099.26 | F40: 11172 | G40: 18 | H40: 44008 | I40: Čiobreliai (M-films)
A41: =IF(B41<>"",ROWS($B$6:B41),"") -> 36 | B41: Šėtono vaikas II | C41: Brahms: The Boy 2 | D41: US | E41: 59027.04 | F41: 9641 | G41: 13 | H41: 43889 | I41: ACME Film
A42: =IF(B42<>"",ROWS($B$6:B42),"") -> 37 | B42: Antebellum: Išrinktoji | C42: Antebellum | D42: US | E42: 57363.39 | F42: 9428 | G42: 13 | H42: 44092 | I42: ACME Film
...

Sheet Sausis
A1: ='2020'!A1 -> 2020
A2: ='2020'!A2 -> Lietuvos kino teatruose rodytų filmų TOP
A3: Sausis
A5: Eil. Nr. | B5: Filmo pavadinimas | C5: Filmo pavadinimas originalo kalba | D5: Kilmės šalis | E5: Pajamos | F5: Žiūrovų skaičius | G5: Kopijų skaičius | H5: Premjeros data | I5: Platintojas
A6: =IF(B6<>"",ROWS($B$6:B6),"") -> 1 | B6: Tobulas pasimatymas | C6: Tobulas pasimatymas | D6: LT | E6: 818001.93 | F6: 137195 | G6: 16 | H6: 43833 | I6: Nord Play
A7: =IF(B7<>"",ROWS($B$6:B7),"") -> 2 | B7: 1917 | C7: 1917 | D7: US, UK | E7: 347476.67 | F7: 56999 | G7: 19 | H7: 43840 | I7: ACME Film
A8: =IF(B8<>"",ROWS($B$6:B8),"") -> 3 | B8: Ledo šalis 2 | C8: Frozen 2 | D8: US | E8: 344956.68 | F8: 68819 | G8: 31 | H8: 43824 | I8: Theatrical Film Distribution / WDSMPI
A9: =IF(B9<>"",ROWS($B$6:B9),"") -> 4 | B9: Užsimaskavę šnipai | C9: Spies In Disguise | D9: US | E9: 165109.57 | F9: 34003 | G9: 27 | H9: 43840 | I9: Theatrical Film Distribution / WDSMPI
A10: =IF(B10<>"",ROWS($B$6:B10),"") -> 5 | B10: Pašėlę vyrukai amžiams | C10: Bad Boys for Life | D10: US | E10: 142477.25 | F10: 24088 | G10: 14 | H10: 43847 | I10: ACME Film / SONY
A11: =IF(B11<>"",ROWS($B$6:B11),"") -> 6 | B11: Pagieža | C11: Grudge 2020 | D11: US, CA | E11: 120292.66 | F11: 19731 | G11: 14 | H11: 43833 | I11: ACME Film / SONY
A12: =IF(B12<>"",ROWS($B$6:B12),"") -> 7 | B12: Džiumandži: Kitas lygis | C12: Jumanji: The Next level (Jumanji 2) | D12: US | E12: 100572.74 | F12: 16513 | G12: 8 | H12: 43805 | I12: ACME Film / SONY
A13: =IF(B13<>"",ROWS($B$6:B13),"") -> 8 | B13: Daktaras Dolitlis | C13: Dolittle | D13: US | E13: 96958.45 | F13: 18903 | G13: 17 | H13: 43847 | I13: NCG Distribution / Universal Pictures International
A14: =IF(B14<>"",ROWS($B$6:B14),"") -> 9 | B14: Tarnas | C14: Холоп | D14: RU | E14: 95760 | F14: 15354 | G14: 7 | H14: 43826 | I14: Garsų pasaulio įrašai
A15: =IF(B15<>"",ROWS($B$6:B15),"") -> 10 | B15: Zuikis Džodžo | C15: Jojo Rabbit | D15: CZ, NZ | E15: 76290.13 | F15: 13228 | G15: 16 | H15: 43840 | I15: Theatrical Film Distribution / 20th Century Fox
A16: =IF(B16<>"",ROWS($B$6:B16),"") -> 11 | B16: Džentelmenai | C16: (Toff Guys) Gentlemen (Gun head) | D16: US | E16: 69723.56 | F16: 12136 | G16: 14 | H16: 43854 | I16: ACME Film
A17: =IF(B17<>"",ROWS($B$6:B17),"") -> 12 | B17: Importinis jaunikis | C17: Importinis jaunikis | D17: LT | E17: 64297.39 | F17: 10342 | G17: 18 | H17: 43861 | I17: ACME Film
A18: =IF(B18<>"",ROWS($B$6:B18),"") -> 13 | B18: Žvaigždžių karai. Skaivokerio iškilimas | C18: Star Wars: The Rise of Skywalker | D18: US | E18: 61852.51 | F18: 10042 | G18: 20 | H18: 43817 | I18: Theatrical Film Distribution / WDSMPI
A19: =IF(B19<>"",ROWS($B$6:B19),"") -> 14 | B19: Invazija | C19: Attraction 2 (Invasion) | D19: RU | E19: 47110.81 | F19: 7653 | G19: 6 | H19: 43833 | I19: ACME Film
A20: =IF(B20<>"",ROWS($B$6:B20),"") -> 15 | B20: Mažosios moterys | C20: Little Women | D20: US | E20: 46697.93 | F20: 8680 | G20: 16 | H20: 43854 | I20: ACME Film / SONY
A21: =IF(B21<>"",ROWS($B$6:B21),"") -> 16 | B21: Skandalas | C21: Untitled Charles Randolph Project (Bombshell) | D21: US | E21: 38262.26 | F21: 6711 | G21: 12 | H21: 43847 | I21: ACME Film
A22: =IF(B22<>"",ROWS($B$6:B22),"") -> 17 | B22: Pasmerkti. Pajūrio džiazas | C22: Pasmerkti. Pajūrio džiazas | D22: LT | E22: 34354 | F22: 4542 | G22: 6 | H22: 43791 | I22: Singing fish
A23: =IF(B23<>"",ROWS($B$6:B23),"") -> 18 | B23: Idealus vyras | C23: (НЕ)идеальный мужчина | D23: RU | E23: 32936.81 | F23: 5759 | G23: 6 | H23: 43854 | I23: ACME Film
A24: =IF(B24<>"",ROWS($B$6:B24),"") -> 19 | B24: Adamsų šeimynėlė | C24: The Addams Family | D24: US | E24: 28621.66 | F24: 4722 | G24: 7 | H24: 43798 | I24: NCG Distribution / Universal Pictures International
A25: =IF(B25<>"",ROWS($B$6:B25),"") -> 20 | B25: Fiksiai prieš Krabius | C25: Фиксики против кработов | D25: RU | E25: 26588 | F25: 6094 | G25: 15 | H25: 43854 | I25: Garsų pasaulio įrašai
A26: =IF(B26<>"",ROWS($B$6:B26),"") -> 21 | B26: Ištraukti peiliai | C26: Knives Out | D26: US | E26: 23190.6 | F26: 3685 | G26: 4 | H26: 43798 | I26: ACME Film
A27: =IF(B27<>"",ROWS($B$6:B27),"") -> 22 | B27: Antroji aš | C27: Celle que vous croyez | D27: FR, BE | E27: 19487 | F27: 3984 | G27: 12 | H27: 43833 | I27: Europos kinas
A28: =IF(B28<>"",ROWS($B$6:B28),"") -> 23 | B28: Siekiant gailestingumo | C28: Just Mercy | D28: US | E28: 18792.51 | F28: 3293 | G28: 10 | H28: 43847 | I28: ACME Film / WB
A29: =IF(B29<>"",ROWS($B$6:B29),"") -> 24 | B29: Selma ir užburtas miestas | C29: Dia de Muertos | D29: MX | E29: 16787 | F29: 3761 | G29: 15 | H29: 43847 | I29: VLG Film
A30: =IF(B30<>"",ROWS($B$6:B30),"") -> 25 | B30: Mano dukrai Samai | C30: For Sama | D30: UK, SY | E30: 16428.62 | F30: 3674 | G30: 18 | H30: 43840 | I30: Greta Garbo Films
A31: =IF(B31<>"",ROWS($B$6:B31),"") -> 26 | B31: Pašėlęs policininkas: Naujametinis nesusipratimas 2 | C31: Полицейский с Рублевки. Новогодний беспредел 2 | D31: RU | E31: 13909.19 | F31: 2179 | G31: 3 | H31: 43812 | I31: ACME Film
A32: =IF(B32<>"",ROWS($B$6:B32),"") -> 27 | B32: Nuostabi epocha | C32: La Belle Epoque | D32: FR | E32: 11811 | F32: 2235 | G32: 3 | H32: 43805 | I32: VLG Film
A33: =IF(B33<>"",ROWS($B$6:B33),"") -> 28 | B33: Mafijos išdavikas | C33: Il Traditore | D33: FR, IT, DE | E33: 9024.8 | F33: 1904 | G33: 8 | H33: 43847 | I33: A-One Films
A34: =IF(B34<>"",ROWS($B$6:B34),"") -> 29 | B34: Cats | C34: Cats | D34: UK, US | E34: 8347 | F34: 1616 | G34: 8 | H34: 43826 | I34: NCG Distribution / Universal Pictures International
A35: =IF(B35<>"",ROWS($B$6:B35),"") -> 30 | B35: Tulpės, meilė, garbė ir dviratis | C35: Tulipani: Liefde, eer en een fiets | D35: NL | E35: 7481.67 | F35: 1426 | G35: 6 | H35: 43812 | I35: Artbox
A36: =IF(B36<>"",ROWS($B$6:B36),"") -> 31 | B36: Le Manas'66. Plento karaliai | C36: Ford v. Ferrari | D36: US | E36: 6402.91 | F36: 999 | G36: 6 | H36: 43794 | I36: Theatrical Film Distribution / 20th Century Fox
A37: =IF(B37<>"",ROWS($B$6:B37),"") -> 32 | B37: Po vandeniu | C37: Underwater | D37: US | E37: 5995.21 | F37: 999 | G37: 11 | H37: 43861 | I37: Theatrical Film Distribution / 20th Century Fox
A38: =IF(B38<>"",ROWS($B$6:B38),"") -> 33 | B38: Virsmas | C38: Turning | D38: US | E38: 5685.84 | F38: 924 | G38: 11 | H38: 43861 | I38: ACME Film
A39: =IF(B39<>"",ROWS($B$6:B39),"") -> 34 | B39: Sukeisti Kalėdų seneliai 2. Pamirštos kalėdos | C39: Santa Swap 2. Forgotten Christmas | D39: NO | E39: 5363.48 | F39: 683 | G39: 8 | H39: 43819 | I39: Travolta
A40: =IF(B40<>"",ROWS($B$6:B40),"") -> 35 | B40: Pats sau milijonierius | C40: Pats sau milijonierius | D40: LT | E40: 4486.16 | F40: 775 | G40: 6 | H40: 43756 | I40: Stambus planas
A41: =IF(B41<>"",ROWS($B$6:B41),"") -> 36 | B41: Sibilės vilionės | C41: Sibyl | D41: FR | E41: 3880 | F41: 860 | G41: 4 | H41: 43826 | I41: A-one films
...

Sheet Vasaris
A1: ='2020'!A1 -> 2020
A2: ='2020'!A2 -> Lietuvos kino teatruose rodytų filmų TOP
A3: Vasaris
A5: Eil. Nr. | B5: Filmo pavadinimas | C5: Filmo pavadinimas originalo kalba | D5: Kilmės šalis | E5: Pajamos | F5: Žiūrovų skaičius | G5: Kopijų skaičius | H5: Premjeros data | I5: Platintojas
A6: =IF(B6<>"",ROWS($B$6:B6),"") -> 1 | B6: Importinis jaunikis | C6: Importinis jaunikis | D6: LT | E6: 594127.04 | F6: 97853 | G6: 18 | H6: 43861 | I6: ACME Film
A7: =IF(B7<>"",ROWS($B$6:B7),"") -> 2 | B7: Džentelmenai | C7: (Toff Guys) Gentlemen (Gun head) | D7: US | E7: 118802.19 | F7: 19475 | G7: 8 | H7: 43854 | I7: ACME Film
A8: =IF(B8<>"",ROWS($B$6:B8),"") -> 3 | B8: Košmarų sala | C8: Fantasy Island | D8: US | E8: 115187.84 | F8: 20146 | G8: 14 | H8: 43875 | I8: ACME Film / SONY
A9: =IF(B9<>"",ROWS($B$6:B9),"") -> 4 | B9: Ypatingieji | C9: The Specials | D9: FR | E9: 102205.46 | F9: 17647 | G9: 17 | H9: 43868 | I9: Theatrical Film Distribution
A10: =IF(B10<>"",ROWS($B$6:B10),"") -> 5 | B10: 1917 | C10: 1917 | D10: US, UK | E10: 102173.44 | F10: 16960 | G10: 10 | H10: 43840 | I10: ACME Film
A11: =IF(B11<>"",ROWS($B$6:B11),"") -> 6 | B11: Arkties Komanda | C11: Arctic Justice | D11: UK, KR, IN | E11: 84436 | F11: 19298 | G11: 21 | H11: 43875 | I11: VLG Film
A12: =IF(B12<>"",ROWS($B$6:B12),"") -> 7 | B12: Plėšriosios paukštės ir fantastiškoji Harlė Kvin | C12: Birds of Prey | D12: US | E12: 83109.57 | F12: 13664 | G12: 15 | H12: 43868 | I12: ACME Film / WB
A13: =IF(B13<>"",ROWS($B$6:B13),"") -> 8 | B13: Užsimaskavę šnipai | C13: Spies In Disguise | D13: US | E13: 73130.16 | F13: 15435 | G13: 12 | H13: 43840 | I13: Theatrical Film Distribution / WDSMPI
A14: =IF(B14<>"",ROWS($B$6:B14),"") -> 9 | B14: Augintiniai susivienija | C14: Pets United | D14: UK, CN, DE | E14: 66490 | F14: 14962 | G14: 17 | H14: 43882 | I14: Garsų pasaulio įrašai
A15: =IF(B15<>"",ROWS($B$6:B15),"") -> 10 | B15: Protėvių šauksmas | C15: The Call of The Wild | D15: US, CA | E15: 66095.36 | F15: 11469 | G15: 16 | H15: 43882 | I15: Theatrical Film Distribution / 20th Century Fox
A16: =IF(B16<>"",ROWS($B$6:B16),"") -> 11 | B16: Ledas 2 | C16: Лёд 2 | D16: RU | E16: 62827 | F16: 10253 | G16: 10 | H16: 43875 | I16: Garsų pasaulio įrašai
A17: =IF(B17<>"",ROWS($B$6:B17),"") -> 12 | B17: Tobulas pasimatymas | C17: Tobulas pasimatymas | D17: LT | E17: 55947.39 | F17: 9593 | G17: 8 | H17: 43833 | I17: Nord Play
A18: =IF(B18<>"",ROWS($B$6:B18),"") -> 13 | B18: Mažosios moterys | C18: Little Women | D18: US | E18: 53290.9 | F18: 9376 | G18: 12 | H18: 43854 | I18: ACME Film / SONY
A19: =IF(B19<>"",ROWS($B$6:B19),"") -> 14 | B19: Gauruoti šnipai | C19: Spycies | D19: CN, FR | E19: 50407.64 | F19: 11279 | G19: 16 | H19: 43861 | I19: ACME Film
A20: =IF(B20<>"",ROWS($B$6:B20),"") -> 15 | B20: Po vandeniu | C20: Underwater | D20: US | E20: 47179.16 | F20: 7737 | G20: 11 | H20: 43861 | I20: Theatrical Film Distribution / 20th Century Fox
A21: =IF(B21<>"",ROWS($B$6:B21),"") -> 16 | B21: Partizanas | C21: Partizanas | D21: LT | E21: 46891.43 | F21: 9188 | G21: 12 | H21: 43875 | I21: Cinema Ads
A22: =IF(B22<>"",ROWS($B$6:B22),"") -> 17 | B22: Pašėlę vyrukai amžiams | C22: Bad Boys for Life | D22: US | E22: 44585.3 | F22: 7277 | G22: 9 | H22: 43847 | I22: ACME Film / SONY
A23: =IF(B23<>"",ROWS($B$6:B23),"") -> 18 | B23: Daktaras Dolitlis | C23: Dolittle | D23: US | E23: 43077.43 | F23: 8667 | G23: 10 | H23: 43847 | I23: NCG Distribution / Universal Pictures International
A24: =IF(B24<>"",ROWS($B$6:B24),"") -> 19 | B24: Vedybos, skyrybos ir barsukas | C24: Vedybos, skyrybos ir barsukas | D24: LT | E24: 43000 | F24: 7029 | G24: 19 | H24: 43889 | I24: Singing fish
A25: =IF(B25<>"",ROWS($B$6:B25),"") -> 20 | B25: Klara ir stebuklingasis drakonas | C25: Clara | D25: UA | E25: 41605.31 | F25: 9437 | G25: 17 | H25: 43868 | I25: Travolta
A26: =IF(B26<>"",ROWS($B$6:B26),"") -> 21 | B26: Fiksiai prieš Krabius | C26: Фиксики против кработов | D26: RU | E26: 36024 | F26: 8053 | G26: 12 | H26: 43854 | I26: Garsų pasaulio įrašai
A27: =IF(B27<>"",ROWS($B$6:B27),"") -> 22 | B27: Virsmas | C27: Turning | D27: US | E27: 27561.15 | F27: 4526 | G27: 11 | H27: 43861 | I27: ACME Film
A28: =IF(B28<>"",ROWS($B$6:B28),"") -> 23 | B28: Ledo šalis 2 | C28: Frozen 2 | D28: US | E28: 26201.62 | F28: 5396 | G28: 10 | H28: 43824 | I28: Theatrical Film Distribution / WDSMPI
A29: =IF(B29<>"",ROWS($B$6:B29),"") -> 24 | B29: Jonukas ir Grytutė. Siaubo pasaka | C29: Gretel & Hansel | D29: US, IE, CA | E29: 24901.1 | F29: 4295 | G29: 10 | H29: 43868 | I29: Travolta
A30: =IF(B30<>"",ROWS($B$6:B30),"") -> 25 | B30: Baltų gentys. Paskutinieji Europos pagonys | C30: Baltic Tribes. The Last Pagans of Europe | D30: LV | E30: 23365.97 | F30: 4648 | G30: 12 | H30: 43882 | I30: Film Jam
A31: =IF(B31<>"",ROWS($B$6:B31),"") -> 26 | B31: Zuikis Džodžo | C31: Jojo Rabbit | D31: CZ, NZ | E31: 23067.97 | F31: 3798 | G31: 5 | H31: 43840 | I31: Theatrical Film Distribution / 20th Century Fox
A32: =IF(B32<>"",ROWS($B$6:B32),"") -> 27 | B32: Koma | C32: Кома | D32: RU | E32: 21627 | F32: 3725 | G32: 9 | H32: 43861 | I32: Garsų pasaulio įrašai
A33: =IF(B33<>"",ROWS($B$6:B33),"") -> 28 | B33: Šėtono vaikas II | C33: Brahms: The Boy 2 | D33: US | E33: 20096.2 | F33: 3321 | G33: 13 | H33: 43889 | I33: ACME Film
A34: =IF(B34<>"",ROWS($B$6:B34),"") -> 29 | B34: Lavina | C34: Downhill | D34: US | E34: 17730.79 | F34: 3091 | G34: 15 | H34: 43875 | I34: Theatrical Film Distribution / 20th Century Fox
A35: =IF(B35<>"",ROWS($B$6:B35),"") -> 30 | B35: Užgaidų maratonas | C35: Марафон желаний | D35: RU | E35: 16397 | F35: 2623 | G35: 5 | H35: 43868 | I35: ACME Film
A36: =IF(B36<>"",ROWS($B$6:B36),"") -> 31 | B36: Idealus vyras | C36: (НЕ)идеальный мужчина | D36: RU | E36: 15193.72 | F36: 2434 | G36: 5 | H36: 43854 | I36: ACME Film
A37: =IF(B37<>"",ROWS($B$6:B37),"") -> 32 | B37: El Padre Medico / Lietuvis Amazonės džiunglėse | C37: El Padre Medico / Lietuvis Amazonės džiunglėse | D37: LT, BR | E37: 11126.6 | F37: 2581 | G37: 7 | H37: 43888 | I37: Filmuva
A38: =IF(B38<>"",ROWS($B$6:B38),"") -> 33 | B38: Laimės gėlelė | C38: Little Joe | D38: UK, AT, DE | E38: 7343.4 | F38: 1586 | G38: 4 | H38: 43868 | I38: A-one Films
A39: =IF(B39<>"",ROWS($B$6:B39),"") -> 34 | B39: Pareigūnas ir šnipas | C39: An Officer and a Spy | D39: FR, IT | E39: 7145 | F39: 1511 | G39: 15 | H39: 43882 | I39: Garsų pasaulio įrašai
A40: =IF(B40<>"",ROWS($B$6:B40),"") -> 35 | B40: Nuostabi epocha | C40: La Belle Epoque | D40: FR | E40: 6668 | F40: 1301 | G40: 3 | H40: 43805 | I40: VLG Film
A41: =IF(B41<>"",ROWS($B$6:B41),"") -> 36 | B41: Tarnas | C41: Холоп | D41: RU | E41: 6340 | F41: 965 | G41: 2 | H41: 43826 | I41: Garsų pasaulio įrašai
...

Sheet Kovas
A1: ='2020'!A1 -> 2020
A2: ='2020'!A2 -> Lietuvos kino teatruose rodytų filmų TOP
A3: Kovas
A5: Eil. Nr. | B5: Filmo pavadinimas | C5: Filmo pavadinimas originalo kalba | D5: Kilmės šalis | E5: Pajamos | F5: Žiūrovų skaičius | G5: Kopijų skaičius | H5: Premjeros data | I5: Platintojas
A6: =IF(B6<>"",ROWS($B$6:B6),"") -> 1 | B6: Pirmyn | C6: Onward | D6: US | E6: 80203.23 | F6: 15564 | G6: 27 | H6: 43896 | I6: Theatrical Film Distribution / WDSMPI
A7: =IF(B7<>"",ROWS($B$6:B7),"") -> 2 | B7: Vedybos, skyrybos ir barsukas | C7: Vedybos, skyrybos ir barsukas | D7: LT | E7: 68208 | F7: 11039 | G7: 8 | H7: 43889 | I7: Singing fish
A8: =IF(B8<>"",ROWS($B$6:B8),"") -> 3 | B8: Nematomas žmogus | C8: The Invisible Man | D8: US | E8: 51149.33 | F8: 8507 | G8: 13 | H8: 43896 | I8: NCG Distribution / Universal Pictures International
A9: =IF(B9<>"",ROWS($B$6:B9),"") -> 4 | B9: Importinis jaunikis | C9: Importinis jaunikis | D9: LT | E9: 39213.19 | F9: 6831 | G9: 11 | H9: 43861 | I9: ACME Film
A10: =IF(B10<>"",ROWS($B$6:B10),"") -> 5 | B10: Šėtono vaikas II | C10: Brahms: The Boy 2 | D10: US | E10: 36095.87 | F10: 5851 | G10: 13 | H10: 43889 | I10: ACME Film
A11: =IF(B11<>"",ROWS($B$6:B11),"") -> 6 | B11: Ypatingieji | C11: The Specials | D11: FR | E11: 25838.72 | F11: 4375 | G11: 11 | H11: 43868 | I11: Theatrical Film Distribution
A12: =IF(B12<>"",ROWS($B$6:B12),"") -> 7 | B12: Džentelmenai | C12: (Toff Guys) Gentlemen (Gun head) | D12: US | E12: 20375.09 | F12: 3276 | G12: 6 | H12: 43854 | I12: ACME Film
A13: =IF(B13<>"",ROWS($B$6:B13),"") -> 8 | B13: Kubos voratinklis | C13: Wasp Network | D13: FR, ES, BE | E13: 19685.7 | F13: 3219 | G13: 12 | H13: 43896 | I13: ACME Film
A14: =IF(B14<>"",ROWS($B$6:B14),"") -> 9 | B14: Protėvių šauksmas | C14: The Call of The Wild | D14: US, CA | E14: 17703.56 | F14: 3149 | G14: 10 | H14: 43882 | I14: Theatrical Film Distribution / 20th Century Fox
A15: =IF(B15<>"",ROWS($B$6:B15),"") -> 10 | B15: Augintiniai susivienija | C15: Pets United | D15: UK, CN, DE | E15: 17159 | F15: 3679 | G15: 17 | H15: 43882 | I15: Garsų pasaulio įrašai
A16: =IF(B16<>"",ROWS($B$6:B16),"") -> 11 | B16: Ginklai Akimbo | C16: Guns Akimbo | D16: UK, DE, NZ | E16: 12559.55 | F16: 2100 | G16: 6 | H16: 43896 | I16: Travolta
A17: =IF(B17<>"",ROWS($B$6:B17),"") -> 12 | B17: Košmarų sala | C17: Fantasy Island | D17: US | E17: 11747.57 | F17: 1969 | G17: 8 | H17: 43875 | I17: ACME Film / SONY
A18: =IF(B18<>"",ROWS($B$6:B18),"") -> 13 | B18: Baltų gentys. Paskutinieji Europos pagonys | C18: Baltic Tribes. The Last Pagans of Europe | D18: LV | E18: 9577.9 | F18: 1545 | G18: 8 | H18: 43882 | I18: Film Jam
A19: =IF(B19<>"",ROWS($B$6:B19),"") -> 14 | B19: Emma | C19: Emma | D19: UK | E19: 9186.62 | F19: 1649 | G19: 13 | H19: 43889 | I19: NCG Distribution / Universal Pictures International
A20: =IF(B20<>"",ROWS($B$6:B20),"") -> 15 | B20: Moteris | C20: Woman | D20: FR | E20: 7577 | F20: 1513 | G20: 15 | H20: 43896 | I20: Greta Garbo Films
A21: =IF(B21<>"",ROWS($B$6:B21),"") -> 16 | B21: 1917 | C21: 1917 | D21: US, UK | E21: 7333.22 | F21: 1207 | G21: 7 | H21: 43840 | I21: ACME Film
A22: =IF(B22<>"",ROWS($B$6:B22),"") -> 17 | B22: Partizanas | C22: Partizanas | D22: LT | E22: 5759.04 | F22: 1636 | G22: 5 | H22: 43875 | I22: Cinema Ads
A23: =IF(B23<>"",ROWS($B$6:B23),"") -> 18 | B23: Užsimaskavę šnipai | C23: Spies In Disguise | D23: US | E23: 5616.31 | F23: 1142 | G23: 7 | H23: 43840 | I23: Theatrical Film Distribution / WDSMPI
A24: =IF(B24<>"",ROWS($B$6:B24),"") -> 19 | B24: QT8: Quentin Tarantino | C24: QT8: Quentin Tarantino | D24: US | E24: 4637 | F24: 973 | G24: 10 | H24: 43896 | I24: VLG Film
A25: =IF(B25<>"",ROWS($B$6:B25),"") -> 20 | B25: Ledas 2 | C25: Лёд 2 | D25: RU | E25: 4194 | F25: 698 | G25: 4 | H25: 43875 | I25: Garsų pasaulio įrašai
A26: =IF(B26<>"",ROWS($B$6:B26),"") -> 21 | B26: Arkties Komanda | C26: Arctic Justice | D26: UK, KR, IN | E26: 3588.98 | F26: 805 | G26: 13 | H26: 43875 | I26: VLG Film
A27: =IF(B27<>"",ROWS($B$6:B27),"") -> 22 | B27: Labai moteriškos istorijos | C27: Очень женские истории | D27: RU | E27: 2992.1 | F27: 432 | G27: 5 | H27: 43903 | I27: Theatrical Film Distribution
A28: =IF(B28<>"",ROWS($B$6:B28),"") -> 23 | B28: Daktaras Dolitlis | C28: Dolittle | D28: US | E28: 2186.81 | F28: 416 | G28: 3 | H28: 43847 | I28: NCG Distribution / Universal Pictures International
A29: =IF(B29<>"",ROWS($B$6:B29),"") -> 24 | B29: Mažosios moterys | C29: Little Women | D29: US | E29: 2024.15 | F29: 478 | G29: 4 | H29: 43854 | I29: ACME Film / SONY
A30: =IF(B30<>"",ROWS($B$6:B30),"") -> 25 | B30: Adomas | C30: Adam | D30: FR | E30: 1767.25 | F30: 482 | G30: 5 | H30: 43894 | I30: Kino pasaka
A31: =IF(B31<>"",ROWS($B$6:B31),"") -> 26 | B31: Dilili Paryžiuje | C31: Dilili à Paris | D31: FR | E31: 1634 | F31: 409 | G31: 10 | H31: 43896 | I31: Estinfilm
A32: =IF(B32<>"",ROWS($B$6:B32),"") -> 27 | B32: Laimės gėlelė | C32: Little Joe | D32: UK, AT, DE | E32: 1461 | F32: 297 | G32: 4 | H32: 43868 | I32: A-one Films
A33: =IF(B33<>"",ROWS($B$6:B33),"") -> 28 | B33: Nenugalėti | C33: Rising Hawk | D33: UA, US | E33: 1410 | F33: 286 | G33: 13 | H33: 43889 | I33: VLG Film
A34: =IF(B34<>"",ROWS($B$6:B34),"") -> 29 | B34: Fiksiai prieš Krabius | C34: Фиксики против кработов | D34: RU | E34: 1370 | F34: 84 | G34: 2 | H34: 43854 | I34: Garsų pasaulio įrašai
A35: =IF(B35<>"",ROWS($B$6:B35),"") -> 30 | B35: Pašėlę vyrukai amžiams | C35: Bad Boys for Life | D35: US | E35: 1365.65 | F35: 217 | G35: 3 | H35: 43847 | I35: ACME Film / SONY
A36: =IF(B36<>"",ROWS($B$6:B36),"") -> 31 | B36: Pareigūnas ir šnipas | C36: An Officer and a Spy | D36: FR, IT | E36: 1260 | F36: 334 | G36: 4 | H36: 43882 | I36: Garsų pasaulio įrašai
A37: =IF(B37<>"",ROWS($B$6:B37),"") -> 32 | B37: El Padre Medico / Lietuvis Amazonės džiunglėse | C37: El Padre Medico / Lietuvis Amazonės džiunglėse | D37: LT, BR | E37: 1178 | F37: 321 | G37: 6 | H37: 43888 | I37: Filmuva
A38: =IF(B38<>"",ROWS($B$6:B38),"") -> 33 | B38: Zuikis Džodžo | C38: Jojo Rabbit | D38: CZ, NZ | E38: 1081.6 | F38: 178 | G38: 2 | H38: 43840 | I38: Theatrical Film Distribution / 20th Century Fox
A39: =IF(B39<>"",ROWS($B$6:B39),"") -> 34 | B39: Nežinomas šventasis | C39: The Unknown Saint | D39: MA, FR, QA | E39: 954.5 | F39: 193 | G39: 4 | H39: 43889 | I39: A-one Films
A40: =IF(B40<>"",ROWS($B$6:B40),"") -> 35 | B40: Ledo šalis 2 | C40: Frozen 2 | D40: US | E40: 794.01 | F40: 166 | G40: 2 | H40: 43824 | I40: Theatrical Film Distribution / WDSMPI
A41: =IF(B41<>"",ROWS($B$6:B41),"") -> 36 | B41: Mano dukrai Samai | C41: For Sama | D41: UK, SY | E41: 641 | F41: 134 | G41: 3 | H41: 43840 | I41: Greta Garbo Films
...

Sheet Drive-In
A1: ='2020'!A1 -> 2020
A2: ='2020'!A2 -> Lietuvos kino teatruose rodytų filmų TOP
A3: Balandis
A5: Eil. Nr. | B5: Filmo pavadinimas | C5: Filmo pavadinimas originalo kalba | D5: Kilmės šalis | E5: Pajamos | F5: Žiūrovų skaičius | G5: Kopijų skaičius | H5: Premjeros data | I5: Platintojas
A6: =IF(B6<>"",ROWS($B$6:B6),"") -> 1 | B6: Parazitas | C6: Gisaengchung | D6: KR | E6: 14836.95 | F6: 1241 | G6: 1 | H6: - | I6: Europos kinas
A7: =IF(B7<>"",ROWS($B$6:B7),"") -> 2 | B7: Džentelmenai | C7: (Toff Guys) Gentlemen (Gun head) | D7: US | E7: 13805.998 | F7: 1123 | G7: 2 | H7: 43854 | I7: ACME Film
A8: =IF(B8<>"",ROWS($B$6:B8),"") -> 3 | B8: Kristaus kūnas | C8: Boże Ciało | D8: PL, FR | E8: 13019.84 | F8: 922 | G8: 1 | H8: - | I8: Europos kinas
A9: =IF(B9<>"",ROWS($B$6:B9),"") -> 4 | B9: Mama | C9: Madre | D9: ES, FR | E9: 5471.36 | F9: 427 | G9: 1 | H9: - | I9: Europos kinas
A10: =IF(B10<>"",ROWS($B$6:B10),"") -> 5 | B10: Ištraukti peiliai | C10: Ištraukti peiliai | D10: US | E10: 4732.271 | F10: 399 | G10: 3 | H10: 43798 | I10: ACME Film
A11: =IF(B11<>"",ROWS($B$6:B11),"") -> 6 | B11: Zomša | C11: Le Daim | D11: FR | E11: 3543.64 | F11: 257 | G11: 1 | H11: - | I11: Europos kinas
A12: =IF(B12<>"",ROWS($B$6:B12),"") -> 7 | B12: Mažasis princas | C12: The Lttle Prince | D12: FR, CA, IT, US | E12: 3274.216 | F12: 279 | G12: 3 | H12: 42321 | I12: ACME Film
A13: =IF(B13<>"",ROWS($B$6:B13),"") -> 8 | B13: Lietinga diena Niujorke | C13: Rainy Day in New York | D13: US | E13: 3094.83 | F13: 261 | G13: 2 | H13: 43679 | I13: ACME Film
A14: =IF(B14<>"",ROWS($B$6:B14),"") -> 9 | B14: Moliūgėlio gyvenimas | C14: Ma vie de courgette | D14: CH, FR | E14: 2914.07 | F14: 199 | G14: 1 | H14: 42832 | I14: Europos kinas
A15: =IF(B15<>"",ROWS($B$6:B15),"") -> 10 | B15: Tobulas pasimatymas | C15: Tobulas pasimatymas | D15: LT | E15: 2707.73 | F15: 222 | G15: 2 | H15: 43833 | I15: Nord Play
A16: =IF(B16<>"",ROWS($B$6:B16),"") -> 11 | B16: John Wick | C16: John Wick | D16: US | E16: 2616 | F16: 228 | G16: 1 | H16: 41957 | I16: ACME Film
A17: =IF(B17<>"",ROWS($B$6:B17),"") -> 12 | B17: Trys milijonai eurų | C17: Trys milijonai eurų | D17: LT | E17: 2496 | F17: 208 | G17: 1 | H17: 43035 | I17: Vabalo filmai
A18: =IF(B18<>"",ROWS($B$6:B18),"") -> 13 | B18: Tarnaitė | C18: Ah-ga-ssi | D18: KR | E18: 2451.32 | F18: 175 | G18: 1 | H18: 42832 | I18: Europos kinas
A19: =IF(B19<>"",ROWS($B$6:B19),"") -> 14 | B19: Kalifornijos svajos | C19: La La Land | D19: US | E19: 2386.5 | F19: 205 | G19: 2 | H19: 42713 | I19: ACME Film
A20: =IF(B20<>"",ROWS($B$6:B20),"") -> 15 | B20: Be šansų | C20: Long Shot | D20: US | E20: 2356.5 | F20: 196 | G20: 2 | H20: 43588 | I20: ACME Film
A21: =IF(B21<>"",ROWS($B$6:B21),"") -> 16 | B21: Kvadratas | C21: Rutan | D21: DK, FR, SE, DE | E21: 2308.46 | F21: 154 | G21: 1 | H21: 43070 | I21: Kino Aljansas
A22: =IF(B22<>"",ROWS($B$6:B22),"") -> 17 | B22: 1917 | C22: 1917 | D22: US, UK | E22: 2069.896 | F22: 171 | G22: 3 | H22: 43840 | I22: ACME Film
A23: =IF(B23<>"",ROWS($B$6:B23),"") -> 18 | B23: Geismas ir garsas Vakarų Berlyne (1979-1989) | C23: B-Movie: Lust & Sound in West-Berlin (1979-1989) | D23: DE | E23: 2042.63 | F23: 193 | G23: 1 | H23: - | I23: Europos kinas
A24: =IF(B24<>"",ROWS($B$6:B24),"") -> 19 | B24: Vagiliautojai | C24: Manbiki kazoku | D24: JP | E24: 1965.55 | F24: 154 | G24: 1 | H24: 43560 | I24: Europos kinas
A25: =IF(B25<>"",ROWS($B$6:B25),"") -> 20 | B25: Nuostabieji lūzeriai. Kita planeta | C25: Nuostabieji lūzeriai. Kita planeta | D25: LT | E25: 1954.72 | F25: 161 | G25: 1 | H25: 43140 | I25: Studija NOMINUM
A26: =IF(B26<>"",ROWS($B$6:B26),"") -> 21 | B26: Skausmas ir šlovė | C26: Dolor y gloria | D26: ES | E26: 1948.71 | F26: 136 | G26: 1 | H26: 43630 | I26: VLG Film
A27: =IF(B27<>"",ROWS($B$6:B27),"") -> 22 | B27: Garsioji meškinų invazija į Siciliją | C27: La Fameuse Invasion des ours en Sicile | D27: FR, IT | E27: 1866.67 | F27: 143 | G27: 1 | H27: - | I27: Europos kinas
A28: =IF(B28<>"",ROWS($B$6:B28),"") -> 23 | B28: Tonis Erdmanas | C28: Toni Erdmann | D28: DE, AT | E28: 1843.77 | F28: 124 | G28: 1 | H28: 42601 | I28: A-ONE FILMS
A29: =IF(B29<>"",ROWS($B$6:B29),"") -> 24 | B29: Whitney | C29: Whitney | D29: US, UK | E29: 1776 | F29: 150 | G29: 1 | H29: 43581 | I29: Kino Pasaka
A30: =IF(B30<>"",ROWS($B$6:B30),"") -> 25 | B30: Žalioji knyga | C30: Green Book | D30: US | E30: 1764 | F30: 147 | G30: 1 | H30: 43476 | I30: ACME Film
A31: =IF(B31<>"",ROWS($B$6:B31),"") -> 26 | B31: Nuostabi epocha | C31: La Belle Epoque | D31: FR | E31: 1748.8 | F31: 199 | G31: 2 | H31: 43805 | I31: VLG Film
A32: =IF(B32<>"",ROWS($B$6:B32),"") -> 27 | B32: Liepsnojančios moters portretas | C32: Portrait De La Jeune Fille En Feu | D32: FR | E32: 1724.84 | F32: 126 | G32: 1 | H32: - | I32: Europos kinas
A33: =IF(B33<>"",ROWS($B$6:B33),"") -> 28 | B33: Nematomas gyvenimas | C33: A vida invisível | D33: BR, DE | E33: 1686.83 | F33: 148 | G33: 1 | H33: - | I33: Europos kinas
A34: =IF(B34<>"",ROWS($B$6:B34),"") -> 29 | B34: Riba | C34: Border | D34: SE, DK | E34: 1513.99 | F34: 102 | G34: 1 | H34: 43518 | I34: A-ONE FILMS
A35: =IF(B35<>"",ROWS($B$6:B35),"") -> 30 | B35: Devym kažkelinti | C35: Mid90s | D35: US | E35: 1479.95 | F35: 121 | G35: 1 | H35: 43602 | I35: A-ONE FILMS
A36: =IF(B36<>"",ROWS($B$6:B36),"") -> 31 | B36: Kafarnaumas | C36: Capernaum | D36: LB, FR, US | E36: 1459.92 | F36: 113 | G36: 1 | H36: 43560 | I36: Europos kinas
A37: =IF(B37<>"",ROWS($B$6:B37),"") -> 32 | B37: Didesni purslai | C37: A Bigger Splash | D37: IT, FR | E37: 1446.03 | F37: 109 | G37: 1 | H37: 42496 | I37: ACME Film
A38: =IF(B38<>"",ROWS($B$6:B38),"") -> 33 | B38: Mano mažoji sesutė Mirai | C38: Mirai no Mirai | D38: JP | E38: 1443.98 | F38: 170 | G38: 1 | H38: 43560 | I38: Europos kinas
A39: =IF(B39<>"",ROWS($B$6:B39),"") -> 34 | B39: Pats sau milijonierius | C39: Pats sau milijonierius | D39: LT | E39: 1431.6 | F39: 127 | G39: 3 | H39: 43756 | I39: Stambus planas
A40: =IF(B40<>"",ROWS($B$6:B40),"") -> 35 | B40: TAVĘS NIEKADA ČIA NEBUVO | C40: You Were Never Really Here | D40: US, UK, FR | E40: 1368 | F40: 118 | G40: 1 | H40: 43210 | I40: A-ONE FILMS
A41: =IF(B41<>"",ROWS($B$6:B41),"") -> 36 | B41: Ji | C41: Elle | D41: FR, DE, BE | E41: 1364.09 | F41: 92 | G41: 1 | H41: 42832 | I41: Europos kinas
...

Sheet Birželis
A1: ='2020'!A1 -> 2020
A2: ='2020'!A2 -> Lietuvos kino teatruose rodytų filmų TOP
A3: Birželis
A5: Eil. Nr. | B5: Filmo pavadinimas | C5: Filmo pavadinimas originalo kalba | D5: Kilmės šalis | E5: Pajamos | F5: Žiūrovų skaičius | G5: Kopijų skaičius | H5: Premjeros data | I5: Platintojas
A6: =IF(B6<>"",ROWS($B$6:B6),"") -> 1 | B6: Nova Lituania | C6: Nova Lituania | D6: LT | E6: 16618.85 | F6: 3235 | G6: 18 | H6: 44008 | I6: Čiobreliai (M-films)
A7: =IF(B7<>"",ROWS($B$6:B7),"") -> 2 | B7: Ežiukas Sonic | C7: Sonic The Hedgehog | D7: US, JP, CA | E7: 15915.32 | F7: 3269 | G7: 14 | H7: 44008 | I7: Dukine Film Distribution / Paramount Pictures
A8: =IF(B8<>"",ROWS($B$6:B8),"") -> 3 | B8: Kaponė | C8: Capone | D8: US | E8: 13341 | F8: 2614 | G8: 12 | H8: 44008 | I8: Garsų pasaulio įrašai
A9: =IF(B9<>"",ROWS($B$6:B9),"") -> 4 | B9: Viešbutis BELGRADAS | C9: Отель «Белград» | D9: RU | E9: 7024 | F9: 1466 | G9: 11 | H9: 44008 | I9: Garsų pasaulio įrašai
A10: =IF(B10<>"",ROWS($B$6:B10),"") -> 5 | B10: Meile tikiu | C10: I still believe | D10: US | E10: 5434.67 | F10: 949 | G10: 12 | H10: 44008 | I10: ACME Film
A11: =IF(B11<>"",ROWS($B$6:B11),"") -> 6 | B11: Pirmyn | C11: Onward | D11: US | E11: 5272.28 | F11: 1195 | G11: 9 | H11: 43896 | I11: Theatrical Film Distribution / WDSMPI
A12: =IF(B12<>"",ROWS($B$6:B12),"") -> 7 | B12: Augintiniai susivienija | C12: Pets United | D12: UK, CN, DE | E12: 3040 | F12: 725 | G12: 3 | H12: 43882 | I12: Garsų pasaulio įrašai
A13: =IF(B13<>"",ROWS($B$6:B13),"") -> 8 | B13: Parazitas | C13: Gisaengchung | D13: KR | E13: 2436.2 | F13: 471 | G13: 5 | H13: 43987 | I13: Europos kinas
A14: =IF(B14<>"",ROWS($B$6:B14),"") -> 9 | B14: Kristaus kūnas | C14: Boże Ciało | D14: PL, FR | E14: 2325 | F14: 479 | G14: 2 | H14: 43987 | I14: Europos kinas
A15: =IF(B15<>"",ROWS($B$6:B15),"") -> 10 | B15: Nematomas žmogus | C15: The Invisible Man | D15: US | E15: 1806.35 | F15: 295 | G15: 5 | H15: 43896 | I15: Dukine Film Distribution / Universal Pictures International
A16: =IF(B16<>"",ROWS($B$6:B16),"") -> 11 | B16: Bloodshot | C16: Bloodshot | D16: US | E16: 1614 | F16: 268 | G16: 4 | H16: 43903 | I16: ACME Film
A17: =IF(B17<>"",ROWS($B$6:B17),"") -> 12 | B17: Bjaurusis aš 3 | C17: Despicable Me 3 | D17: US | E17: 1542.2 | F17: 300 | G17: 1 | H17: 42916 | I17: Dukine Film Distribution / Universal Pictures International
A18: =IF(B18<>"",ROWS($B$6:B18),"") -> 13 | B18: Tarp žvaigždžių | C18: Interstellar | D18: US | E18: 1423.5 | F18: 220 | G18: 4 | H18: 41970 | I18: ACME Film / WB
A19: =IF(B19<>"",ROWS($B$6:B19),"") -> 14 | B19: Bėgantis skustuvo ašmenimis 2049 | C19: Blade Runner 2049 | D19: US | E19: 1386.4 | F19: 226 | G19: 4 | H19: 43014 | I19: ACME Film / SONY
A20: =IF(B20<>"",ROWS($B$6:B20),"") -> 15 | B20: Žanas Polis Gotjė. Sapnas, vizija, šou | C20: Jean Paul Gaultier: Freak and Chic | D20: FR | E20: 1235.6 | F20: 267 | G20: 9 | H20: 44008 | I20: Best Film
A21: =IF(B21<>"",ROWS($B$6:B21),"") -> 16 | B21: Jonukas ir Grytutė. Siaubo pasaka | C21: Gretel & Hansel | D21: US, IE, CA | E21: 1103.6 | F21: 193 | G21: 4 | H21: 43868 | I21: Travolta
A22: =IF(B22<>"",ROWS($B$6:B22),"") -> 17 | B22: Garsioji meškinų invazija į Siciliją | C22: La Fameuse Invasion des ours en Sicile | D22: FR, IT | E22: 988 | F22: 255 | G22: 1 | H22: 43987 | I22: Europos kinas
A23: =IF(B23<>"",ROWS($B$6:B23),"") -> 18 | B23: Matijas ir Maksimas | C23: Matthias et Maxime | D23: CA | E23: 988 | F23: 212 | G23: 1 | H23: 43973 | I23: VLG Film
A24: =IF(B24<>"",ROWS($B$6:B24),"") -> 19 | B24: Oazė: žaidimas prasideda | C24: Ready Player One | D24: US | E24: 902.8 | F24: 152 | G24: 8 | H24: 43189 | I24: ACME Film / WB
A25: =IF(B25<>"",ROWS($B$6:B25),"") -> 20 | B25: Suteik man sparnus | C25: Donne moi des Ailes | D25: FR | E25: 768 | F25: 235 | G25: 4 | H25: 43987 | I25: Europos kinas
A26: =IF(B26<>"",ROWS($B$6:B26),"") -> 21 | B26: Saulės kultas | C26: Midsommar | D26: US, SE | E26: 636 | F26: 96 | G26: 1 | H26: 43651 | I26: VLG Film
A27: =IF(B27<>"",ROWS($B$6:B27),"") -> 22 | B27: Ginklai Akimbo | C27: Guns Akimbo | D27: UK, DE, NZ | E27: 604.05 | F27: 87 | G27: 2 | H27: 43896 | I27: Travolta
A28: =IF(B28<>"",ROWS($B$6:B28),"") -> 23 | B28: Šėtono vaikas II | C28: Brahms: The Boy 2 | D28: US | E28: 568 | F28: 84 | G28: 4 | H28: 43889 | I28: ACME Film
A29: =IF(B29<>"",ROWS($B$6:B29),"") -> 24 | B29: Bohemijos rapsodija | C29: Bohemian Rhapsody | D29: UK. US | E29: 552.1 | F29: 112 | G29: 7 | H29: 43406 | I29: Theatrical Film Distribution / 20th Century Fox
A30: =IF(B30<>"",ROWS($B$6:B30),"") -> 25 | B30: Visa tiesa apie divą | C30: The Truth | D30: FR, JP | E30: 521.5 | F30: 125 | G30: 3 | H30: 43987 | I30: Europos kinas
A31: =IF(B31<>"",ROWS($B$6:B31),"") -> 26 | B31: Daktaras Dolitlis | C31: Dolittle | D31: US | E31: 518.6 | F31: 109 | G31: 1 | H31: 43847 | I31: Dukine Film Distribution / Universal Pictures International
A32: =IF(B32<>"",ROWS($B$6:B32),"") -> 27 | B32: Tylos zona | C32: A Quiet Place | D32: US | E32: 514.5 | F32: 86 | G32: 1 | H32: 43196 | I32: Dukine Film Distribution / Paramount Pictures
A33: =IF(B33<>"",ROWS($B$6:B33),"") -> 28 | B33: Gravitacija | C33: Gravity 3D | D33: US | E33: 500 | F33: 87 | G33: 4 | H33: 44002 | I33: ACME Film / WB
A34: =IF(B34<>"",ROWS($B$6:B34),"") -> 29 | B34: Ypatingieji | C34: The Specials | D34: FR | E34: 444.5 | F34: 85 | G34: 3 | H34: 43868 | I34: Theatrical Film Distribution
A35: =IF(B35<>"",ROWS($B$6:B35),"") -> 30 | B35: Nuostabi epocha | C35: La Belle Epoque | D35: FR | E35: 402 | F35: 104 | G35: 1 | H35: 43805 | I35: VLG Film
A36: =IF(B36<>"",ROWS($B$6:B36),"") -> 31 | B36: Pašėlę vyrukai amžiams | C36: Bad Boys for Life | D36: US | E36: 355.5 | F36: 54 | G36: 4 | H36: 43847 | I36: ACME Film / SONY
A37: =IF(B37<>"",ROWS($B$6:B37),"") -> 32 | B37: Arkties Komanda | C37: Arctic Justice | D37: UK, KR, IN | E37: 329 | F37: 63 | G37: 1 | H37: 43875 | I37: VLG Film
A38: =IF(B38<>"",ROWS($B$6:B38),"") -> 33 | B38: Mafijos išdavikas | C38: Il Traditore | D38: FR, IT, DE | E38: 283.62 | F38: 61 | G38: 4 | H38: 43847 | I38: A-One Films
A39: =IF(B39<>"",ROWS($B$6:B39),"") -> 34 | B39: Arčiau debesų | C39: Cloudboy | D39: BG, SE, NL, NO | E39: 256 | F39: 56 | G39: 1 | H39: 42988 | I39: Skalvijos kino centras
A40: =IF(B40<>"",ROWS($B$6:B40),"") -> 35 | B40: TAS: Antroji dalis | C40: IT 2 | D40: US | E40: 175.5 | F40: 27 | G40: 2 | H40: 43714 | I40: ACME Film / WB
A41: =IF(B41<>"",ROWS($B$6:B41),"") -> 36 | B41: Protėvių šauksmas | C41: The Call of The Wild | D41: US, CA | E41: 175.5 | F41: 32 | G41: 3 | H41: 43882 | I41: Theatrical Film Distribution / 20th Century Fox
...

Sheet Liepa
A1: ='2020'!A1 -> 2020
A2: ='2020'!A2 -> Lietuvos kino teatruose rodytų filmų TOP
A3: Liepa
A5: Eil. Nr. | B5: Filmo pavadinimas | C5: Filmo pavadinimas originalo kalba | D5: Kilmės šalis | E5: Pajamos | F5: Žiūrovų skaičius | G5: Kopijų skaičius | H5: Premjeros data | I5: Platintojas
A6: =IF(B6<>"",ROWS($B$6:B6),"") -> 1 | B6: Ežiukas Sonic | C6: Sonic The Hedgehog | D6: US, JP, CA | E6: 57969.45 | F6: 12125 | G6: 15 | H6: 44008 | I6: Dukine Film Distribution / Paramount Pictures
A7: =IF(B7<>"",ROWS($B$6:B7),"") -> 2 | B7: Kaponė | C7: Capone | D7: US | E7: 44656 | F7: 6794 | G7: 10 | H7: 44008 | I7: Garsų pasaulio įrašai
A8: =IF(B8<>"",ROWS($B$6:B8),"") -> 3 | B8: Nova Lituania | C8: Nova Lituania | D8: LT | E8: 38853.43 | F8: 6909 | G8: 18 | H8: 44008 | I8: Čiobreliai (M-films)
A9: =IF(B9<>"",ROWS($B$6:B9),"") -> 4 | B9: Pirmyn | C9: Onward | D9: US | E9: 35816.86 | F9: 8015 | G9: 11 | H9: 43896 | I9: Theatrical Film Distribution / WDSMPI
A10: =IF(B10<>"",ROWS($B$6:B10),"") -> 5 | B10: Gnomai sugrįžta | C10: The Elfkin | D10: DE | E10: 28623 | F10: 6663 | G10: 15 | H10: 44029 | I10: Garsų pasaulio įrašai
A11: =IF(B11<>"",ROWS($B$6:B11),"") -> 6 | B11: Dingęs princas | C11: Le prince oublié | D11: FR, BE | E11: 25767.98 | F11: 5481 | G11: 16 | H11: 44022 | I11: ACME Film
A12: =IF(B12<>"",ROWS($B$6:B12),"") -> 7 | B12: Jaga. Tamsiojo miško košmaras | C12: Яга. Кошмар тёмного леса | D12: RU | E12: 24631 | F12: 4189 | G12: 15 | H12: 44015 | I12: Garsų pasaulio įrašai
A13: =IF(B13<>"",ROWS($B$6:B13),"") -> 8 | B13: Sek paskui mane | C13: Follow me | D13: US | E13: 24314 | F13: 4220 | G13: 15 | H13: 44036 | I13: Garsų pasaulio įrašai
A14: =IF(B14<>"",ROWS($B$6:B14),"") -> 9 | B14: Vikingas Vikas | C14: Vic the Viking and the Magic Sword | D14: FR | E14: 23758.77 | F14: 5579 | G14: 16 | H14: 44015 | I14: VLG Film
A15: =IF(B15<>"",ROWS($B$6:B15),"") -> 10 | B15: Forpostas | C15: The Outpost | D15: BG,US | E15: 17628 | F15: 2735 | G15: 13 | H15: 44036 | I15: Garsų pasaulio įrašai
A16: =IF(B16<>"",ROWS($B$6:B16),"") -> 11 | B16: Viešbutis BELGRADAS | C16: Отель «Белград» | D16: RU | E16: 16234 | F16: 2710 | G16: 6 | H16: 44008 | I16: Garsų pasaulio įrašai
A17: =IF(B17<>"",ROWS($B$6:B17),"") -> 12 | B17: Reivas | C17: Beats | D17: UK | E17: 15373.91 | F17: 2657 | G17: 14 | H17: 44022 | I17: Best Film
A18: =IF(B18<>"",ROWS($B$6:B18),"") -> 13 | B18: Audros vaikas | C18: Storm boy | D18: AU | E18: 12883.91 | F18: 2755 | G18: 15 | H18: 44036 | I18: Best Film
A19: =IF(B19<>"",ROWS($B$6:B19),"") -> 14 | B19: Mis nepriklausoma | C19: Misbehaviour | D19: UK | E19: 12283.68 | F19: 2109 | G19: 16 | H19: 44029 | I19: ACME Film
A20: =IF(B20<>"",ROWS($B$6:B20),"") -> 15 | B20: Meile tikiu | C20: I still believe | D20: US | E20: 11600.02 | F20: 2380 | G20: 9 | H20: 44008 | I20: ACME Film
A21: =IF(B21<>"",ROWS($B$6:B21),"") -> 16 | B21: Vienas įkvėpimas | C21: Один вдох | D21: RU | E21: 8188.11 | F21: 1374 | G21: 8 | H21: 44022 | I21: Best Film
A22: =IF(B22<>"",ROWS($B$6:B22),"") -> 17 | B22: Olegas | C22: Oleg | D22: LT, LV, BE, FR | E22: 5932.37 | F22: 1365 | G22: 21 | H22: 44029 | I22: In Script
A23: =IF(B23<>"",ROWS($B$6:B23),"") -> 18 | B23: Kelionė į Graikiją | C23: Trip To Greece | D23: UK | E23: 5162.25 | F23: 918 | G23: 16 | H23: 44029 | I23: Theatrical Film Distribution
A24: =IF(B24<>"",ROWS($B$6:B24),"") -> 19 | B24: Paryžiaus undinėlė | C24: Mermaid in Paris | D24: FR | E24: 4600 | F24: 839 | G24: 15 | H24: 44022 | I24: VLG Film
A25: =IF(B25<>"",ROWS($B$6:B25),"") -> 20 | B25: Mano geriausias draugas | C25: A Very Bad Friend | D25: FR | E25: 4542.18 | F25: 755 | G25: 8 | H25: 44015 | I25: Best Film
A26: =IF(B26<>"",ROWS($B$6:B26),"") -> 21 | B26: Augintiniai susivienija | C26: Pets United | D26: UK, CN, DE | E26: 3607 | F26: 1195 | G26: 3 | H26: 43882 | I26: Garsų pasaulio įrašai
A27: =IF(B27<>"",ROWS($B$6:B27),"") -> 22 | B27: Mirtina nuoma | C27: Rental | D27: US | E27: 3586.55 | F27: 620 | G27: 14 | H27: 44043 | I27: ACME Film
A28: =IF(B28<>"",ROWS($B$6:B28),"") -> 23 | B28: Bjaurusis aš 3 | C28: Despicable Me 3 | D28: US | E28: 3440.3 | F28: 1120 | G28: 6 | H28: 42916 | I28: Dukine Film Distribution / Universal Pictures International
A29: =IF(B29<>"",ROWS($B$6:B29),"") -> 24 | B29: Aš vis dar čia | C29: #IAmHere | D29: FR | E29: 3376.98 | F29: 587 | G29: 14 | H29: 44015 | I29: Theatrical Film Distribution
A30: =IF(B30<>"",ROWS($B$6:B30),"") -> 25 | B30: Alisa | C30: Alice | D30: FR, AU | E30: 3361.8 | F30: 604 | G30: 15 | H30: 44036 | I30: Best Film
A31: =IF(B31<>"",ROWS($B$6:B31),"") -> 26 | B31: Kaip pavogti paveikslą | C31: номер один | D31: RU | E31: 2861.17 | F31: 467 | G31: 10 | H31: 44015 | I31: Theatrical Film Distribution
A32: =IF(B32<>"",ROWS($B$6:B32),"") -> 27 | B32: Bloodshot | C32: Bloodshot | D32: US | E32: 2688.29 | F32: 563 | G32: 4 | H32: 43903 | I32: ACME Film
A33: =IF(B33<>"",ROWS($B$6:B33),"") -> 28 | B33: Tarp žvaigždžių | C33: Interstellar | D33: US | E33: 2518.5 | F33: 434 | G33: 4 | H33: 41970 | I33: ACME Film / WB
A34: =IF(B34<>"",ROWS($B$6:B34),"") -> 29 | B34: Šėtono vaikas II | C34: Brahms: The Boy 2 | D34: US | E34: 2266.97 | F34: 385 | G34: 4 | H34: 43889 | I34: ACME Film
A35: =IF(B35<>"",ROWS($B$6:B35),"") -> 30 | B35: Užsimaskavę šnipai | C35: Spies In Disguise | D35: US | E35: 2208.3 | F35: 473 | G35: 6 | H35: 43840 | I35: Theatrical Film Distribution / WDSMPI
A36: =IF(B36<>"",ROWS($B$6:B36),"") -> 31 | B36: Parazitas | C36: Gisaengchung | D36: KR | E36: 1772 | F36: 417 | G36: 4 | H36: 43987 | I36: Europos kinas
A37: =IF(B37<>"",ROWS($B$6:B37),"") -> 32 | B37: Ginklai Akimbo | C37: Guns Akimbo | D37: UK, DE, NZ | E37: 1239.5 | F37: 200 | G37: 4 | H37: 43896 | I37: Travolta
A38: =IF(B38<>"",ROWS($B$6:B38),"") -> 33 | B38: Skausmas ir šlovė | C38: Dolor y gloria | D38: ES | E38: 1200 | F38: 480 | G38: 1 | H38: 43630 | I38: VLG Film
A39: =IF(B39<>"",ROWS($B$6:B39),"") -> 34 | B39: Ledo šalis 2 | C39: Frozen 2 | D39: US | E39: 1144.06 | F39: 233 | G39: 5 | H39: 43824 | I39: Theatrical Film Distribution / WDSMPI
A40: =IF(B40<>"",ROWS($B$6:B40),"") -> 35 | B40: Neliečiamasis | C40: Untouchable | D40: UK | E40: 1132.1 | F40: 197 | G40: 7 | H40: 44029 | I40: Best Film
A41: =IF(B41<>"",ROWS($B$6:B41),"") -> 36 | B41: Importinis jaunikis | C41: Importinis jaunikis | D41: LT | E41: 930.4 | F41: 207 | G41: 3 | H41: 43861 | I41: ACME Film
...

Sheet Rugpjūtis
A1: ='2020'!A1 -> 2020
A2: ='2020'!A2 -> Lietuvos kino teatruose rodytų filmų TOP
A3: Rugpjūtis
A5: Eil. Nr. | B5: Filmo pavadinimas | C5: Filmo pavadinimas originalo kalba | D5: Kilmės šalis | E5: Pajamos | F5: Žiūrovų skaičius | G5: Kopijų skaičius | H5: Premjeros data | I5: Platintojas
A6: =IF(B6<>"",ROWS($B$6:B6),"") -> 1 | B6: Grenlandija: Išlikimas | C6: Greenland | D6: US | E6: 127241.26 | F6: 20813 | G6: 14 | H6: 44057 | I6: ACME Film
A7: =IF(B7<>"",ROWS($B$6:B7),"") -> 2 | B7: Tenet | C7: Tenet | D7: US, UK | E7: 120791.51 | F7: 18732 | G7: 16 | H7: 44071 | I7: ACME Film / WB
A8: =IF(B8<>"",ROWS($B$6:B8),"") -> 3 | B8: Kapitonas Kardadantis ir stebuklingas deimantas | C8: Captain Sabertooth and the Magic Diamond | D8: NO | E8: 34792 | F8: 8208 | G8: 16 | H8: 44043 | I8: Garsų pasaulio įrašai
A9: =IF(B9<>"",ROWS($B$6:B9),"") -> 4 | B9: Įtūžęs | C9: Unhinged | D9: US | E9: 30413 | F9: 4851 | G9: 16 | H9: 44043 | I9: VLG Film
A10: =IF(B10<>"",ROWS($B$6:B10),"") -> 5 | B10: Troliai 2 | C10: Trolls World Tour | D10: US | E10: 28165.25 | F10: 6127 | G10: 12 | H10: 44078 | I10: Dukine Film Distribution / Universal Pictures International
A11: =IF(B11<>"",ROWS($B$6:B11),"") -> 6 | B11: Palm Springs | C11: Palm Springs | D11: US | E11: 27738.68 | F11: 5146 | G11: 14 | H11: 44057 | I11: VLG Film
A12: =IF(B12<>"",ROWS($B$6:B12),"") -> 7 | B12: Pradžia (Jubiliejinis leidimas) | C12: Inception (10th Anniversary re-release) | D12: US, UK | E12: 23991.2 | F12: 3807 | G12: 11 | H12: 44057 | I12: ACME Film / WB
A13: =IF(B13<>"",ROWS($B$6:B13),"") -> 8 | B13: Paslaptingas sodas | C13: Secret Garden | D13: UK, FR | E13: 22777.75 | F13: 5064 | G13: 14 | H13: 44064 | I13: ACME Film
A14: =IF(B14<>"",ROWS($B$6:B14),"") -> 9 | B14: Mirtina nuoma | C14: Rental | D14: US | E14: 20815.1 | F14: 3528 | G14: 14 | H14: 44043 | I14: ACME Film
A15: =IF(B15<>"",ROWS($B$6:B15),"") -> 10 | B15: Traukinys į Busaną 2: Pusiasalis | C15: Train to Busan 2: Peninsula | D15: KR | E15: 20396.59 | F15: 3535 | G15: 13 | H15: 44057 | I15: Best Film
A16: =IF(B16<>"",ROWS($B$6:B16),"") -> 11 | B16: Sek paskui mane | C16: Follow me | D16: US | E16: 17702 | F16: 2875 | G16: 11 | H16: 44036 | I16: Garsų pasaulio įrašai
A17: =IF(B17<>"",ROWS($B$6:B17),"") -> 12 | B17: Nuosavas šnipas | C17: My Spy | D17: US | E17: 16759.96 | F17: 3193 | G17: 13 | H17: 44050 | I17: ACME Film
A18: =IF(B18<>"",ROWS($B$6:B18),"") -> 13 | B18: Kosminis Samsamas | C18: Samsam | D18: FR | E18: 14962.86 | F18: 3581 | G18: 15 | H18: 44057 | I18: VLG Film
A19: =IF(B19<>"",ROWS($B$6:B19),"") -> 14 | B19: Geriausi draugai | C19: Ella Bella Bingo | D19: NO | E19: 14380.95 | F19: 3514 | G19: 15 | H19: 44050 | I19: Theatrical Film Distribution
A20: =IF(B20<>"",ROWS($B$6:B20),"") -> 15 | B20: Pirmyn | C20: Onward | D20: US | E20: 13467.32 | F20: 2956 | G20: 10 | H20: 43896 | I20: Theatrical Film Distribution / WDSMPI
A21: =IF(B21<>"",ROWS($B$6:B21),"") -> 16 | B21: Ežiukas Sonic | C21: Sonic The Hedgehog | D21: US, JP, CA | E21: 12447.22 | F21: 2733 | G21: 9 | H21: 44008 | I21: Dukine Film Distribution / Paramount Pictures
A22: =IF(B22<>"",ROWS($B$6:B22),"") -> 17 | B22: Karas su seneliu | C22: War With Grandpa | D22: US | E22: 12228.18 | F22: 2184 | G22: 11 | H22: 44071 | I22: Theatrical Film Distribution
A23: =IF(B23<>"",ROWS($B$6:B23),"") -> 18 | B23: Audros vaikas | C23: Storm boy | D23: AU | E23: 12090.19 | F23: 2596 | G23: 15 | H23: 44036 | I23: Best Film
A24: =IF(B24<>"",ROWS($B$6:B24),"") -> 19 | B24: Forpostas | C24: The Outpost | D24: BG,US | E24: 11719 | F24: 2012 | G24: 11 | H24: 44036 | I24: Garsų pasaulio įrašai
A25: =IF(B25<>"",ROWS($B$6:B25),"") -> 20 | B25: Aš gražuolė | C25: Красотка в ударе | D25: RU | E25: 9827 | F25: 1779 | G25: 10 | H25: 44064 | I25: Garsų pasaulio įrašai
A26: =IF(B26<>"",ROWS($B$6:B26),"") -> 21 | B26: Gnomai sugrįžta | C26: The Elfkin | D26: DE | E26: 9308 | F26: 2107 | G26: 12 | H26: 44029 | I26: Garsų pasaulio įrašai
A27: =IF(B27<>"",ROWS($B$6:B27),"") -> 22 | B27: Uždraustoji zona | C27: Запретная зона | D27: BY | E27: 7721.97 | F27: 1308 | G27: 13 | H27: 44050 | I27: Theatrical Film Distribution
A28: =IF(B28<>"",ROWS($B$6:B28),"") -> 23 | B28: Pieniniai dantys | C28: Babyteeth | D28: AU | E28: 7367 | F28: 1285 | G28: 12 | H28: 44050 | I28: A-One Films
A29: =IF(B29<>"",ROWS($B$6:B29),"") -> 24 | B29: Advokatas | C29: Advokatas | D29: LT | E29: 6158.1 | F29: 1110 | G29: 18 | H29: 44071 | I29: Naratyvas
A30: =IF(B30<>"",ROWS($B$6:B30),"") -> 25 | B30: Tesla | C30: Tesla | D30: US | E30: 6014 | F30: 1284 | G30: 14 | H30: 44064 | I30: Garsų pasaulio įrašai
A31: =IF(B31<>"",ROWS($B$6:B31),"") -> 26 | B31: Karo šmėklos | C31: Ghosts of War | D31: UK | E31: 4922.9 | F31: 848 | G31: 11 | H31: 44057 | I31: Theatrical Film Distribution
A32: =IF(B32<>"",ROWS($B$6:B32),"") -> 27 | B32: Nova Lituania | C32: Nova Lituania | D32: LT | E32: 4849.26 | F32: 849 | G32: 6 | H32: 44008 | I32: Čiobreliai (M-films)
A33: =IF(B33<>"",ROWS($B$6:B33),"") -> 28 | B33: Dingęs princas | C33: Le prince oublié | D33: FR, BE | E33: 3763.39 | F33: 805 | G33: 7 | H33: 44022 | I33: ACME Film
A34: =IF(B34<>"",ROWS($B$6:B34),"") -> 29 | B34: Kaponė | C34: Capone | D34: US | E34: 3434 | F34: 472 | G34: 3 | H34: 44008 | I34: Garsų pasaulio įrašai
A35: =IF(B35<>"",ROWS($B$6:B35),"") -> 30 | B35: Viešbutis BELGRADAS | C35: Отель «Белград» | D35: RU | E35: 3123 | F35: 498 | G35: 2 | H35: 44008 | I35: Garsų pasaulio įrašai
A36: =IF(B36<>"",ROWS($B$6:B36),"") -> 31 | B36: Šarlis Aznavūras | C36: Le regard de Charles | D36: FR | E36: 3013 | F36: 582 | G36: 5 | H36: 44057 | I36: A-One Films
