Workbook

Sheet Suvestinė
B1: 2020
B2: Rodiklis | C2: Reikšmė
B3: Premjerų skaičius | C3: 179
B4: Lietuviškų filmų premjerų skaičius | C4: 13
B5: Bendras filmų skaičius | C5: 271
B6: Bendros pajamos | C6: 8484162.7
B7: Bendras žiūrovų skaičius | C7: 1534128
B9: Filmų dalis rinkoje, %
B10: Kategorija | C10: Pajamos | D10: Žiūrovų skaičius | E10: Pajamos % | F10: Žiūrovų skaičius % | G10: Filmų skaičius
B11: Lietuva | C11: 1981466.8 | D11: 335324 | E11: 23.355 | F11: 21.858 | G11: 23
B12: Europa | C12: 1843702.2 | D12: 364012 | E12: 21.731 | F12: 23.728 | G12: 144
B13: JAV | C13: 4498794 | D13: 801244 | E13: 53.026 | F13: 52.228 | G13: 90
B14: Kita | C14: 160199.66 | D14: 33548 | E14: 1.888 | F14: 2.187 | G14: 14
B15: Total | C15: =SUBTOTAL(109,Table1[Pajamos]) -> 8484162.7 | D15: =SUBTOTAL(109,Table1[Žiūrovų skaičius]) -> 1534128 | E15: =SUBTOTAL(109,Table1[Pajamos %]) -> 100 | F15: =SUBTOTAL(109,Table1[Žiūrovų skaičius %]) -> 100.001 | G15: =SUBTOTAL(109,Table1[Filmų skaičius]) -> 271
B46: Pasiskirstymas pagal platintojus
A47: Eil. nr | B47: Platintojas | C47: Pajamos | D47: Žiūrovų skaičius | E47: Filmų skaičius | F47: Pajamos % | G47: Žiūrovų skaičius %
A48: =IF(B48<>"",ROWS($B$48:B48),"") -> 1 | B48: ACME Film | C48: 2290155.5 | D48: 389932 | E48: 38 | F48: 26.993 | G48: 25.417
A49: =IF(B49<>"",ROWS($B$48:B49),"") -> 2 | B49: Nord Play | C49: 874110.89 | D49: 146815 | E49: 1 | F49: 10.303 | G49: 9.57
A50: =IF(B50<>"",ROWS($B$48:B50),"") -> 3 | B50: Garsų pasaulio įrašai | C50: 815366 | D50: 151700 | E50: 21 | F50: 9.61 | G50: 9.888
A51: =IF(B51<>"",ROWS($B$48:B51),"") -> 4 | B51: Theatrical Film Distribution / WDSMPI | C51: 701182.33 | D51: 135187 | E51: 6 | F51: 8.265 | G51: 8.812
A52: =IF(B52<>"",ROWS($B$48:B52),"") -> 5 | B52: ACME Film / SONY | C52: 647376.9 | D52: 110552 | E52: 10 | F52: 7.63 | G52: 7.206
A53: =IF(B53<>"",ROWS($B$48:B53),"") -> 6 | B53: ACME Film / WB | C53: 563626.52 | D53: 93092 | E53: 18 | F53: 6.643 | G53: 6.068
A54: =IF(B54<>"",ROWS($B$48:B54),"") -> 7 | B54: VLG Film | C54: 446898.25 | D54: 93109 | E54: 27 | F54: 5.267 | G54: 6.069
A55: =IF(B55<>"",ROWS($B$48:B55),"") -> 8 | B55: Theatrical Film Distribution | C55: 297907.59 | D55: 52955 | E55: 18 | F55: 3.511 | G55: 3.452
A56: =IF(B56<>"",ROWS($B$48:B56),"") -> 9 | B56: Theatrical Film Distribution / 20th Century Fox / WDSMPI | C56: 246064.34 | D56: 51053 | E56: 1 | F56: 2.9 | G56: 3.328
A57: =IF(B57<>"",ROWS($B$48:B57),"") -> 10 | B57: Dukine Film Distribution / Universal Pictures International | C57: 237832.41 | D57: 52117 | E57: 5 | F57: 2.803 | G57: 3.397
A58: =IF(B58<>"",ROWS($B$48:B58),"") -> 11 | B58: Singing fish | C58: 224601 | D58: 36186 | E58: 3 | F58: 2.647 | G58: 2.359
A59: =IF(B59<>"",ROWS($B$48:B59),"") -> 12 | B59: Theatrical Film Distribution / 20th Century Fox | C59: 197040.97 | D59: 33312 | E59: 6 | F59: 2.322 | G59: 2.171
... A84: =IF(B84<>"",ROWS($B$48:B84),"") -> 37 | B84: CineMark | C84: 647 | D84: 279 | E84: 1 | F84: 0.008 | G84: 0.018
A85: =IF(B85<>"",ROWS($B$48:B87),"") -> 40 | B85: VšĮ Sengirė | C85: 210 | D85: 69 | E85: 1 | F85: 0.002 | G85: 0.004
A86: =IF(B86<>"",ROWS($B$48:B86),"") -> 39 | B86: NCG Distribution / Paramount Pictures | C86: 122.34 | D86: 21 | E86: 1 | F86: 0.001 | G86: 0.001
A87: =IF(B87<>"",ROWS($B$48:B87),"") -> 40 | B87: Kino Pasaka | C87: 73 | D87: 18 | E87: 1 | F87: 0.001 | G87: 0.001
A88: Total | C88: =SUBTOTAL(109,Table18[Pajamos]) -> 8484162.7 | D88: =SUBTOTAL(109,Table18[Žiūrovų skaičius]) -> 1534128 | E88: =SUBTOTAL(109,Table18[Filmų skaičius]) -> 271 | F88: =SUBTOTAL(109,Table18[Pajamos %]) -> 99.997 | G88: =SUBTOTAL(109,Table18[Žiūrovų skaičius %]) -> 99.997
A91: LT TOP
A92: Eil. Nr. | B92: Filmo pavadinimas | C92: Pajamos | D92: Žiūrovų skaičius | E92: Premjeros data | F92: Platintojas
A93: 1 | B93: Tobulas pasimatymas | C93: 874110.89 | D93: 146815 | E93: 43833 | F93: Nord Play
A94: 2 | B94: Importinis jaunikis | C94: 698797.32 | D94: 115283 | E94: 43861 | F94: ACME Film
A95: 3 | B95: Vedybos, skyrybos ir barsukas | C95: 111208 | D95: 18068 | E95: 43889 | F95: Singing fish
A96: 4 | B96: Moterys meluoja geriau. Robertėlis: antroji banga | C96: 79039 | D96: 13576 | E96: 44127 | F96: Singing fish
A97: 5 | B97: Nova Lituania | C97: 61099.26 | D97: 11172 | E97: 44008 | F97: Čiobreliai (M-films)
A98: 6 | B98: Partizanas | C98: 52650.47 | D98: 10824 | E98: 43875 | F98: Cinema Ads
A99: 7 | B99: Pasmerkti. Pajūrio džiazas | C99: 34354 | D99: 4542 | E99: 43791 | F99: Singing fish
A100: 8 | B100: Pilis | C100: 20923 | D100: 4429 | E100: 44085 | F100: Artbox
A101: 9 | B101: Advokatas | C101: 17364 | D101: 3086 | E101: 44071 | F101: Naratyvas
A102: 10 | B102: El Padre Medico / Lietuvis Amazonės džiunglėse | C102: 12304.6 | D102: 2902 | E102: 43888 | F102: Filmuva

Sheet Platintojų pasiskirstymas
A1: Platintojas | B1: Filmo pavadinimas | C1: Pajamos | D1: Žiūrovų skaičius | E1: Premjeros data
A2: ACME Film | B2: Importinis jaunikis (Importinis jaunikis) | C2: 698797.32 | D2: 115283 | E2: 43861
B3: 1917 (1917) | C3: 456983.33 | D3: 75166 | E3: 43840
B4: Grenlandija: Išlikimas (Greenland) | C4: 227526.42 | D4: 37216 | E4: 44057
B5: Džentelmenai ((Toff Guys) Gentlemen (Gun head)) | C5: 209493.34 | D5: 35023 | E5: 43854
B6: Sapnų kūrėjai (Dreambuilders) | C6: 63817.13 | D6: 13747 | E6: 44113
B7: Šėtono vaikas II (Brahms: The Boy 2) | C7: 59027.04 | D7: 9641 | E7: 43889
B8: Antebellum: Išrinktoji (Antebellum) | C8: 57363.39 | D8: 9428 | E8: 44092
B9: Gauruoti šnipai (Spycies) | C9: 54209 | D9: 12509 | E9: 43861
B10: Idealus vyras ((НЕ)идеальный мужчина) | C10: 48130.53 | D10: 8193 | E10: 43854
B11: Invazija (Attraction 2 (Invasion)) | C11: 47110.81 | D11: 7653 | E11: 43833
B12: Skandalas (Untitled Charles Randolph Project (Bombshell)) | C12: 39837.73 | D12: 6980 | E12: 43847
B13: Ateik pažaisti (Come Play (Larry)) | C13: 37133.02 | D13: 6241 | E13: 44134
B14: Virsmas (Turning) | C14: 33246.99 | D14: 5450 | E14: 43861
... B39: Emilija iš Laisvės alėjos (Emilija iš Laisvės alėjos) | C39: 22 | D39: 11 | E39: 42790
A40: ACME Film Total | B40: =COUNTA(B2:B39) -> 38 | C40: 2290155.5 | D40: 389932
A41: Nord Play | B41: Tobulas pasimatymas (Tobulas pasimatymas) | C41: 874110.89 | D41: 146815 | E41: 43833
A42: Nord Play Total | B42: =COUNTA(B41) -> 1 | C42: 874110.89 | D42: 146815
A43: Garsų pasaulio įrašai | B43: After. Kai mes abejojom (After We Collided) | C43: 131018 | D43: 21604 | E43: 44085
B44: Tarnas (Холоп) | C44: 102100 | D44: 16319 | E44: 43826
B45: Augintiniai susivienija (Pets United) | C45: 91146 | D45: 20900 | E45: 43882
B46: Ledas 2 (Лёд 2) | C46: 67021 | D46: 10951 | E46: 43875
B47: Fiksiai prieš Krabius (Фиксики против кработов) | C47: 64871 | D47: 14678 | E47: 43854
B48: Kaponė (Capone) | C48: 61431 | D48: 9880 | E48: 44008
B49: Sek paskui mane (Follow me) | C49: 42016 | D49: 7095 | E49: 44036
B50: Gnomai sugrįžta (The Elfkin) | C50: 37931 | D50: 8770 | E50: 44029
B51: Kapitonas Kardadantis ir stebuklingas deimantas (Captain Sabertooth and the Magic Diamond) | C51: 36245 | D51: 8583 | E51: 44043
B52: Forpostas (The Outpost) | C52: 29347 | D52: 4747 | E52: 44036
B53: Viešbutis BELGRADAS (Отель «Белград») | C53: 26381 | D53: 4674 | E53: 44008
B54: Jaga. Tamsiojo miško košmaras (Яга. Кошмар тёмного леса) | C54: 25932 | D54: 4392 | E54: 44015
B55: Strelcovas (Стрельцов) | C55: 22202 | D55: 3875 | E55: 44099
... B63: Pūkuota šnipė (Marnie’s World) | C63: 463 | D63: 125 | E63: 43637
A64: Garsų pasaulio įrašai Total | B64: =COUNTA(B43:B63) -> 21 | C64: 815366 | D64: 151700
A65: Theatrical Film Distribution / WDSMPI | B65: Ledo šalis 2 (Frozen 2) | C65: 374172.23 | D65: 74840 | E65: 43824
B66: Pirmyn (Onward) | C66: 135898.79 | D66: 27975 | E66: 43896
B67: Protėvių šauksmas (The Call of The Wild) | C67: 84227.12 | D67: 14706 | E67: 43882
B68: Žvaigždžių karai. Skaivokerio iškilimas (Star Wars: The Rise of Skywalker) | C68: 61852.51 | D68: 10042 | E68: 43817
B69: Mulan (Mulan) | C69: 43847.42 | D69: 7378 | E69: 44085
B70: Liūtas karalius (The Lion King) | C70: 1184.26 | D70: 246 | E70: 43665
A71: Theatrical Film Distribution / WDSMPI Total | B71: =COUNTA(B65:B70) -> 6 | C71: 701182.33 | D71: 135187
A72: ACME Film / SONY | B72: Pašėlę vyrukai amžiams (Bad Boys for Life) | C72: 188864.7 | D72: 31654 | E72: 43847
B73: Košmarų sala (Fantasy Island) | C73: 127106.41 | D73: 22144 | E73: 43875
B74: Pagieža (2020) (Grudge (2020)) | C74: 120292.66 | D74: 19731 | E74: 43833
B75: Džiumandži: Kitas lygis (Jumanji: The Next level (Jumanji 2)) | C75: 102966.47 | D75: 16933 | E75: 43805
B76: Mažosios moterys (Little Women) | C76: 102062.98 | D76: 18545 | E76: 43854
B77: Raganų klubas: Palikimas (Craft Legacy) | C77: 2067.66 | D77: 328 | E77: 44141
B78: Piktieji paukščiai. Filmas 2 (The Angry Birds Movie 2) | C78: 1802.1 | D78: 843 | E78: 43700
B79: Bėgantis skustuvo ašmenimis 2049 (Blade Runner 2049) | C79: 1442.4 | D79: 238 | E79: 43014
B80: Vieną kartą Holivude (Once Upon a Time in Hollywood) | C80: 710.52 | D80: 124 | E80: 43693
B81: Žmogus voras: Į naują visatą (Spiderman into the Spiderverse) | C81: 61 | D81: 12 | E81: 43448
A82: ACME Film / SONY Total | B82: =COUNTA(B72:B81) -> 10 | C82: 647376.9 | D82: 110552
A83: ACME Film / WB | B83: Tenet (Tenet) | C83: 342134.83 | D83: 52938 | E83: 44071
B84: Plėšriosios paukštės ir fantastiškoji Harlė Kvin (Birds of Prey) | C84: 83374.67 | D84: 13715 | E84: 43868
B85: SKŪBIS DŪ! (Scoob!) | C85: 72743.9 | D85: 15088 | E85: 44092
B86: Pradžia (Jubiliejinis leidimas) (Inception (10th Anniversary re-release)) | C86: 23991.2 | D86: 3807 | E86: 44057
B87: Siekiant gailestingumo (Just Mercy) | C87: 18840.51 | D87: 3301 | E87: 43847
B88: Raganos (Witches) | C88: 14037.6 | D88: 2714 | E88: 44134
B89: Tarp žvaigždžių (Interstellar) | C89: 4586 | D89: 776 | E89: 41950
B90: Oazė: žaidimas prasideda (Ready Player One) | C90: 1769.3 | D90: 305 | E90: 43189
B91: Džokeris (Joker) | C91: 747.61 | D91: 130 | E91: 43742
B92: Gravitacija (Gravity 3D) | C92: 500 | D92: 87 | E92: 44002
B93: Diunkerkas (Dunkirk) | C93: 265.5 | D93: 59 | E93: 42937
B94: TAS: Antroji dalis (IT 2) | C94: 232.7 | D94: 36 | E94: 43714
B95: Lego filmas 2 (Lego Movie 2) | C95: 148 | D95: 75 | E95: 43504
... B100: Betmenas: pradžia (Batman Begins) | C100: 31.92 | D100: 12 | E100: 38520
A101: ACME Film / WB Total | B101: =COUNTA(B83:B100) -> 18 | C101: 563626.52 | D101: 93092
A102: VLG Film | B102: Didžiapėdžio vaikis 2 (Bigfoot family) | C102: 111024.07 | D102: 22462 | E102: 44106
B103: Arkties Komanda (Arctic Justice) | C103: 89552.48 | D103: 20790 | E103: 43875
B104: Palm Springs (Palm Springs) | C104: 35306.86 | D104: 6487 | E104: 44057
B105: Įtūžęs (Unhinged) | C105: 30413 | D105: 4851 | E105: 44043
B106: Lesė grįžta (Lassie Come Home) | C106: 24288.69 | D106: 5279 | E106: 44099
B107: Vikingas Vikas (Vic the Viking and the Magic Sword) | C107: 23903.77 | D107: 5614 | E107: 44015
B108: Nuostabi epocha (La Belle Epoque) | C108: 22604 | D108: 4251 | E108: 43805
B109: Kosminis Samsamas (Samsam) | C109: 19605.8 | D109: 4563 | E109: 44057
B110: Selma ir užburtas miestas (Dia de Muertos) | C110: 17814 | D110: 4042 | E110: 43847
B111: Tobula žmona (How to be a good wife) | C111: 12527.11 | D111: 2402 | E111: 44120
B112: Deivido Koperfildo istorija (Personal History of David Copperfield) | C112: 11892.82 | D112: 2199 | E112: 44092
B113: Agentė Ava (Ava) | C113: 10089.48 | D113: 2016 | E113: 44099
B114: QT8: Quentin Tarantino (QT8: Quentin Tarantino) | C114: 4855.9 | D114: 1026 | E114: 43896
... B128: Pavarotti (Pavarotti) | C128: 199 | D128: 32 | E128: 43672
A129: VLG Film Total | B129: =COUNTA(B102:B128) -> 27 | C129: 446898.25 | D129: 93109
A130: Theatrical Film Distribution | B130: Ypatingieji (The Specials) | C130: 129269.18 | D130: 22271 | E130: 43868
B131: Sąžiningas vagišius (Honest Thief) | C131: 35424.78 | D131: 5843 | E131: 44113
B132: Karas su seneliu (War With Grandpa) | C132: 35231.87 | D132: 6370 | E132: 44071
B133: Lizdas (The Nest) | C133: 17868.03 | D133: 2988 | E133: 44106
B134: Geriausi draugai (Ella Bella Bingo) | C134: 15190.9 | D134: 3764 | E134: 44050
B135: Švytinti tamsoje (Radioactive) | C135: 14672.83 | D135: 2891 | E135: 44099
B136: Pabaigos ir pradžios (Endings, Beginnings) | C136: 12021.58 | D136: 2078 | E136: 44113
B137: Uždraustoji zona (Запретная зона) | C137: 7721.97 | D137: 1308 | E137: 44050
B138: Kelionė į Graikiją (Trip To Greece) | C138: 5303.75 | D138: 956 | E138: 44029
B139: Karo šmėklos (Ghosts of War) | C139: 4922.9 | D139: 848 | E139: 44057
B140: Juodasis strazdas (Blackbird) | C140: 4849.86 | D140: 920 | E140: 44127
B141: Aš vis dar čia (#IAmHere) | C141: 3410.98 | D141: 593 | E141: 44015
B142: Labai moteriškos istorijos (Очень женские истории) | C142: 3051.6 | D142: 445 | E142: 43903
... B147: Laisvo elgesio tėvai (Drunk Parents) | C147: 36 | D147: 12 | E147: 43532
A148: Theatrical Film Distribution Total | B148: =COUNTA(B130:B147) -> 18 | C148: 297907.59 | D148: 52955
A149: Theatrical Film Distribution / 20th Century Fox / WDSMPI | B149: Užsimaskavę šnipai (Spies In Disguise) | C149: 246064.34 | D149: 51053 | E149: 43840
A150: Theatrical Film Distribution / 20th Century Fox / WDSMPI Total | B150: =COUNTA(B149) -> 1 | C150: 246064.34 | D150: 51053
A151: Dukine Film Distribution / Universal Pictures International | B151: Troliai 2 (Trolls World Tour) | C151: 229279.91 | D151: 48973 | E151: 44078
B152: Bjaurusis aš 3 (Despicable Me 3) | C152: 6232 | D152: 2018 | E152: 42916
...

Sheet 2020
A1: 2020
A2: Lietuvos kino teatruose rodytų filmų TOP
A5: Eil. Nr. | B5: Filmo pavadinimas | C5: Filmo pavadinimas originalo kalba | D5: Kilmės šalis | E5: Pajamos | F5: Žiūrovų skaičius | G5: Kopijų skaičius | H5: Premjeros data | I5: Platintojas
A6: =IF(B6<>"",ROWS($B$6:B6),"") -> 1 | B6: Tobulas pasimatymas | C6: Tobulas pasimatymas | D6: LT | E6: 874110.89 | F6: 146815 | G6: 16 | H6: 43833 | I6: Nord Play
A7: =IF(B7<>"",ROWS($B$6:B7),"") -> 2 | B7: Importinis jaunikis | C7: Importinis jaunikis | D7: LT | E7: 698797.32 | F7: 115283 | G7: 18 | H7: 43861 | I7: ACME Film
A8: =IF(B8<>"",ROWS($B$6:B8),"") -> 3 | B8: 1917 | C8: 1917 | D8: US, UK | E8: 456983.33 | F8: 75166 | G8: 19 | H8: 43840 | I8: ACME Film
A9: =IF(B9<>"",ROWS($B$6:B9),"") -> 4 | B9: Ledo šalis 2 | C9: Frozen 2 | D9: US | E9: 374172.23 | F9: 74840 | G9: 31 | H9: 43824 | I9: Theatrical Film Distribution / WDSMPI
A10: =IF(B10<>"",ROWS($B$6:B10),"") -> 5 | B10: Tenet | C10: Tenet | D10: US, UK | E10: 342134.83 | F10: 52938 | G10: 16 | H10: 44071 | I10: ACME Film / WB
A11: =IF(B11<>"",ROWS($B$6:B11),"") -> 6 | B11: Užsimaskavę šnipai | C11: Spies In Disguise | D11: US | E11: 246064.34 | F11: 51053 | G11: 27 | H11: 43840 | I11: Theatrical Film Distribution / WDSMPI
A12: =IF(B12<>"",ROWS($B$6:B12),"") -> 7 | B12: Troliai 2 | C12: Trolls World Tour | D12: US | E12: 229279.91 | F12: 48973 | G12: 18 | H12: 44078 | I12: Dukine Film Distribution / Universal Pictures International
A13: =IF(B13<>"",ROWS($B$6:B13),"") -> 8 | B13: Grenlandija: Išlikimas | C13: Greenland | D13: US | E13: 227526.42 | F13: 37216 | G13: 14 | H13: 44057 | I13: ACME Film
A14: =IF(B14<>"",ROWS($B$6:B14),"") -> 9 | B14: Džentelmenai | C14: (Toff Guys) Gentlemen (Gun head) | D14: US | E14: 209493.34 | F14: 35023 | G14: 14 | H14: 43854 | I14: ACME Film
A15: =IF(B15<>"",ROWS($B$6:B15),"") -> 10 | B15: Pašėlę vyrukai amžiams | C15: Bad Boys for Life | D15: US | E15: 188864.7 | F15: 31654 | G15: 14 | H15: 43847 | I15: ACME Film / SONY
A16: =IF(B16<>"",ROWS($B$6:B16),"") -> 11 | B16: Daktaras Dolitlis | C16: Dolittle | D16: US | E16: 142741.29 | F16: 28095 | G16: 17 | H16: 43847 | I16: NCG Distribution / Dukine Film Distribution / Universal Pictures International
A17: =IF(B17<>"",ROWS($B$6:B17),"") -> 12 | B17: Pirmyn | C17: Onward | D17: US | E17: 135898.79 | F17: 27975 | G17: 27 | H17: 43896 | I17: Theatrical Film Distribution / WDSMPI
A18: =IF(B18<>"",ROWS($B$6:B18),"") -> 13 | B18: After. Kai mes abejojom | C18: After We Collided | D18: US | E18: 131018 | F18: 21604 | G18: 14 | H18: 44085 | I18: Garsų pasaulio įrašai
A19: =IF(B19<>"",ROWS($B$6:B19),"") -> 14 | B19: Ypatingieji | C19: The Specials | D19: FR | E19: 129269.18 | F19: 22271 | G19: 17 | H19: 43868 | I19: Theatrical Film Distribution
A20: =IF(B20<>"",ROWS($B$6:B20),"") -> 15 | B20: Košmarų sala | C20: Fantasy Island | D20: US | E20: 127106.41 | F20: 22144 | G20: 14 | H20: 43875 | I20: ACME Film / SONY
A21: =IF(B21<>"",ROWS($B$6:B21),"") -> 16 | B21: Pagieža | C21: Grudge 2020 | D21: US, CA | E21: 120292.66 | F21: 19731 | G21: 14 | H21: 43833 | I21: ACME Film / SONY
A22: =IF(B22<>"",ROWS($B$6:B22),"") -> 17 | B22: Vedybos, skyrybos ir barsukas | C22: Vedybos, skyrybos ir barsukas | D22: LT | E22: 111208 | F22: 18068 | G22: 19 | H22: 43889 | I22: Singing fish
A23: =IF(B23<>"",ROWS($B$6:B23),"") -> 18 | B23: Didžiapėdžio vaikis 2 | C23: Bigfoot family | D23: BE, FR | E23: 111024.07 | F23: 22462 | G23: 14 | H23: 44106 | I23: VLG Film
A24: =IF(B24<>"",ROWS($B$6:B24),"") -> 19 | B24: Džiumandži: Kitas lygis | C24: Jumanji: The Next level (Jumanji 2) | D24: US | E24: 102966.47 | F24: 16933 | G24: 8 | H24: 43805 | I24: ACME Film / SONY
A25: =IF(B25<>"",ROWS($B$6:B25),"") -> 20 | B25: Tarnas | C25: Холоп | D25: RU | E25: 102100 | F25: 16319 | G25: 7 | H25: 43826 | I25: Garsų pasaulio įrašai
A26: =IF(B26<>"",ROWS($B$6:B26),"") -> 21 | B26: Mažosios moterys | C26: Little Women | D26: US | E26: 102062.98 | F26: 18545 | G26: 16 | H26: 43854 | I26: ACME Film / SONY
A27: =IF(B27<>"",ROWS($B$6:B27),"") -> 22 | B27: Zuikis Džodžo | C27: Jojo Rabbit | D27: CZ, NZ | E27: 100439.7 | F27: 17204 | G27: 16 | H27: 43840 | I27: Theatrical Film Distribution / 20th Century Fox
A28: =IF(B28<>"",ROWS($B$6:B28),"") -> 23 | B28: Augintiniai susivienija | C28: Pets United | D28: UK, CN, DE | E28: 91146 | F28: 20900 | G28: 17 | H28: 43882 | I28: Garsų pasaulio įrašai
A29: =IF(B29<>"",ROWS($B$6:B29),"") -> 24 | B29: Arkties Komanda | C29: Arctic Justice | D29: UK, KR, IN | E29: 89552.48 | F29: 20790 | G29: 21 | H29: 43875 | I29: VLG Film
A30: =IF(B30<>"",ROWS($B$6:B30),"") -> 25 | B30: Ežiukas Sonic | C30: Sonic The Hedgehog | D30: US, JP, CA | E30: 87054.28 | F30: 18280 | G30: 14 | H30: 44008 | I30: Dukine Film Distribution / Paramount Pictures
A31: =IF(B31<>"",ROWS($B$6:B31),"") -> 26 | B31: Protėvių šauksmas | C31: The Call of The Wild | D31: US, CA | E31: 84227.12 | F31: 14706 | G31: 16 | H31: 43882 | I31: Theatrical Film Distribution / WDSMPI
A32: =IF(B32<>"",ROWS($B$6:B32),"") -> 27 | B32: Plėšriosios paukštės ir fantastiškoji Harlė Kvin | C32: Birds of Prey | D32: US | E32: 83374.67 | F32: 13715 | G32: 15 | H32: 43868 | I32: ACME Film / WB
A33: =IF(B33<>"",ROWS($B$6:B33),"") -> 28 | B33: Moterys meluoja geriau. Robertėlis: antroji banga | C33: Moterys meluoja geriau. Robertėlis: antroji banga | D33: LT | E33: 79039 | F33: 13576 | G33: 18 | H33: 44127 | I33: Singing fish
A34: =IF(B34<>"",ROWS($B$6:B34),"") -> 29 | B34: SKŪBIS DŪ! | C34: Scoob! | D34: US | E34: 72743.9 | F34: 15088 | G34: 15 | H34: 44092 | I34: ACME Film / WB
A35: =IF(B35<>"",ROWS($B$6:B35),"") -> 30 | B35: Ledas 2 | C35: Лёд 2 | D35: RU | E35: 67021 | F35: 10951 | G35: 10 | H35: 43875 | I35: Garsų pasaulio įrašai
A36: =IF(B36<>"",ROWS($B$6:B36),"") -> 31 | B36: Fiksiai prieš Krabius | C36: Фиксики против кработов | D36: RU | E36: 64871 | F36: 14678 | G36: 15 | H36: 43854 | I36: Garsų pasaulio įrašai
A37: =IF(B37<>"",ROWS($B$6:B37),"") -> 32 | B37: Sapnų kūrėjai | C37: Dreambuilders | D37: DK | E37: 63817.13 | F37: 13747 | G37: 16 | H37: 44113 | I37: ACME Film
A38: =IF(B38<>"",ROWS($B$6:B38),"") -> 33 | B38: Žvaigždžių karai. Skaivokerio iškilimas | C38: Star Wars: The Rise of Skywalker | D38: US | E38: 61852.51 | F38: 10042 | G38: 20 | H38: 43817 | I38: Theatrical Film Distribution / WDSMPI
A39: =IF(B39<>"",ROWS($B$6:B39),"") -> 34 | B39: Kaponė | C39: Capone | D39: US | E39: 61431 | F39: 9880 | G39: 12 | H39: 44008 | I39: Garsų pasaulio įrašai
A40: =IF(B40<>"",ROWS($B$6:B40),"") -> 35 | B40: Nova Lituania | C40: Nova Lituania | D40: LT | E40: 61099.26 | F40: 11172 | G40: 18 | H40: 44008 | I40: Čiobreliai (M-films)
A41: =IF(B41<>"",ROWS($B$6:B41),"") -> 36 | B41: Šėtono vaikas II | C41: Brahms: The Boy 2 | D41: US | E41: 59027.04 | F41: 9641 | G41: 13 | H41: 43889 | I41: ACME Film
A42: =IF(B42<>"",ROWS($B$6:B42),"") -> 37 | B42: Antebellum: Išrinktoji | C42: Antebellum | D42: US | E42: 57363.39 | F42: 9428 | G42: 13 | H42: 44092 | I42: ACME Film
A43: =IF(B43<>"",ROWS($B$6:B43),"") -> 38 | B43: Gauruoti šnipai | C43: Spycies | D43: CN, FR | E43: 54209 | F43: 12509 | G43: 16 | H43: 43861 | I43: ACME Film
A44: =IF(B44<>"",ROWS($B$6:B44),"") -> 39 | B44: Po vandeniu | C44: Underwater | D44: US | E44: 53174.37 | F44: 8736 | G44: 11 | H44: 43861 | I44: Theatrical Film Distribution / 20th Century Fox
A45: =IF(B45<>"",ROWS($B$6:B45),"") -> 40 | B45: Nematomas žmogus | C45: The Invisible Man | D45: US | E45: 53016.98 | F45: 8812 | G45: 13 | H45: 43896 | I45: NCG Distribution / Dukine Film Distribution / Universal Pictures International
A46: =IF(B46<>"",ROWS($B$6:B46),"") -> 41 | B46: Partizanas | C46: Partizanas | D46: LT | E46: 52650.47 | F46: 10824 | G46: 12 | H46: 43875 | I46: Cinema Ads
A47: =IF(B47<>"",ROWS($B$6:B47),"") -> 42 | B47: Idealus vyras | C47: (НЕ)идеальный мужчина | D47: RU | E47: 48130.53 | F47: 8193 | G47: 6 | H47: 43854 | I47: ACME Film
A48: =IF(B48<>"",ROWS($B$6:B48),"") -> 43 | B48: Invazija | C48: Attraction 2 (Invasion) | D48: RU | E48: 47110.81 | F48: 7653 | G48: 6 | H48: 43833 | I48: ACME Film
A49: =IF(B49<>"",ROWS($B$6:B49),"") -> 44 | B49: Mulan | C49: Mulan | D49: US, CA, HK | E49: 43847.42 | F49: 7378 | G49: 16 | H49: 44085 | I49: Theatrical Film Distribution / WDSMPI
A50: =IF(B50<>"",ROWS($B$6:B50),"") -> 45 | B50: Klara ir stebuklingasis drakonas | C50: Clara | D50: UA | E50: 42270.62 | F50: 9697 | G50: 17 | H50: 43868 | I50: Travolta
A51: =IF(B51<>"",ROWS($B$6:B51),"") -> 46 | B51: Sek paskui mane | C51: Follow me | D51: US | E51: 42016 | F51: 7095 | G51: 15 | H51: 44036 | I51: Garsų pasaulio įrašai
A52: =IF(B52<>"",ROWS($B$6:B52),"") -> 47 | B52: Skandalas | C52: Untitled Charles Randolph Project (Bombshell) | D52: US | E52: 39837.73 | F52: 6980 | G52: 12 | H52: 43847 | I52: ACME Film
A53: =IF(B53<>"",ROWS($B$6:B53),"") -> 48 | B53: Gnomai sugrįžta | C53: The Elfkin | D53: DE | E53: 37931 | F53: 8770 | G53: 15 | H53: 44029 | I53: Garsų pasaulio įrašai
A54: =IF(B54<>"",ROWS($B$6:B54),"") -> 49 | B54: Ateik pažaisti | C54: Come Play (Larry) | D54: US | E54: 37133.02 | F54: 6241 | G54: 15 | H54: 44134 | I54: ACME Film
A55: =IF(B55<>"",ROWS($B$6:B55),"") -> 50 | B55: Kapitonas Kardadantis ir stebuklingas deimantas | C55: Captain Sabertooth and the Magic Diamond | D55: NO | E55: 36245 | F55: 8583 | G55: 16 | H55: 44043 | I55: Garsų pasaulio įrašai
A56: =IF(B56<>"",ROWS($B$6:B56),"") -> 51 | B56: Sąžiningas vagišius | C56: Honest Thief | D56: US | E56: 35424.78 | F56: 5843 | G56: 13 | H56: 44113 | I56: Theatrical Film Distribution
A57: =IF(B57<>"",ROWS($B$6:B57),"") -> 52 | B57: Palm Springs | C57: Palm Springs | D57: US | E57: 35306.86 | F57: 6487 | G57: 14 | H57: 44057 | I57: VLG Film
A58: =IF(B58<>"",ROWS($B$6:B58),"") -> 53 | B58: Karas su seneliu | C58: War With Grandpa | D58: US | E58: 35231.87 | F58: 6370 | G58: 11 | H58: 44071 | I58: Theatrical Film Distribution
A59: =IF(B59<>"",ROWS($B$6:B59),"") -> 54 | B59: Pasmerkti. Pajūrio džiazas | C59: Pasmerkti. Pajūrio džiazas | D59: LT | E59: 34354 | F59: 4542 | G59: 6 | H59: 43791 | I59: Singing fish
A60: =IF(B60<>"",ROWS($B$6:B60),"") -> 55 | B60: Virsmas | C60: Turning | D60: US | E60: 33246.99 | F60: 5450 | G60: 11 | H60: 43861 | I60: ACME Film
A61: =IF(B61<>"",ROWS($B$6:B61),"") -> 56 | B61: Baltų gentys. Paskutinieji Europos pagonys | C61: Baltic Tribes. The Last Pagans of Europe | D61: LV | E61: 32943.87 | F61: 6193 | G61: 12 | H61: 43882 | I61: Film Jam
A62: =IF(B62<>"",ROWS($B$6:B62),"") -> 57 | B62: Paslaptingas sodas | C62: Secret Garden | D62: UK, FR | E62: 32119.29 | F62: 7096 | G62: 14 | H62: 44064 | I62: ACME Film
A63: =IF(B63<>"",ROWS($B$6:B63),"") -> 58 | B63: Įtūžęs | C63: Unhinged | D63: US | E63: 30413 | F63: 4851 | G63: 16 | H63: 44043 | I63: VLG Film
A64: =IF(B64<>"",ROWS($B$6:B64),"") -> 59 | B64: Dingęs princas | C64: Le prince oublié | D64: FR, BE | E64: 29531.37 | F64: 6286 | G64: 16 | H64: 44022 | I64: ACME Film
A65: =IF(B65<>"",ROWS($B$6:B65),"") -> 60 | B65: Forpostas | C65: The Outpost | D65: BG,US | E65: 29347 | F65: 4747 | G65: 13 | H65: 44036 | I65: Garsų pasaulio įrašai
A66: =IF(B66<>"",ROWS($B$6:B66),"") -> 61 | B66: Adamsų šeimynėlė | C66: The Addams Family | D66: US | E66: 28621.66 | F66: 4722 | G66: 7 | H66: 43798 | I66: NCG Distribution / Universal Pictures International
A67: =IF(B67<>"",ROWS($B$6:B67),"") -> 62 | B67: Viešbutis BELGRADAS | C67: Отель «Белград» | D67: RU | E67: 26381 | F67: 4674 | G67: 11 | H67: 44008 | I67: Garsų pasaulio įrašai
A68: =IF(B68<>"",ROWS($B$6:B68),"") -> 63 | B68: Jonukas ir Grytutė. Siaubo pasaka | C68: Gretel & Hansel | D68: US, IE, CA | E68: 26213.8 | F68: 4529 | G68: 10 | H68: 43868 | I68: Travolta
A69: =IF(B69<>"",ROWS($B$6:B69),"") -> 64 | B69: Jaga. Tamsiojo miško košmaras | C69: Яга. Кошмар тёмного леса | D69: RU | E69: 25932 | F69: 4392 | G69: 15 | H69: 44015 | I69: Garsų pasaulio įrašai
A70: =IF(B70<>"",ROWS($B$6:B70),"") -> 65 | B70: Audros vaikas | C70: Storm boy | D70: AU | E70: 25060.19 | F70: 5394 | G70: 15 | H70: 44036 | I70: Best Film
A71: =IF(B71<>"",ROWS($B$6:B71),"") -> 66 | B71: Mirtina nuoma | C71: Rental | D71: US | E71: 24401.65 | F71: 4148 | G71: 14 | H71: 44043 | I71: ACME Film
A72: =IF(B72<>"",ROWS($B$6:B72),"") -> 67 | B72: Lesė grįžta | C72: Lassie Come Home | D72: DE | E72: 24288.69 | F72: 5279 | G72: 15 | H72: 44099 | I72: VLG Film
A73: =IF(B73<>"",ROWS($B$6:B73),"") -> 68 | B73: Pradžia (Jubiliejinis leidimas) | C73: Inception (10th Anniversary re-release) | D73: US, UK | E73: 23991.2 | F73: 3807 | G73: 11 | H73: 44057 | I73: ACME Film / WB
A74: =IF(B74<>"",ROWS($B$6:B74),"") -> 69 | B74: Vikingas Vikas | C74: Vic the Viking and the Magic Sword | D74: FR | E74: 23903.77 | F74: 5614 | G74: 16 | H74: 44015 | I74: VLG Film
A75: =IF(B75<>"",ROWS($B$6:B75),"") -> 70 | B75: Ištraukti peiliai | C75: Knives Out | D75: US | E75: 23389.5 | F75: 3719 | G75: 4 | H75: 43798 | I75: ACME Film
A76: =IF(B76<>"",ROWS($B$6:B76),"") -> 71 | B76: Nuostabi epocha | C76: La Belle Epoque | D76: FR | E76: 22604 | F76: 4251 | G76: 3 | H76: 43805 | I76: VLG Film
A77: =IF(B77<>"",ROWS($B$6:B77),"") -> 72 | B77: Strelcovas | C77: Стрельцов | D77: RU | E77: 22202 | F77: 3875 | G77: 6 | H77: 44099 | I77: Garsų pasaulio įrašai
A78: =IF(B78<>"",ROWS($B$6:B78),"") -> 73 | B78: Mano dukrai Samai | C78: For Sama | D78: UK, SY | E78: 22074.24 | F78: 4896 | G78: 18 | H78: 43840 | I78: Greta Garbo Films
A79: =IF(B79<>"",ROWS($B$6:B79),"") -> 74 | B79: Koma | C79: Кома | D79: RU | E79: 21627 | F79: 3725 | G79: 9 | H79: 43861 | I79: Garsų pasaulio įrašai
A80: =IF(B80<>"",ROWS($B$6:B80),"") -> 75 | B80: Traukinys į Busaną 2: Pusiasalis | C80: Train to Busan 2: Peninsula | D80: KR | E80: 20982.7 | F80: 3646 | G80: 13 | H80: 44057 | I80: Best Film
A81: =IF(B81<>"",ROWS($B$6:B81),"") -> 76 | B81: Pilis | C81: Pilis | D81: LT | E81: 20923 | F81: 4429 | G81: 19 | H81: 44085 | I81: Artbox
A82: =IF(B82<>"",ROWS($B$6:B82),"") -> 77 | B82: Antroji aš | C82: Celle que vous croyez | D82: FR, BE | E82: 20449.83 | F82: 4263 | G82: 12 | H82: 43833 | I82: Europos kinas
A83: =IF(B83<>"",ROWS($B$6:B83),"") -> 78 | B83: Paslaptis: Išdrįsk svajoti | C83: Secret: Dare to Dream | D83: US | E83: 20372.26 | F83: 3428 | G83: 12 | H83: 44078 | I83: ACME Film
A84: =IF(B84<>"",ROWS($B$6:B84),"") -> 79 | B84: Kubos voratinklis | C84: Wasp Network | D84: FR, ES, BE | E84: 20103.7 | F84: 3313 | G84: 12 | H84: 43896 | I84: ACME Film
A85: =IF(B85<>"",ROWS($B$6:B85),"") -> 80 | B85: Kosminis Samsamas | C85: Samsam | D85: FR | E85: 19605.8 | F85: 4563 | G85: 15 | H85: 44057 | I85: VLG Film
A86: =IF(B86<>"",ROWS($B$6:B86),"") -> 81 | B86: Siekiant gailestingumo | C86: Just Mercy | D86: US | E86: 18840.51 | F86: 3301 | G86: 10 | H86: 43847 | I86: ACME Film / WB
A87: =IF(B87<>"",ROWS($B$6:B87),"") -> 82 | B87: Naujieji mutantai | C87: New Mutants | D87: US | E87: 18458 | F87: 3119 | G87: 14 | H87: 44078 | I87: Theatrical Film Distribution / 20th Century Fox
A88: =IF(B88<>"",ROWS($B$6:B88),"") -> 83 | B88: Lizdas | C88: The Nest | D88: CA, UK | E88: 17868.03 | F88: 2988 | G88: 14 | H88: 44106 | I88: Theatrical Film Distribution
A89: =IF(B89<>"",ROWS($B$6:B89),"") -> 84 | B89: Lavina | C89: Downhill | D89: US | E89: 17857.69 | F89: 3116 | G89: 15 | H89: 43875 | I89: Theatrical Film Distribution / 20th Century Fox
A90: =IF(B90<>"",ROWS($B$6:B90),"") -> 85 | B90: Selma ir užburtas miestas | C90: Dia de Muertos | D90: MX | E90: 17814 | F90: 4042 | G90: 15 | H90: 43847 | I90: VLG Film
A91: =IF(B91<>"",ROWS($B$6:B91),"") -> 86 | B91: Atsiminimai iš Italijos | C91: Made in Italy | D91: IT, UK | E91: 17759.43 | F91: 3281 | G91: 12 | H91: 44099 | I91: ACME Film
A92: =IF(B92<>"",ROWS($B$6:B92),"") -> 87 | B92: Amžinybė tarp mūsų | C92: Endless | D92: US | E92: 17441.29 | F92: 3010 | G92: 16 | H92: 44120 | I92: Best Film
A93: =IF(B93<>"",ROWS($B$6:B93),"") -> 88 | B93: Advokatas | C93: Advokatas | D93: LT | E93: 17364 | F93: 3086 | G93: 18 | H93: 44071 | I93: Naratyvas
A94: =IF(B94<>"",ROWS($B$6:B94),"") -> 89 | B94: Meile tikiu | C94: I still believe | D94: US | E94: 17034.69 | F94: 3329 | G94: 12 | H94: 44008 | I94: ACME Film
A95: =IF(B95<>"",ROWS($B$6:B95),"") -> 90 | B95: Nuosavas šnipas | C95: My Spy | D95: US | E95: 16759.96 | F95: 3193 | G95: 13 | H95: 44050 | I95: ACME Film
A96: =IF(B96<>"",ROWS($B$6:B96),"") -> 91 | B96: Reivas | C96: Beats | D96: UK | E96: 16579.83 | F96: 2911 | G96: 14 | H96: 44022 | I96: Best Film
A97: =IF(B97<>"",ROWS($B$6:B97),"") -> 92 | B97: Užgaidų maratonas | C97: Марафон желаний | D97: RU | E97: 16397 | F97: 2623 | G97: 5 | H97: 43868 | I97: ACME Film
A98: =IF(B98<>"",ROWS($B$6:B98),"") -> 93 | B98: Geriausi draugai | C98: Ella Bella Bingo | D98: NO | E98: 15190.9 | F98: 3764 | G98: 15 | H98: 44050 | I98: Theatrical Film Distribution
A99: =IF(B99<>"",ROWS($B$6:B99),"") -> 94 | B99: Ginklai Akimbo | C99: Guns Akimbo | D99: UK, DE, NZ | E99: 14780.65 | F99: 2413 | G99: 6 | H99: 43896 | I99: Travolta
A100: =IF(B100<>"",ROWS($B$6:B100),"") -> 95 | B100: Švytinti tamsoje | C100: Radioactive | D100: UK, HU, CN, FR, US | E100: 14672.83 | F100: 2891 | G100: 14 | H100: 44099 | I100: Theatrical Film Distribution
A101: =IF(B101<>"",ROWS($B$6:B101),"") -> 96 | B101: Emma | C101: Emma | D101: UK | E101: 14493.69 | F101: 2526 | G101: 13 | H101: 43889 | I101: NCG Distribution / Universal Pictures International
A102: =IF(B102<>"",ROWS($B$6:B102),"") -> 97 | B102: Raganos | C102: Witches | D102: US | E102: 14037.6 | F102: 2714 | G102: 13 | H102: 44134 | I102: ACME Film / WB
...

Sheet Sausis
A1: ='2020'!A1 -> 2020
A2: ='2020'!A2 -> Lietuvos kino teatruose rodytų filmų TOP
A3: Sausis
A5: Eil. Nr. | B5: Filmo pavadinimas | C5: Filmo pavadinimas originalo kalba | D5: Kilmės šalis | E5: Pajamos | F5: Žiūrovų skaičius | G5: Kopijų skaičius | H5: Premjeros data | I5: Platintojas
A6: =IF(B6<>"",ROWS($B$6:B6),"") -> 1 | B6: Tobulas pasimatymas | C6: Tobulas pasimatymas | D6: LT | E6: 818001.93 | F6: 137195 | G6: 16 | H6: 43833 | I6: Nord Play
A7: =IF(B7<>"",ROWS($B$6:B7),"") -> 2 | B7: 1917 | C7: 1917 | D7: US, UK | E7: 347476.67 | F7: 56999 | G7: 19 | H7: 43840 | I7: ACME Film
A8: =IF(B8<>"",ROWS($B$6:B8),"") -> 3 | B8: Ledo šalis 2 | C8: Frozen 2 | D8: US | E8: 344956.68 | F8: 68819 | G8: 31 | H8: 43824 | I8: Theatrical Film Distribution / WDSMPI
A9: =IF(B9<>"",ROWS($B$6:B9),"") -> 4 | B9: Užsimaskavę šnipai | C9: Spies In Disguise | D9: US | E9: 165109.57 | F9: 34003 | G9: 27 | H9: 43840 | I9: Theatrical Film Distribution / WDSMPI
A10: =IF(B10<>"",ROWS($B$6:B10),"") -> 5 | B10: Pašėlę vyrukai amžiams | C10: Bad Boys for Life | D10: US | E10: 142477.25 | F10: 24088 | G10: 14 | H10: 43847 | I10: ACME Film / SONY
A11: =IF(B11<>"",ROWS($B$6:B11),"") -> 6 | B11: Pagieža | C11: Grudge 2020 | D11: US, CA | E11: 120292.66 | F11: 19731 | G11: 14 | H11: 43833 | I11: ACME Film / SONY
A12: =IF(B12<>"",ROWS($B$6:B12),"") -> 7 | B12: Džiumandži: Kitas lygis | C12: Jumanji: The Next level (Jumanji 2) | D12: US | E12: 100572.74 | F12: 16513 | G12: 8 | H12: 43805 | I12: ACME Film / SONY
A13: =IF(B13<>"",ROWS($B$6:B13),"") -> 8 | B13: Daktaras Dolitlis | C13: Dolittle | D13: US | E13: 96958.45 | F13: 18903 | G13: 17 | H13: 43847 | I13: NCG Distribution / Universal Pictures International
A14: =IF(B14<>"",ROWS($B$6:B14),"") -> 9 | B14: Tarnas | C14: Холоп | D14: RU | E14: 95760 | F14: 15354 | G14: 7 | H14: 43826 | I14: Garsų pasaulio įrašai
A15: =IF(B15<>"",ROWS($B$6:B15),"") -> 10 | B15: Zuikis Džodžo | C15: Jojo Rabbit | D15: CZ, NZ | E15: 76290.13 | F15: 13228 | G15: 16 | H15: 43840 | I15: Theatrical Film Distribution / 20th Century Fox
A16: =IF(B16<>"",ROWS($B$6:B16),"") -> 11 | B16: Džentelmenai | C16: (Toff Guys) Gentlemen (Gun head) | D16: US | E16: 69723.56 | F16: 12136 | G16: 14 | H16: 43854 | I16: ACME Film
A17: =IF(B17<>"",ROWS($B$6:B17),"") -> 12 | B17: Importinis jaunikis | C17: Importinis jaunikis | D17: LT | E17: 64297.39 | F17: 10342 | G17: 18 | H17: 43861 | I17: ACME Film
A18: =IF(B18<>"",ROWS($B$6:B18),"") -> 13 | B18: Žvaigždžių karai. Skaivokerio iškilimas | C18: Star Wars: The Rise of Skywalker | D18: US | E18: 61852.51 | F18: 10042 | G18: 20 | H18: 43817 | I18: Theatrical Film Distribution / WDSMPI
A19: =IF(B19<>"",ROWS($B$6:B19),"") -> 14 | B19: Invazija | C19: Attraction 2 (Invasion) | D19: RU | E19: 47110.81 | F19: 7653 | G19: 6 | H19: 43833 | I19: ACME Film
A20: =IF(B20<>"",ROWS($B$6:B20),"") -> 15 | B20: Mažosios moterys | C20: Little Women | D20: US | E20: 46697.93 | F20: 8680 | G20: 16 | H20: 43854 | I20: ACME Film / SONY
A21: =IF(B21<>"",ROWS($B$6:B21),"") -> 16 | B21: Skandalas | C21: Untitled Charles Randolph Project (Bombshell) | D21: US | E21: 38262.26 | F21: 6711 | G21: 12 | H21: 43847 | I21: ACME Film
A22: =IF(B22<>"",ROWS($B$6:B22),"") -> 17 | B22: Pasmerkti. Pajūrio džiazas | C22: Pasmerkti. Pajūrio džiazas | D22: LT | E22: 34354 | F22: 4542 | G22: 6 | H22: 43791 | I22: Singing fish
A23: =IF(B23<>"",ROWS($B$6:B23),"") -> 18 | B23: Idealus vyras | C23: (НЕ)идеальный мужчина | D23: RU | E23: 32936.81 | F23: 5759 | G23: 6 | H23: 43854 | I23: ACME Film
A24: =IF(B24<>"",ROWS($B$6:B24),"") -> 19 | B24: Adamsų šeimynėlė | C24: The Addams Family | D24: US | E24: 28621.66 | F24: 4722 | G24: 7 | H24: 43798 | I24: NCG Distribution / Universal Pictures International
A25: =IF(B25<>"",ROWS($B$6:B25),"") -> 20 | B25: Fiksiai prieš Krabius | C25: Фиксики против кработов | D25: RU | E25: 26588 | F25: 6094 | G25: 15 | H25: 43854 | I25: Garsų pasaulio įrašai
A26: =IF(B26<>"",ROWS($B$6:B26),"") -> 21 | B26: Ištraukti peiliai | C26: Knives Out | D26: US | E26: 23190.6 | F26: 3685 | G26: 4 | H26: 43798 | I26: ACME Film
A27: =IF(B27<>"",ROWS($B$6:B27),"") -> 22 | B27: Antroji aš | C27: Celle que vous croyez | D27: FR, BE | E27: 19487 | F27: 3984 | G27: 12 | H27: 43833 | I27: Europos kinas
A28: =IF(B28<>"",ROWS($B$6:B28),"") -> 23 | B28: Siekiant gailestingumo | C28: Just Mercy | D28: US | E28: 18792.51 | F28: 3293 | G28: 10 | H28: 43847 | I28: ACME Film / WB
A29: =IF(B29<>"",ROWS($B$6:B29),"") -> 24 | B29: Selma ir užburtas miestas | C29: Dia de Muertos | D29: MX | E29: 16787 | F29: 3761 | G29: 15 | H29: 43847 | I29: VLG Film
A30: =IF(B30<>"",ROWS($B$6:B30),"") -> 25 | B30: Mano dukrai Samai | C30: For Sama | D30: UK, SY | E30: 16428.62 | F30: 3674 | G30: 18 | H30: 43840 | I30: Greta Garbo Films
A31: =IF(B31<>"",ROWS($B$6:B31),"") -> 26 | B31: Pašėlęs policininkas: Naujametinis nesusipratimas 2 | C31: Полицейский с Рублевки. Новогодний беспредел 2 | D31: RU | E31: 13909.19 | F31: 2179 | G31: 3 | H31: 43812 | I31: ACME Film
A32: =IF(B32<>"",ROWS($B$6:B32),"") -> 27 | B32: Nuostabi epocha | C32: La Belle Epoque | D32: FR | E32: 11811 | F32: 2235 | G32: 3 | H32: 43805 | I32: VLG Film
A33: =IF(B33<>"",ROWS($B$6:B33),"") -> 28 | B33: Mafijos išdavikas | C33: Il Traditore | D33: FR, IT, DE | E33: 9024.8 | F33: 1904 | G33: 8 | H33: 43847 | I33: A-One Films
A34: =IF(B34<>"",ROWS($B$6:B34),"") -> 29 | B34: Cats | C34: Cats | D34: UK, US | E34: 8347 | F34: 1616 | G34: 8 | H34: 43826 | I34: NCG Distribution / Universal Pictures International
A35: =IF(B35<>"",ROWS($B$6:B35),"") -> 30 | B35: Tulpės, meilė, garbė ir dviratis | C35: Tulipani: Liefde, eer en een fiets | D35: NL | E35: 7481.67 | F35: 1426 | G35: 6 | H35: 43812 | I35: Artbox
A36: =IF(B36<>"",ROWS($B$6:B36),"") -> 31 | B36: Le Manas'66. Plento karaliai | C36: Ford v. Ferrari | D36: US | E36: 6402.91 | F36: 999 | G36: 6 | H36: 43794 | I36: Theatrical Film Distribution / 20th Century Fox
A37: =IF(B37<>"",ROWS($B$6:B37),"") -> 32 | B37: Po vandeniu | C37: Underwater | D37: US | E37: 5995.21 | F37: 999 | G37: 11 | H37: 43861 | I37: Theatrical Film Distribution / 20th Century Fox
A38: =IF(B38<>"",ROWS($B$6:B38),"") -> 33 | B38: Virsmas | C38: Turning | D38: US | E38: 5685.84 | F38: 924 | G38: 11 | H38: 43861 | I38: ACME Film
A39: =IF(B39<>"",ROWS($B$6:B39),"") -> 34 | B39: Sukeisti Kalėdų seneliai 2. Pamirštos kalėdos | C39: Santa Swap 2. Forgotten Christmas | D39: NO | E39: 5363.48 | F39: 683 | G39: 8 | H39: 43819 | I39: Travolta
A40: =IF(B40<>"",ROWS($B$6:B40),"") -> 35 | B40: Pats sau milijonierius | C40: Pats sau milijonierius | D40: LT | E40: 4486.16 | F40: 775 | G40: 6 | H40: 43756 | I40: Stambus planas
A41: =IF(B41<>"",ROWS($B$6:B41),"") -> 36 | B41: Sibilės vilionės | C41: Sibyl | D41: FR | E41: 3880 | F41: 860 | G41: 4 | H41: 43826 | I41: A-one films
A42: =IF(B42<>"",ROWS($B$6:B42),"") -> 37 | B42: Su gimtadieniu! | C42: Fête de famille | D42: FR | E42: 3745 | F42: 972 | G42: 6 | H42: 43847 | I42: VLG Film
A43: =IF(B43<>"",ROWS($B$6:B43),"") -> 38 | B43: Drąsusis Mozlis | C43: Mosley | D43: NZ, CN | E43: 2500.25 | F43: 599 | G43: 8 | H43: 43812 | I43: Theatrical Film Distribution
A44: =IF(B44<>"",ROWS($B$6:B44),"") -> 39 | B44: Gauruoti šnipai | C44: Spycies | D44: CN, FR | E44: 2461.18 | F44: 617 | G44: 16 | H44: 43861 | I44: ACME Film
A45: =IF(B45<>"",ROWS($B$6:B45),"") -> 40 | B45: Elniuko Ailo kelionė per Laplandiją | C45: Aïlo: Une odyssée en Laponie | D45: FI, FR | E45: 2109 | F45: 717 | G45: 4 | H45: 43763 | I45: Estinfilms
A46: =IF(B46<>"",ROWS($B$6:B46),"") -> 41 | B46: Sutemose | C46: Sutemose | D46: LT, FR, CZ, RS, PT, LV | E46: 1938 | F46: 407 | G46: 4 | H46: 43798 | I46: Kinema
A47: =IF(B47<>"",ROWS($B$6:B47),"") -> 42 | B47: Lopšinė | C47: Chanson douce | D47: FR | E47: 1663 | F47: 482 | G47: 5 | H47: 43854 | I47: VLG Film
A48: =IF(B48<>"",ROWS($B$6:B48),"") -> 43 | B48: Vienišos širdys | C48: Someone Somewhere | D48: FR, BE | E48: 1219 | F48: 292 | G48: 4 | H48: 43819 | I48: VLG Film
A49: =IF(B49<>"",ROWS($B$6:B49),"") -> 44 | B49: Last Christmas | C49: Last Christmas | D49: UK, US | E49: 1148.2 | F49: 179 | G49: 1 | H49: 43805 | I49: NCG Distribution / Universal Pictures International
A50: =IF(B50<>"",ROWS($B$6:B50),"") -> 45 | B50: O tada mes šokome | C50: And Then We Danced | D50: SE, GE, FR | E50: 986.5 | F50: 187 | G50: 4 | H50: 43791 | I50: A-one Films
A51: =IF(B51<>"",ROWS($B$6:B51),"") -> 46 | B51: Panelė Rūgštynė | C51: Jamais Contente | D51: FR | E51: 438 | F51: 158 | G51: 1 | H51: 42721 | I51: Skalvijos kino centras
A52: =IF(B52<>"",ROWS($B$6:B52),"") -> 47 | B52: Agnes apie Varda | C52: Agnes par Varda | D52: FR | E52: 407 | F52: 106 | G52: 4 | H52: 43728 | I52: A-one Films
A53: =IF(B53<>"",ROWS($B$6:B53),"") -> 48 | B53: Nematomas siūlas | C53: Phantom Thread | D53: US, UK | E53: 324 | F53: 60 | G53: 1 | H53: 43168 | I53: NCG Distribution / Universal Pictures International
A54: =IF(B54<>"",ROWS($B$6:B54),"") -> 49 | B54: Džokeris | C54: Joker | D54: US, CA | E54: 290.91 | F54: 46 | G54: 1 | H54: 43742 | I54: ACME Film / WB
A55: =IF(B55<>"",ROWS($B$6:B55),"") -> 50 | B55: Aeronautai | C55: Aeronauts | D55: UK, US | E55: 270 | F55: 45 | G55: 1 | H55: 43805 | I55: ACME Film
A56: =IF(B56<>"",ROWS($B$6:B56),"") -> 51 | B56: Didžioji skruzdėlyčių karalystė | C56: Minuscule, Valley of the Lost Ants | D56: FR | E56: 220 | F56: 45 | G56: 1 | H56: 41691 | I56: ACME Film
A57: =IF(B57<>"",ROWS($B$6:B57),"") -> 52 | B57: Orų mergaitė | C57: Wheathering with you | D57: JP | E57: 220 | F57: 49 | G57: 2 | H57: 43812 | I57: VLG Film
A58: =IF(B58<>"",ROWS($B$6:B58),"") -> 53 | B58: Pavarotti | C58: Pavarotti | D58: UK, US | E58: 199 | F58: 32 | G58: 2 | H58: 43672 | I58: VLG Film
A59: =IF(B59<>"",ROWS($B$6:B59),"") -> 54 | B59: Romi salonas | C59: Kapsalon Romi | D59: NL, DE | E59: 195 | F59: 66 | G59: 1 | H59: 43792 | I59: Skalvijos kino centras
A60: =IF(B60<>"",ROWS($B$6:B60),"") -> 55 | B60: Atsargiai, ragana | C60: Zlogonje | D60: MK | E60: 176 | F60: 44 | G60: 1 | H60: 43435 | I60: Skalvijos kino centras
A61: =IF(B61<>"",ROWS($B$6:B61),"") -> 56 | B61: Vieną kartą Holivude | C61: Once Upon a Time in Hollywood | D61: US | E61: 170 | F61: 38 | G61: 1 | H61: 43693 | I61: ACME Film / SONY
A62: =IF(B62<>"",ROWS($B$6:B62),"") -> 57 | B62: Rocketman | C62: Rocketman | D62: UK, US | E62: 122.34 | F62: 21 | G62: 1 | H62: 43623 | I62: NCG Distribution / Paramount Pictures
A63: =IF(B63<>"",ROWS($B$6:B63),"") -> 58 | B63: Tamsta Varlius | C63: Meester Kikker | D63: NL | E63: 100 | F63: 50 | G63: 1 | H63: 42654 | I63: Skalvijos kino centras
A64: =IF(B64<>"",ROWS($B$6:B64),"") -> 59 | B64: Arčiau debesų | C64: Cloudboy | D64: BG, SE, NL, NO | E64: 99 | F64: 33 | G64: 1 | H64: 42988 | I64: Skalvijos kino centras
A65: =IF(B65<>"",ROWS($B$6:B65),"") -> 60 | B65: Pakeliui į mokyklą | C65: Sur le Chemin de lʾécole | D65: FR, CN, ZA, BR, CO, | E65: 75 | F65: 25 | G65: 1 | H65: 42030 | I65: Skalvijos kino centras
A66: =IF(B66<>"",ROWS($B$6:B66),"") -> 61 | B66: Aviuko Šono filmas. Fermagedonas | C66: Shaun the Sheep 2 (Shaun the Sheep Movie: Farmageddon) | D66: US, UK, FR | E66: 61 | F66: 24 | G66: 1 | H66: 43784 | I66: ACME Film
E67: =SUBTOTAL(109,Table3[Pajamos]) -> 2956551.4 | F67: =SUBTOTAL(109,Table3[Žiūrovų skaičius]) -> 519805

Sheet Vasaris
A1: ='2020'!A1 -> 2020
A2: ='2020'!A2 -> Lietuvos kino teatruose rodytų filmų TOP
A3: Vasaris
A5: Eil. Nr. | B5: Filmo pavadinimas | C5: Filmo pavadinimas originalo kalba | D5: Kilmės šalis | E5: Pajamos | F5: Žiūrovų skaičius | G5: Kopijų skaičius | H5: Premjeros data | I5: Platintojas
A6: =IF(B6<>"",ROWS($B$6:B6),"") -> 1 | B6: Importinis jaunikis | C6: Importinis jaunikis | D6: LT | E6: 594127.04 | F6: 97853 | G6: 18 | H6: 43861 | I6: ACME Film
A7: =IF(B7<>"",ROWS($B$6:B7),"") -> 2 | B7: Džentelmenai | C7: (Toff Guys) Gentlemen (Gun head) | D7: US | E7: 118802.19 | F7: 19475 | G7: 8 | H7: 43854 | I7: ACME Film
A8: =IF(B8<>"",ROWS($B$6:B8),"") -> 3 | B8: Košmarų sala | C8: Fantasy Island | D8: US | E8: 115187.84 | F8: 20146 | G8: 14 | H8: 43875 | I8: ACME Film / SONY
A9: =IF(B9<>"",ROWS($B$6:B9),"") -> 4 | B9: Ypatingieji | C9: The Specials | D9: FR | E9: 102205.46 | F9: 17647 | G9: 17 | H9: 43868 | I9: Theatrical Film Distribution
A10: =IF(B10<>"",ROWS($B$6:B10),"") -> 5 | B10: 1917 | C10: 1917 | D10: US, UK | E10: 102173.44 | F10: 16960 | G10: 10 | H10: 43840 | I10: ACME Film
A11: =IF(B11<>"",ROWS($B$6:B11),"") -> 6 | B11: Arkties Komanda | C11: Arctic Justice | D11: UK, KR, IN | E11: 84436 | F11: 19298 | G11: 21 | H11: 43875 | I11: VLG Film
A12: =IF(B12<>"",ROWS($B$6:B12),"") -> 7 | B12: Plėšriosios paukštės ir fantastiškoji Harlė Kvin | C12: Birds of Prey | D12: US | E12: 83109.57 | F12: 13664 | G12: 15 | H12: 43868 | I12: ACME Film / WB
A13: =IF(B13<>"",ROWS($B$6:B13),"") -> 8 | B13: Užsimaskavę šnipai | C13: Spies In Disguise | D13: US | E13: 73130.16 | F13: 15435 | G13: 12 | H13: 43840 | I13: Theatrical Film Distribution / WDSMPI
A14: =IF(B14<>"",ROWS($B$6:B14),"") -> 9 | B14: Augintiniai susivienija | C14: Pets United | D14: UK, CN, DE | E14: 66490 | F14: 14962 | G14: 17 | H14: 43882 | I14: Garsų pasaulio įrašai
A15: =IF(B15<>"",ROWS($B$6:B15),"") -> 10 | B15: Protėvių šauksmas | C15: The Call of The Wild | D15: US, CA | E15: 66095.36 | F15: 11469 | G15: 16 | H15: 43882 | I15: Theatrical Film Distribution / 20th Century Fox
A16: =IF(B16<>"",ROWS($B$6:B16),"") -> 11 | B16: Ledas 2 | C16: Лёд 2 | D16: RU | E16: 62827 | F16: 10253 | G16: 10 | H16: 43875 | I16: Garsų pasaulio įrašai
A17: =IF(B17<>"",ROWS($B$6:B17),"") -> 12 | B17: Tobulas pasimatymas | C17: Tobulas pasimatymas | D17: LT | E17: 55947.39 | F17: 9593 | G17: 8 | H17: 43833 | I17: Nord Play
A18: =IF(B18<>"",ROWS($B$6:B18),"") -> 13 | B18: Mažosios moterys | C18: Little Women | D18: US | E18: 53290.9 | F18: 9376 | G18: 12 | H18: 43854 | I18: ACME Film / SONY
A19: =IF(B19<>"",ROWS($B$6:B19),"") -> 14 | B19: Gauruoti šnipai | C19: Spycies | D19: CN, FR | E19: 50407.64 | F19: 11279 | G19: 16 | H19: 43861 | I19: ACME Film
A20: =IF(B20<>"",ROWS($B$6:B20),"") -> 15 | B20: Po vandeniu | C20: Underwater | D20: US | E20: 47179.16 | F20: 7737 | G20: 11 | H20: 43861 | I20: Theatrical Film Distribution / 20th Century Fox
A21: =IF(B21<>"",ROWS($B$6:B21),"") -> 16 | B21: Partizanas | C21: Partizanas | D21: LT | E21: 46891.43 | F21: 9188 | G21: 12 | H21: 43875 | I21: Cinema Ads
A22: =IF(B22<>"",ROWS($B$6:B22),"") -> 17 | B22: Pašėlę vyrukai amžiams | C22: Bad Boys for Life | D22: US | E22: 44585.3 | F22: 7277 | G22: 9 | H22: 43847 | I22: ACME Film / SONY
A23: =IF(B23<>"",ROWS($B$6:B23),"") -> 18 | B23: Daktaras Dolitlis | C23: Dolittle | D23: US | E23: 43077.43 | F23: 8667 | G23: 10 | H23: 43847 | I23: NCG Distribution / Universal Pictures International
A24: =IF(B24<>"",ROWS($B$6:B24),"") -> 19 | B24: Vedybos, skyrybos ir barsukas | C24: Vedybos, skyrybos ir barsukas | D24: LT | E24: 43000 | F24: 7029 | G24: 19 | H24: 43889 | I24: Singing fish
A25: =IF(B25<>"",ROWS($B$6:B25),"") -> 20 | B25: Klara ir stebuklingasis drakonas | C25: Clara | D25: UA | E25: 41605.31 | F25: 9437 | G25: 17 | H25: 43868 | I25: Travolta
A26: =IF(B26<>"",ROWS($B$6:B26),"") -> 21 | B26: Fiksiai prieš Krabius | C26: Фиксики против кработов | D26: RU | E26: 36024 | F26: 8053 | G26: 12 | H26: 43854 | I26: Garsų pasaulio įrašai
A27: =IF(B27<>"",ROWS($B$6:B27),"") -> 22 | B27: Virsmas | C27: Turning | D27: US | E27: 27561.15 | F27: 4526 | G27: 11 | H27: 43861 | I27: ACME Film
A28: =IF(B28<>"",ROWS($B$6:B28),"") -> 23 | B28: Ledo šalis 2 | C28: Frozen 2 | D28: US | E28: 26201.62 | F28: 5396 | G28: 10 | H28: 43824 | I28: Theatrical Film Distribution / WDSMPI
A29: =IF(B29<>"",ROWS($B$6:B29),"") -> 24 | B29: Jonukas ir Grytutė. Siaubo pasaka | C29: Gretel & Hansel | D29: US, IE, CA | E29: 24901.1 | F29: 4295 | G29: 10 | H29: 43868 | I29: Travolta
A30: =IF(B30<>"",ROWS($B$6:B30),"") -> 25 | B30: Baltų gentys. Paskutinieji Europos pagonys | C30: Baltic Tribes. The Last Pagans of Europe | D30: LV | E30: 23365.97 | F30: 4648 | G30: 12 | H30: 43882 | I30: Film Jam
A31: =IF(B31<>"",ROWS($B$6:B31),"") -> 26 | B31: Zuikis Džodžo | C31: Jojo Rabbit | D31: CZ, NZ | E31: 23067.97 | F31: 3798 | G31: 5 | H31: 43840 | I31: Theatrical Film Distribution / 20th Century Fox
A32: =IF(B32<>"",ROWS($B$6:B32),"") -> 27 | B32: Koma | C32: Кома | D32: RU | E32: 21627 | F32: 3725 | G32: 9 | H32: 43861 | I32: Garsų pasaulio įrašai
A33: =IF(B33<>"",ROWS($B$6:B33),"") -> 28 | B33: Šėtono vaikas II | C33: Brahms: The Boy 2 | D33: US | E33: 20096.2 | F33: 3321 | G33: 13 | H33: 43889 | I33: ACME Film
A34: =IF(B34<>"",ROWS($B$6:B34),"") -> 29 | B34: Lavina | C34: Downhill | D34: US | E34: 17730.79 | F34: 3091 | G34: 15 | H34: 43875 | I34: Theatrical Film Distribution / 20th Century Fox
A35: =IF(B35<>"",ROWS($B$6:B35),"") -> 30 | B35: Užgaidų maratonas | C35: Марафон желаний | D35: RU | E35: 16397 | F35: 2623 | G35: 5 | H35: 43868 | I35: ACME Film
A36: =IF(B36<>"",ROWS($B$6:B36),"") -> 31 | B36: Idealus vyras | C36: (НЕ)идеальный мужчина | D36: RU | E36: 15193.72 | F36: 2434 | G36: 5 | H36: 43854 | I36: ACME Film
A37: =IF(B37<>"",ROWS($B$6:B37),"") -> 32 | B37: El Padre Medico / Lietuvis Amazonės džiunglėse | C37: El Padre Medico / Lietuvis Amazonės džiunglėse | D37: LT, BR | E37: 11126.6 | F37: 2581 | G37: 7 | H37: 43888 | I37: Filmuva
A38: =IF(B38<>"",ROWS($B$6:B38),"") -> 33 | B38: Laimės gėlelė | C38: Little Joe | D38: UK, AT, DE | E38: 7343.4 | F38: 1586 | G38: 4 | H38: 43868 | I38: A-one Films
A39: =IF(B39<>"",ROWS($B$6:B39),"") -> 34 | B39: Pareigūnas ir šnipas | C39: An Officer and a Spy | D39: FR, IT | E39: 7145 | F39: 1511 | G39: 15 | H39: 43882 | I39: Garsų pasaulio įrašai
A40: =IF(B40<>"",ROWS($B$6:B40),"") -> 35 | B40: Nuostabi epocha | C40: La Belle Epoque | D40: FR | E40: 6668 | F40: 1301 | G40: 3 | H40: 43805 | I40: VLG Film
A41: =IF(B41<>"",ROWS($B$6:B41),"") -> 36 | B41: Tarnas | C41: Холоп | D41: RU | E41: 6340 | F41: 965 | G41: 2 | H41: 43826 | I41: Garsų pasaulio įrašai
A42: =IF(B42<>"",ROWS($B$6:B42),"") -> 37 | B42: Emma | C42: Emma | D42: UK | E42: 5307.07 | F42: 877 | G42: 13 | H42: 43889 | I42: NCG Distribution / Universal Pictures International
A43: =IF(B43<>"",ROWS($B$6:B43),"") -> 38 | B43: Mano dukrai Samai | C43: For Sama | D43: UK, SY | E43: 5004.62 | F43: 1088 | G43: 7 | H43: 43840 | I43: Greta Garbo Films
A44: =IF(B44<>"",ROWS($B$6:B44),"") -> 39 | B44: Tarp žemės ir dangaus | C44: Close to the horizon | D44: DE | E44: 4131 | F44: 817 | G44: 9 | H44: 43875 | I44: VLG Film
A45: =IF(B45<>"",ROWS($B$6:B45),"") -> 40 | B45: Les Misérables. Vargdieniai | C45: Les Misérables | D45: FR | E45: 4078 | F45: 880 | G45: 14 | H45: 43868 | I45: Greta Garbo Films
A46: =IF(B46<>"",ROWS($B$6:B46),"") -> 41 | B46: Nežinomas šventasis | C46: The Unknown Saint | D46: MA, FR, QA | E46: 3788.43 | F46: 910 | G46: 4 | H46: 43889 | I46: A-one Films
A47: =IF(B47<>"",ROWS($B$6:B47),"") -> 42 | B47: Mano šuo kvanka | C47: My dog stupid | D47: FR | E47: 3219.95 | F47: 735 | G47: 5 | H47: 43868 | I47: VLG Film
A48: =IF(B48<>"",ROWS($B$6:B48),"") -> 43 | B48: Ema.Piromanė | C48: Ema | D48: ES | E48: 2982 | F48: 657 | G48: 4 | H48: 43875 | I48: A-one Films
A49: =IF(B49<>"",ROWS($B$6:B49),"") -> 44 | B49: Nenugalėti | C49: Rising Hawk | D49: UA, US | E49: 2962.88 | F49: 500 | G49: 13 | H49: 43889 | I49: VLG Film
A50: =IF(B50<>"",ROWS($B$6:B50),"") -> 45 | B50: Tikra Keli gaujos istorija | C50: The true history of Kelly gang | D50: AU, UK, FR | E50: 2645 | F50: 508 | G50: 11 | H50: 43882 | I50: VLG Film
A51: =IF(B51<>"",ROWS($B$6:B51),"") -> 46 | B51: Džiumandži: Kitas lygis | C51: Jumanji: The Next level (Jumanji 2) | D51: US | E51: 2393.73 | F51: 420 | G51: 2 | H51: 43805 | I51: ACME Film / SONY
A52: =IF(B52<>"",ROWS($B$6:B52),"") -> 47 | B52: Gražiausi gyvenimo metai | C52: Les plus belles années d'une vie | D52: FR | E52: 1748 | F52: 324 | G52: 1 | H52: Prewiev | I52: Europos kinas
A53: =IF(B53<>"",ROWS($B$6:B53),"") -> 48 | B53: Skandalas | C53: Untitled Charles Randolph Project (Bombshell) | D53: US | E53: 1575.47 | F53: 269 | G53: 3 | H53: 43847 | I53: ACME Film
A54: =IF(B54<>"",ROWS($B$6:B54),"") -> 49 | B54: Nepaprasta Remio kelionė | C54: Rémi sans famille | D54: FR | E54: 1382 | F54: 442 | G54: 2 | H54: 43707 | I54: Estinfilms
A55: =IF(B55<>"",ROWS($B$6:B55),"") -> 50 | B55: Su gimtadieniu! | C55: Fête de famille | D55: FR | E55: 1095 | F55: 282 | G55: 2 | H55: 43847 | I55: VLG Film
A56: =IF(B56<>"",ROWS($B$6:B56),"") -> 51 | B56: Selma ir užburtas miestas | C56: Dia de Muertos | D56: MX | E56: 1027 | F56: 281 | G56: 4 | H56: 43847 | I56: VLG Film
A57: =IF(B57<>"",ROWS($B$6:B57),"") -> 52 | B57: Antroji aš | C57: Celle que vous croyez | D57: FR, BE | E57: 962.83 | F57: 279 | G57: 4 | H57: 43833 | I57: Europos kinas
A58: =IF(B58<>"",ROWS($B$6:B58),"") -> 53 | B58: Sibilės vilionės | C58: Sibyl | D58: FR | E58: 859 | F58: 178 | G58: 4 | H58: 43826 | I58: A-one films
A59: =IF(B59<>"",ROWS($B$6:B59),"") -> 54 | B59: Mafijos išdavikas | C59: Il Traditore | D59: FR, IT, DE | E59: 845 | F59: 175 | G59: 4 | H59: 43847 | I59: A-One Films
A60: =IF(B60<>"",ROWS($B$6:B60),"") -> 55 | B60: Tulpės, meilė, garbė ir dviratis | C60: Tulipani: Liefde, eer en een fiets | D60: NL | E60: 801.5 | F60: 140 | G60: 3 | H60: 43812 | I60: Artbox
A61: =IF(B61<>"",ROWS($B$6:B61),"") -> 56 | B61: Vienišos širdys | C61: Someone Somewhere | D61: FR, BE | E61: 715 | F61: 133 | G61: 3 | H61: 43819 | I61: VLG Film
A62: =IF(B62<>"",ROWS($B$6:B62),"") -> 57 | B62: Mažylio Nikolia atostogos | C62: Les Vacances du petit Nicolas | D62: FR | E62: 530 | F62: 126 | G62: 2 | H62: 41936 | I62: A-One Films
A63: =IF(B63<>"",ROWS($B$6:B63),"") -> 58 | B63: Atsargiai, ragana | C63: Zlogonje | D63: MK | E63: 508 | F63: 237 | G63: 1 | H63: 43435 | I63: Skalvijos kino centras
A64: =IF(B64<>"",ROWS($B$6:B64),"") -> 59 | B64: O tada mes šokome | C64: And Then We Danced | D64: SE, GE, FR | E64: 500 | F64: 88 | G64: 4 | H64: 43791 | I64: A-one Films
A65: =IF(B65<>"",ROWS($B$6:B65),"") -> 60 | B65: Arčiau debesų | C65: Cloudboy | D65: BG, SE, NL, NO | E65: 407 | F65: 163 | G65: 1 | H65: 42988 | I65: Skalvijos kino centras
A66: =IF(B66<>"",ROWS($B$6:B66),"") -> 61 | B66: Ekskursantė | C66: Ekskursantė | D66: LT | E66: 404 | F66: 202 | G66: 2 | H66: 41544 | I66: Cinemark
A67: =IF(B67<>"",ROWS($B$6:B67),"") -> 62 | B67: Džokeris | C67: Joker | D67: US, CA | E67: 323.2 | F67: 63 | G67: 1 | H67: 43742 | I67: ACME Film / WB
A68: =IF(B68<>"",ROWS($B$6:B68),"") -> 63 | B68: Keliaujantys paukščiai | C68: Les oiseaux de passage | D68: BE, FR | E68: 318 | F68: 159 | G68: 1 | H68: 42301 | I68: Skalvijos kino centras
A69: =IF(B69<>"",ROWS($B$6:B69),"") -> 64 | B69: Lopšinė | C69: Chanson douce | D69: FR | E69: 316 | F69: 53 | G69: 2 | H69: 43854 | I69: VLG Film
A70: =IF(B70<>"",ROWS($B$6:B70),"") -> 65 | B70: Didelis blogas lapinas ir kitos istorijos | C70: Le grand méchant renard et autres contes... | D70: BE, FR | E70: 289 | F70: 119 | G70: 1 | H70: 43379 | I70: Skalvijos kino centras
A71: =IF(B71<>"",ROWS($B$6:B71),"") -> 66 | B71: Vieną kartą Holivude | C71: Once Upon a Time in Hollywood | D71: US | E71: 250.52 | F71: 49 | G71: 1 | H71: 43693 | I71: ACME Film / SONY
A72: =IF(B72<>"",ROWS($B$6:B72),"") -> 67 | B72: Devym kažkelinti | C72: Mid90s | D72: US | E72: 242.5 | F72: 48 | G72: 4 | H72: 43602 | I72: A-one Films
A73: =IF(B73<>"",ROWS($B$6:B73),"") -> 68 | B73: Sengirė | C73: Sengirė | D73: LT | E73: 210 | F73: 69 | G73: 2 | H73: 43189 | I73: VšĮ Sengirė
A74: =IF(B74<>"",ROWS($B$6:B74),"") -> 69 | B74: Tamsta Varlius | C74: Meester Kikker | D74: NL | E74: 200 | F74: 50 | G74: 1 | H74: 42654 | I74: Skalvijos kino centras
A75: =IF(B75<>"",ROWS($B$6:B75),"") -> 70 | B75: Tarp pilkų debesų | C75: Ashes in the Snow | D75: LT,UK | E75: 188 | F75: 94 | G75: 1 | H75: 43385 | I75: ACME Film
A76: =IF(B76<>"",ROWS($B$6:B76),"") -> 71 | B76: Le Manas'66. Plento karaliai | C76: Ford v. Ferrari | D76: US | E76: 156.2 | F76: 26 | G76: 1 | H76: 43794 | I76: Theatrical Film Distribution / 20th Century Fox
A77: =IF(B77<>"",ROWS($B$6:B77),"") -> 72 | B77: Ištraukti peiliai | C77: Knives Out | D77: US | E77: 85.4 | F77: 15 | G77: 1 | H77: 43798 | I77: ACME Film
A78: =IF(B78<>"",ROWS($B$6:B78),"") -> 73 | B78: Daktaras miegas | C78: Doctor Sleep | D78: US | E78: 76.7 | F78: 12 | G78: 1 | H78: 43777 | I78: ACME Film / WB
A79: =IF(B79<>"",ROWS($B$6:B79),"") -> 74 | B79: TAS: Antroji dalis | C79: IT 2 | D79: US | E79: 57.2 | F79: 9 | G79: 1 | H79: 43714 | I79: ACME Film / WB
A80: =IF(B80<>"",ROWS($B$6:B80),"") -> 75 | B80: Pats sau milijonierius | C80: Pats sau milijonierius | D80: LT | E80: 51 | F80: 18 | G80: 1 | H80: 43756 | I80: Stambus planas
A81: =IF(B81<>"",ROWS($B$6:B81),"") -> 76 | B81: Siekiant gailestingumo | C81: Just Mercy | D81: US | E81: 48 | F81: 8 | G81: 1 | H81: 43847 | I81: ACME Film / WB
A82: =IF(B82<>"",ROWS($B$6:B82),"") -> 77 | B82: Laisvo elgesio tėvai | C82: Drunk Parents | D82: US | E82: 36 | F82: 12 | G82: 1 | H82: 43532 | I82: Theatrical Film Distribution
A83: =IF(B83<>"",ROWS($B$6:B83),"") -> 78 | B83: Emilija iš laisvės alėjos | C83: Emilia | D83: LT | E83: 22 | F83: 11 | G83: 1 | H83: 42790 | I83: ACME Film
E84: =SUBTOTAL(109,Table3_Vasaris[Pajamos]) -> 2238100.3 | F84: =SUBTOTAL(109,Table3_Vasaris[Žiūrovų skaičius]) -> 402125

Sheet Kovas
A1: ='2020'!A1 -> 2020
A2: ='2020'!A2 -> Lietuvos kino teatruose rodytų filmų TOP
A3: Kovas
A5: Eil. Nr. | B5: Filmo pavadinimas | C5: Filmo pavadinimas originalo kalba | D5: Kilmės šalis | E5: Pajamos | F5: Žiūrovų skaičius | G5: Kopijų skaičius | H5: Premjeros data | I5: Platintojas
A6: =IF(B6<>"",ROWS($B$6:B6),"") -> 1 | B6: Pirmyn | C6: Onward | D6: US | E6: 80203.23 | F6: 15564 | G6: 27 | H6: 43896 | I6: Theatrical Film Distribution / WDSMPI
A7: =IF(B7<>"",ROWS($B$6:B7),"") -> 2 | B7: Vedybos, skyrybos ir barsukas | C7: Vedybos, skyrybos ir barsukas | D7: LT | E7: 68208 | F7: 11039 | G7: 8 | H7: 43889 | I7: Singing fish
A8: =IF(B8<>"",ROWS($B$6:B8),"") -> 3 | B8: Nematomas žmogus | C8: The Invisible Man | D8: US | E8: 51149.33 | F8: 8507 | G8: 13 | H8: 43896 | I8: NCG Distribution / Universal Pictures International
A9: =IF(B9<>"",ROWS($B$6:B9),"") -> 4 | B9: Importinis jaunikis | C9: Importinis jaunikis | D9: LT | E9: 39213.19 | F9: 6831 | G9: 11 | H9: 43861 | I9: ACME Film
A10: =IF(B10<>"",ROWS($B$6:B10),"") -> 5 | B10: Šėtono vaikas II | C10: Brahms: The Boy 2 | D10: US | E10: 36095.87 | F10: 5851 | G10: 13 | H10: 43889 | I10: ACME Film
A11: =IF(B11<>"",ROWS($B$6:B11),"") -> 6 | B11: Ypatingieji | C11: The Specials | D11: FR | E11: 25838.72 | F11: 4375 | G11: 11 | H11: 43868 | I11: Theatrical Film Distribution
A12: =IF(B12<>"",ROWS($B$6:B12),"") -> 7 | B12: Džentelmenai | C12: (Toff Guys) Gentlemen (Gun head) | D12: US | E12: 20375.09 | F12: 3276 | G12: 6 | H12: 43854 | I12: ACME Film
A13: =IF(B13<>"",ROWS($B$6:B13),"") -> 8 | B13: Kubos voratinklis | C13: Wasp Network | D13: FR, ES, BE | E13: 19685.7 | F13: 3219 | G13: 12 | H13: 43896 | I13: ACME Film
A14: =IF(B14<>"",ROWS($B$6:B14),"") -> 9 | B14: Protėvių šauksmas | C14: The Call of The Wild | D14: US, CA | E14: 17703.56 | F14: 3149 | G14: 10 | H14: 43882 | I14: Theatrical Film Distribution / 20th Century Fox
A15: =IF(B15<>"",ROWS($B$6:B15),"") -> 10 | B15: Augintiniai susivienija | C15: Pets United | D15: UK, CN, DE | E15: 17159 | F15: 3679 | G15: 17 | H15: 43882 | I15: Garsų pasaulio įrašai
A16: =IF(B16<>"",ROWS($B$6:B16),"") -> 11 | B16: Ginklai Akimbo | C16: Guns Akimbo | D16: UK, DE, NZ | E16: 12559.55 | F16: 2100 | G16: 6 | H16: 43896 | I16: Travolta
A17: =IF(B17<>"",ROWS($B$6:B17),"") -> 12 | B17: Košmarų sala | C17: Fantasy Island | D17: US | E17: 11747.57 | F17: 1969 | G17: 8 | H17: 43875 | I17: ACME Film / SONY
A18: =IF(B18<>"",ROWS($B$6:B18),"") -> 13 | B18: Baltų gentys. Paskutinieji Europos pagonys | C18: Baltic Tribes. The Last Pagans of Europe | D18: LV | E18: 9577.9 | F18: 1545 | G18: 8 | H18: 43882 | I18: Film Jam
A19: =IF(B19<>"",ROWS($B$6:B19),"") -> 14 | B19: Emma | C19: Emma | D19: UK | E19: 9186.62 | F19: 1649 | G19: 13 | H19: 43889 | I19: NCG Distribution / Universal Pictures International
A20: =IF(B20<>"",ROWS($B$6:B20),"") -> 15 | B20: Moteris | C20: Woman | D20: FR | E20: 7577 | F20: 1513 | G20: 15 | H20: 43896 | I20: Greta Garbo Films
A21: =IF(B21<>"",ROWS($B$6:B21),"") -> 16 | B21: 1917 | C21: 1917 | D21: US, UK | E21: 7333.22 | F21: 1207 | G21: 7 | H21: 43840 | I21: ACME Film
A22: =IF(B22<>"",ROWS($B$6:B22),"") -> 17 | B22: Partizanas | C22: Partizanas | D22: LT | E22: 5759.04 | F22: 1636 | G22: 5 | H22: 43875 | I22: Cinema Ads
A23: =IF(B23<>"",ROWS($B$6:B23),"") -> 18 | B23: Užsimaskavę šnipai | C23: Spies In Disguise | D23: US | E23: 5616.31 | F23: 1142 | G23: 7 | H23: 43840 | I23: Theatrical Film Distribution / WDSMPI
A24: =IF(B24<>"",ROWS($B$6:B24),"") -> 19 | B24: QT8: Quentin Tarantino | C24: QT8: Quentin Tarantino | D24: US | E24: 4637 | F24: 973 | G24: 10 | H24: 43896 | I24: VLG Film
A25: =IF(B25<>"",ROWS($B$6:B25),"") -> 20 | B25: Ledas 2 | C25: Лёд 2 | D25: RU | E25: 4194 | F25: 698 | G25: 4 | H25: 43875 | I25: Garsų pasaulio įrašai
A26: =IF(B26<>"",ROWS($B$6:B26),"") -> 21 | B26: Arkties Komanda | C26: Arctic Justice | D26: UK, KR, IN | E26: 3588.98 | F26: 805 | G26: 13 | H26: 43875 | I26: VLG Film
A27: =IF(B27<>"",ROWS($B$6:B27),"") -> 22 | B27: Labai moteriškos istorijos | C27: Очень женские истории | D27: RU | E27: 2992.1 | F27: 432 | G27: 5 | H27: 43903 | I27: Theatrical Film Distribution
A28: =IF(B28<>"",ROWS($B$6:B28),"") -> 23 | B28: Daktaras Dolitlis | C28: Dolittle | D28: US | E28: 2186.81 | F28: 416 | G28: 3 | H28: 43847 | I28: NCG Distribution / Universal Pictures International
A29: =IF(B29<>"",ROWS($B$6:B29),"") -> 24 | B29: Mažosios moterys | C29: Little Women | D29: US | E29: 2024.15 | F29: 478 | G29: 4 | H29: 43854 | I29: ACME Film / SONY
A30: =IF(B30<>"",ROWS($B$6:B30),"") -> 25 | B30: Adomas | C30: Adam | D30: FR | E30: 1767.25 | F30: 482 | G30: 5 | H30: 43894 | I30: Kino pasaka
A31: =IF(B31<>"",ROWS($B$6:B31),"") -> 26 | B31: Dilili Paryžiuje | C31: Dilili à Paris | D31: FR | E31: 1634 | F31: 409 | G31: 10 | H31: 43896 | I31: Estinfilm
A32: =IF(B32<>"",ROWS($B$6:B32),"") -> 27 | B32: Laimės gėlelė | C32: Little Joe | D32: UK, AT, DE | E32: 1461 | F32: 297 | G32: 4 | H32: 43868 | I32: A-one Films
A33: =IF(B33<>"",ROWS($B$6:B33),"") -> 28 | B33: Nenugalėti | C33: Rising Hawk | D33: UA, US | E33: 1410 | F33: 286 | G33: 13 | H33: 43889 | I33: VLG Film
A34: =IF(B34<>"",ROWS($B$6:B34),"") -> 29 | B34: Fiksiai prieš Krabius | C34: Фиксики против кработов | D34: RU | E34: 1370 | F34: 84 | G34: 2 | H34: 43854 | I34: Garsų pasaulio įrašai
A35: =IF(B35<>"",ROWS($B$6:B35),"") -> 30 | B35: Pašėlę vyrukai amžiams | C35: Bad Boys for Life | D35: US | E35: 1365.65 | F35: 217 | G35: 3 | H35: 43847 | I35: ACME Film / SONY
A36: =IF(B36<>"",ROWS($B$6:B36),"") -> 31 | B36: Pareigūnas ir šnipas | C36: An Officer and a Spy | D36: FR, IT | E36: 1260 | F36: 334 | G36: 4 | H36: 43882 | I36: Garsų pasaulio įrašai
A37: =IF(B37<>"",ROWS($B$6:B37),"") -> 32 | B37: El Padre Medico / Lietuvis Amazonės džiunglėse | C37: El Padre Medico / Lietuvis Amazonės džiunglėse | D37: LT, BR | E37: 1178 | F37: 321 | G37: 6 | H37: 43888 | I37: Filmuva
A38: =IF(B38<>"",ROWS($B$6:B38),"") -> 33 | B38: Zuikis Džodžo | C38: Jojo Rabbit | D38: CZ, NZ | E38: 1081.6 | F38: 178 | G38: 2 | H38: 43840 | I38: Theatrical Film Distribution / 20th Century Fox
A39: =IF(B39<>"",ROWS($B$6:B39),"") -> 34 | B39: Nežinomas šventasis | C39: The Unknown Saint | D39: MA, FR, QA | E39: 954.5 | F39: 193 | G39: 4 | H39: 43889 | I39: A-one Films
A40: =IF(B40<>"",ROWS($B$6:B40),"") -> 35 | B40: Ledo šalis 2 | C40: Frozen 2 | D40: US | E40: 794.01 | F40: 166 | G40: 2 | H40: 43824 | I40: Theatrical Film Distribution / WDSMPI
A41: =IF(B41<>"",ROWS($B$6:B41),"") -> 36 | B41: Mano dukrai Samai | C41: For Sama | D41: UK, SY | E41: 641 | F41: 134 | G41: 3 | H41: 43840 | I41: Greta Garbo Films
A42: =IF(B42<>"",ROWS($B$6:B42),"") -> 37 | B42: Nuostabi epocha | C42: La Belle Epoque | D42: FR | E42: 580 | F42: 98 | G42: 3 | H42: 43805 | I42: VLG Film
A43: =IF(B43<>"",ROWS($B$6:B43),"") -> 38 | B43: Romi salonas | C43: Kapsalon Romi | D43: NL, DE | E43: 425 | F43: 85 | G43: 1 | H43: 43792 | I43: Skalvijos kino centras
A44: =IF(B44<>"",ROWS($B$6:B44),"") -> 39 | B44: Ema.Piromanė | C44: Ema | D44: ES | E44: 388.5 | F44: 100 | G44: 2 | H44: 43875 | I44: A-one Films
A45: =IF(B45<>"",ROWS($B$6:B45),"") -> 40 | B45: Tulpės, meilė, garbė ir dviratis | C45: Tulipani: Liefde, eer en een fiets | D45: NL | E45: 350 | F45: 69 | G45: 2 | H45: 43812 | I45: Artbox
A46: =IF(B46<>"",ROWS($B$6:B46),"") -> 41 | B46: O tada mes šokome | C46: And Then We Danced | D46: SE, GE, FR | E46: 324 | F46: 64 | G46: 2 | H46: 43791 | I46: A-one Films
A47: =IF(B47<>"",ROWS($B$6:B47),"") -> 42 | B47: Panelė Rūgštynė | C47: Jamais Contente | D47: FR | E47: 273 | F47: 123 | G47: 1 | H47: 42721 | I47: Skalvijos kino centras
A48: =IF(B48<>"",ROWS($B$6:B48),"") -> 43 | B48: Plėšriosios paukštės ir fantastiškoji Harlė Kvin | C48: Birds of Prey | D48: US | E48: 265.1 | F48: 51 | G48: 1 | H48: 43868 | I48: ACME Film / WB
A49: =IF(B49<>"",ROWS($B$6:B49),"") -> 44 | B49: Gauruoti šnipai | C49: Spycies | D49: CN, FR | E49: 260.98 | F49: 56 | G49: 2 | H49: 43861 | I49: ACME Film
A50: =IF(B50<>"",ROWS($B$6:B50),"") -> 45 | B50: Gimtinė | C50: Gimtinė | D50: LT | E50: 244 | F50: 61 | G50: 1 | H50: 43714 | I50: ACME Film
A51: =IF(B51<>"",ROWS($B$6:B51),"") -> 46 | B51: Tobulas pasimatymas | C51: Tobulas pasimatymas | D51: LT | E51: 161.57 | F51: 27 | G51: 2 | H51: 43833 | I51: Nord Play
A52: =IF(B52<>"",ROWS($B$6:B52),"") -> 47 | B52: Sibilės vilionės | C52: Sibyl | D52: FR | E52: 154 | F52: 28 | G52: 4 | H52: 43826 | I52: A-one films
A53: =IF(B53<>"",ROWS($B$6:B53),"") -> 48 | B53: Lavina | C53: Downhill | D53: US | E53: 126.9 | F53: 25 | G53: 1 | H53: 43875 | I53: Theatrical Film Distribution / 20th Century Fox
A54: =IF(B54<>"",ROWS($B$6:B54),"") -> 49 | B54: Ištraukti peiliai | C54: Knives Out | D54: US | E54: 113.5 | F54: 19 | G54: 1 | H54: 43798 | I54: ACME Film
A55: =IF(B55<>"",ROWS($B$6:B55),"") -> 50 | B55: Tarp pilkų debesų | C55: Ashes in the Snow | D55: LT,UK | E55: 110 | F55: 57 | G55: 1 | H55: 43385 | I55: ACME Film
A56: =IF(B56<>"",ROWS($B$6:B56),"") -> 51 | B56: Devym kažkelinti | C56: Mid90s | D56: US | E56: 100.5 | F56: 19 | G56: 1 | H56: 43602 | I56: A-one Films
A57: =IF(B57<>"",ROWS($B$6:B57),"") -> 52 | B57: Mafijos išdavikas | C57: Il Traditore | D57: FR, IT, DE | E57: 82 | F57: 21 | G57: 1 | H57: 43847 | I57: A-One Films
A58: =IF(B58<>"",ROWS($B$6:B58),"") -> 53 | B58: Mano šuo kvanka | C58: My dog stupid | D58: FR | E58: 62.05 | F58: 16 | G58: 1 | H58: 43868 | I58: VLG Film
E59: =SUBTOTAL(109,Table3_Vasaris5[Pajamos]) -> 483550.05 | F59: =SUBTOTAL(109,Table3_Vasaris5[Žiūrovų skaičius]) -> 86073

Sheet Drive-In
A1: ='2020'!A1 -> 2020
A2: ='2020'!A2 -> Lietuvos kino teatruose rodytų filmų TOP
A3: Balandis
A5: Eil. Nr. | B5: Filmo pavadinimas | C5: Filmo pavadinimas originalo kalba | D5: Kilmės šalis | E5: Pajamos | F5: Žiūrovų skaičius | G5: Kopijų skaičius | H5: Premjeros data | I5: Platintojas
A6: =IF(B6<>"",ROWS($B$6:B6),"") -> 1 | B6: Parazitas | C6: Gisaengchung | D6: KR | E6: 14836.95 | F6: 1241 | G6: 1 | H6: - | I6: Europos kinas
A7: =IF(B7<>"",ROWS($B$6:B7),"") -> 2 | B7: Džentelmenai | C7: (Toff Guys) Gentlemen (Gun head) | D7: US | E7: 13805.998 | F7: 1123 | G7: 2 | H7: 43854 | I7: ACME Film
A8: =IF(B8<>"",ROWS($B$6:B8),"") -> 3 | B8: Kristaus kūnas | C8: Boże Ciało | D8: PL, FR | E8: 13019.84 | F8: 922 | G8: 1 | H8: - | I8: Europos kinas
A9: =IF(B9<>"",ROWS($B$6:B9),"") -> 4 | B9: Mama | C9: Madre | D9: ES, FR | E9: 5471.36 | F9: 427 | G9: 1 | H9: - | I9: Europos kinas
A10: =IF(B10<>"",ROWS($B$6:B10),"") -> 5 | B10: Ištraukti peiliai | C10: Ištraukti peiliai | D10: US | E10: 4732.271 | F10: 399 | G10: 3 | H10: 43798 | I10: ACME Film
A11: =IF(B11<>"",ROWS($B$6:B11),"") -> 6 | B11: Zomša | C11: Le Daim | D11: FR | E11: 3543.64 | F11: 257 | G11: 1 | H11: - | I11: Europos kinas
A12: =IF(B12<>"",ROWS($B$6:B12),"") -> 7 | B12: Mažasis princas | C12: The Lttle Prince | D12: FR, CA, IT, US | E12: 3274.216 | F12: 279 | G12: 3 | H12: 42321 | I12: ACME Film
A13: =IF(B13<>"",ROWS($B$6:B13),"") -> 8 | B13: Lietinga diena Niujorke | C13: Rainy Day in New York | D13: US | E13: 3094.83 | F13: 261 | G13: 2 | H13: 43679 | I13: ACME Film
A14: =IF(B14<>"",ROWS($B$6:B14),"") -> 9 | B14: Moliūgėlio gyvenimas | C14: Ma vie de courgette | D14: CH, FR | E14: 2914.07 | F14: 199 | G14: 1 | H14: 42832 | I14: Europos kinas
A15: =IF(B15<>"",ROWS($B$6:B15),"") -> 10 | B15: Tobulas pasimatymas | C15: Tobulas pasimatymas | D15: LT | E15: 2707.73 | F15: 222 | G15: 2 | H15: 43833 | I15: Nord Play
A16: =IF(B16<>"",ROWS($B$6:B16),"") -> 11 | B16: John Wick | C16: John Wick | D16: US | E16: 2616 | F16: 228 | G16: 1 | H16: 41957 | I16: ACME Film
A17: =IF(B17<>"",ROWS($B$6:B17),"") -> 12 | B17: Trys milijonai eurų | C17: Trys milijonai eurų | D17: LT | E17: 2496 | F17: 208 | G17: 1 | H17: 43035 | I17: Vabalo filmai
A18: =IF(B18<>"",ROWS($B$6:B18),"") -> 13 | B18: Tarnaitė | C18: Ah-ga-ssi | D18: KR | E18: 2451.32 | F18: 175 | G18: 1 | H18: 42832 | I18: Europos kinas
A19: =IF(B19<>"",ROWS($B$6:B19),"") -> 14 | B19: Kalifornijos svajos | C19: La La Land | D19: US | E19: 2386.5 | F19: 205 | G19: 2 | H19: 42713 | I19: ACME Film
A20: =IF(B20<>"",ROWS($B$6:B20),"") -> 15 | B20: Be šansų | C20: Long Shot | D20: US | E20: 2356.5 | F20: 196 | G20: 2 | H20: 43588 | I20: ACME Film
A21: =IF(B21<>"",ROWS($B$6:B21),"") -> 16 | B21: Kvadratas | C21: Rutan | D21: DK, FR, SE, DE | E21: 2308.46 | F21: 154 | G21: 1 | H21: 43070 | I21: Kino Aljansas
A22: =IF(B22<>"",ROWS($B$6:B22),"") -> 17 | B22: 1917 | C22: 1917 | D22: US, UK | E22: 2069.896 | F22: 171 | G22: 3 | H22: 43840 | I22: ACME Film
A23: =IF(B23<>"",ROWS($B$6:B23),"") -> 18 | B23: Geismas ir garsas Vakarų Berlyne (1979-1989) | C23: B-Movie: Lust & Sound in West-Berlin (1979-1989) | D23: DE | E23: 2042.63 | F23: 193 | G23: 1 | H23: - | I23: Europos kinas
A24: =IF(B24<>"",ROWS($B$6:B24),"") -> 19 | B24: Vagiliautojai | C24: Manbiki kazoku | D24: JP | E24: 1965.55 | F24: 154 | G24: 1 | H24: 43560 | I24: Europos kinas
A25: =IF(B25<>"",ROWS($B$6:B25),"") -> 20 | B25: Nuostabieji lūzeriai. Kita planeta | C25: Nuostabieji lūzeriai. Kita planeta | D25: LT | E25: 1954.72 | F25: 161 | G25: 1 | H25: 43140 | I25: Studija NOMINUM
A26: =IF(B26<>"",ROWS($B$6:B26),"") -> 21 | B26: Skausmas ir šlovė | C26: Dolor y gloria | D26: ES | E26: 1948.71 | F26: 136 | G26: 1 | H26: 43630 | I26: VLG Film
A27: =IF(B27<>"",ROWS($B$6:B27),"") -> 22 | B27: Garsioji meškinų invazija į Siciliją | C27: La Fameuse Invasion des ours en Sicile | D27: FR, IT | E27: 1866.67 | F27: 143 | G27: 1 | H27: - | I27: Europos kinas
A28: =IF(B28<>"",ROWS($B$6:B28),"") -> 23 | B28: Tonis Erdmanas | C28: Toni Erdmann | D28: DE, AT | E28: 1843.77 | F28: 124 | G28: 1 | H28: 42601 | I28: A-ONE FILMS
A29: =IF(B29<>"",ROWS($B$6:B29),"") -> 24 | B29: Whitney | C29: Whitney | D29: US, UK | E29: 1776 | F29: 150 | G29: 1 | H29: 43581 | I29: Kino Pasaka
A30: =IF(B30<>"",ROWS($B$6:B30),"") -> 25 | B30: Žalioji knyga | C30: Green Book | D30: US | E30: 1764 | F30: 147 | G30: 1 | H30: 43476 | I30: ACME Film
A31: =IF(B31<>"",ROWS($B$6:B31),"") -> 26 | B31: Nuostabi epocha | C31: La Belle Epoque | D31: FR | E31: 1748.8 | F31: 199 | G31: 2 | H31: 43805 | I31: VLG Film
A32: =IF(B32<>"",ROWS($B$6:B32),"") -> 27 | B32: Liepsnojančios moters portretas | C32: Portrait De La Jeune Fille En Feu | D32: FR | E32: 1724.84 | F32: 126 | G32: 1 | H32: - | I32: Europos kinas
A33: =IF(B33<>"",ROWS($B$6:B33),"") -> 28 | B33: Nematomas gyvenimas | C33: A vida invisível | D33: BR, DE | E33: 1686.83 | F33: 148 | G33: 1 | H33: - | I33: Europos kinas
A34: =IF(B34<>"",ROWS($B$6:B34),"") -> 29 | B34: Riba | C34: Border | D34: SE, DK | E34: 1513.99 | F34: 102 | G34: 1 | H34: 43518 | I34: A-ONE FILMS
A35: =IF(B35<>"",ROWS($B$6:B35),"") -> 30 | B35: Devym kažkelinti | C35: Mid90s | D35: US | E35: 1479.95 | F35: 121 | G35: 1 | H35: 43602 | I35: A-ONE FILMS
A36: =IF(B36<>"",ROWS($B$6:B36),"") -> 31 | B36: Kafarnaumas | C36: Capernaum | D36: LB, FR, US | E36: 1459.92 | F36: 113 | G36: 1 | H36: 43560 | I36: Europos kinas
A37: =IF(B37<>"",ROWS($B$6:B37),"") -> 32 | B37: Didesni purslai | C37: A Bigger Splash | D37: IT, FR | E37: 1446.03 | F37: 109 | G37: 1 | H37: 42496 | I37: ACME Film
A38: =IF(B38<>"",ROWS($B$6:B38),"") -> 33 | B38: Mano mažoji sesutė Mirai | C38: Mirai no Mirai | D38: JP | E38: 1443.98 | F38: 170 | G38: 1 | H38: 43560 | I38: Europos kinas
A39: =IF(B39<>"",ROWS($B$6:B39),"") -> 34 | B39: Pats sau milijonierius | C39: Pats sau milijonierius | D39: LT | E39: 1431.6 | F39: 127 | G39: 3 | H39: 43756 | I39: Stambus planas
A40: =IF(B40<>"",ROWS($B$6:B40),"") -> 35 | B40: TAVĘS NIEKADA ČIA NEBUVO | C40: You Were Never Really Here | D40: US, UK, FR | E40: 1368 | F40: 118 | G40: 1 | H40: 43210 | I40: A-ONE FILMS
A41: =IF(B41<>"",ROWS($B$6:B41),"") -> 36 | B41: Ji | C41: Elle | D41: FR, DE, BE | E41: 1364.09 | F41: 92 | G41: 1 | H41: 42832 | I41: Europos kinas
A42: =IF(B42<>"",ROWS($B$6:B42),"") -> 37 | B42: Panikos ataka | C42: Panic Attack | D42: PL | E42: 1362.06 | F42: 107 | G42: 1 | H42: - | I42: Europos kinas
A43: =IF(B43<>"",ROWS($B$6:B43),"") -> 38 | B43: Šaltasis karas | C43: Cold War | D43: PL, UK, FR | E43: 1154.23 | F43: 78 | G43: 1 | H43: 43434 | I43: Garsų pasaulio įrašai
A44: =IF(B44<>"",ROWS($B$6:B44),"") -> 39 | B44: Mūsų pirmosios atostogos | C44: Premières vacances | D44: FR | E44: 1128 | F44: 97 | G44: 1 | H44: 43644 | I44: Kino Pasaka
A45: =IF(B45<>"",ROWS($B$6:B45),"") -> 40 | B45: Naujienų medžiotojas | C45: Nightcrawler | D45: US | E45: 1104 | F45: 99 | G45: 1 | H45: - | I45: Europos kinas
A46: =IF(B46<>"",ROWS($B$6:B46),"") -> 41 | B46: Aviuko Šono filmas. Fermagedonas | C46: Shaun the Sheep 2 (Shaun the Sheep Movie: Farmageddon) | D46: US, UK, FR | E46: 1069.95 | F46: 79 | G46: 3 | H46: 43784 | I46: ACME Film
A47: =IF(B47<>"",ROWS($B$6:B47),"") -> 42 | B47: Proksima | C47: Proxima | D47: FR | E47: 1058.3 | F47: 78 | G47: 1 | H47: - | I47: Europos kinas
A48: =IF(B48<>"",ROWS($B$6:B48),"") -> 43 | B48: Suteik man sparnus | C48: Donne moi des Ailes | D48: FR | E48: 995.28 | F48: 72 | G48: 1 | H48: - | I48: Europos kinas
A49: =IF(B49<>"",ROWS($B$6:B49),"") -> 44 | B49: Vasara | C49: Лето | D49: RU | E49: 952.37 | F49: 65 | G49: 1 | H49: 43560 | I49: Europos kinas
A50: =IF(B50<>"",ROWS($B$6:B50),"") -> 45 | B50: Tobuli melagiai | C50: Perfetti sconosciuti | D50: IT | E50: 926.4 | F50: 63 | G50: 1 | H50: 42832 | I50: Europos kinas
A51: =IF(B51<>"",ROWS($B$6:B51),"") -> 46 | B51: Ką mes veikiame šešėliuose | C51: What We Do in the Shadows | D51: NZ, US, DE | E51: 925.826 | F51: 77 | G51: 2 | H51: - | I51: VLG Film
A52: =IF(B52<>"",ROWS($B$6:B52),"") -> 47 | B52: Bakurau | C52: Bacurau | D52: BR, FR | E52: 921.36 | F52: 75 | G52: 1 | H52: - | I52: Europos kinas
A53: =IF(B53<>"",ROWS($B$6:B53),"") -> 48 | B53: Kita svajonių komanda | C53: The Other Dream Team | D53: LT, US | E53: 912 | F53: 87 | G53: 1 | H53: 41173 | I53: Incognito Films
A54: =IF(B54<>"",ROWS($B$6:B54),"") -> 49 | B54: Supernova | C54: Supernova | D54: PL | E54: 899.41 | F54: 67 | G54: 1 | H54: - | I54: Europos kinas
A55: =IF(B55<>"",ROWS($B$6:B55),"") -> 50 | B55: Nesijaudink, jis toli nenueis | C55: Don't Worry, He Won't Get Far on Foot | D55: US, FR | E55: 895.36 | F55: 76 | G55: 1 | H55: 43336 | I55: A-ONE FILMS
A56: =IF(B56<>"",ROWS($B$6:B56),"") -> 51 | B56: Mano akių šviesa | C56: Light of My Life | D56: US | E56: 888.75 | F56: 73 | G56: 1 | H56: 43700 | I56: Travolta
A57: =IF(B57<>"",ROWS($B$6:B57),"") -> 52 | B57: Norėtum! | C57: Magari | D57: IT | E57: 885.41 | F57: 67 | G57: 1 | H57: - | I57: Europos kinas
A58: =IF(B58<>"",ROWS($B$6:B58),"") -> 53 | B58: Karalienės Korgis | C58: Queens Corgi | D58: BE | E58: 879 | F58: 59 | G58: 1 | H58: 43546 | I58: ACME Film
A59: =IF(B59<>"",ROWS($B$6:B59),"") -> 54 | B59: Ema. Piromanė | C59: Ema | D59: ES | E59: 877.39 | F59: 79 | G59: 1 | H59: 43875 | I59: A-ONE FILMS
A60: =IF(B60<>"",ROWS($B$6:B60),"") -> 55 | B60: Sinonimai | C60: Synonymes | D60: FR, IL, DE | E60: 827.42 | F60: 115 | G60: 1 | H60: - | I60: Europos kinas
A61: =IF(B61<>"",ROWS($B$6:B61),"") -> 56 | B61: Ginklai Akimbo | C61: Guns Akimbo | D61: US | E61: 819.75 | F61: 64 | G61: 1 | H61: 43898 | I61: Travolta
A62: =IF(B62<>"",ROWS($B$6:B62),"") -> 57 | B62: GYVENIMAS KAIME IR KITI MAŽI STEBUKLAI | C62: GYVENIMAS KAIME IR KITI MAŽI STEBUKLAI | D62: US | E62: 811.42 | F62: 62 | G62: 1 | H62: - | I62: Kino Pasaka
A63: =IF(B63<>"",ROWS($B$6:B63),"") -> 58 | B63: Pajūrio šlaistūnas | C63: The Beach Bum | D63: US | E63: 807.43 | F63: 77 | G63: 1 | H63: 43553 | I63: Theatrical Film Distribution
A64: =IF(B64<>"",ROWS($B$6:B64),"") -> 59 | B64: Mumbajaus viešbutis | C64: Hotel Mumbai | D64: UK, IN | E64: 763 | F64: 61 | G64: 1 | H64: 43595 | I64: Travolta
A65: =IF(B65<>"",ROWS($B$6:B65),"") -> 60 | B65: Adelainos amžius | C65: Age Of Adaline | D65: US | E65: 708 | F65: 63 | G65: 1 | H65: 42125 | I65: ACME Film
A66: =IF(B66<>"",ROWS($B$6:B66),"") -> 61 | B66: Visa tiesa apie divą | C66: The Truth | D66: FR, JP | E66: 707.54 | F66: 66 | G66: 1 | H66: - | I66: Europos kinas
A67: =IF(B67<>"",ROWS($B$6:B67),"") -> 62 | B67: Matijas ir Maksimas | C67: Matthias et Maxime | D67: CA | E67: 667.5 | F67: 78 | G67: 1 | H67: - | I67: VLG Film
A68: =IF(B68<>"",ROWS($B$6:B68),"") -> 63 | B68: Angelas | C68: En Angel | D68: AR, ES | E68: 608.6 | F68: 55 | G68: 1 | H68: 43560 | I68: Europos kinas
A69: =IF(B69<>"",ROWS($B$6:B69),"") -> 64 | B69: (Ne) Tikros prancūziškos vestuvės 2 | C69: Qu'est-ce qu'on a fait au Bon Dieu? 2 | D69: FR | E69: 600 | F69: 53 | G69: 1 | H69: 43714 | I69: Greta Garbo Films
A70: =IF(B70<>"",ROWS($B$6:B70),"") -> 65 | B70: Arkties Komanda | C70: Arctic Justice | D70: UK, KR, IN | E70: 592.9 | F70: 126 | G70: 4 | H70: 43875 | I70: VLG Film
A71: =IF(B71<>"",ROWS($B$6:B71),"") -> 66 | B71: Dvilypis meilužis | C71: Lamant double | D71: FR | E71: 587.58 | F71: 42 | G71: 1 | H71: 43056 | I71: A-ONE FILMS
A72: =IF(B72<>"",ROWS($B$6:B72),"") -> 67 | B72: Gražus sūnus | C72: Beautiful Boy | D72: US | E72: 586.58 | F72: 52 | G72: 1 | H72: 43560 | I72: Europos kinas
A73: =IF(B73<>"",ROWS($B$6:B73),"") -> 68 | B73: Ekstazė | C73: Climax | D73: FR, BE | E73: 545.61 | F73: 40 | G73: 1 | H73: 43483 | I73: VLG Film
A74: =IF(B74<>"",ROWS($B$6:B74),"") -> 69 | B74: Patersonas | C74: Paterson | D74: US, FR, DE | E74: 518.63 | F74: 52 | G74: 1 | H74: 42776 | I74: A-ONE FILMS
A75: =IF(B75<>"",ROWS($B$6:B75),"") -> 70 | B75: Šiurpios istorijos pasakojimui tamsoje | C75: Scary Stories to tell In The Dark | D75: US | E75: 517.5 | F75: 37 | G75: 1 | H75: 43686 | I75: ACME Film
A76: =IF(B76<>"",ROWS($B$6:B76),"") -> 71 | B76: Balerina | C76: Balerina | D76: CA, FR | E76: 480 | F76: 32 | G76: 1 | H76: 42748 | I76: ACME Film
A77: =IF(B77<>"",ROWS($B$6:B77),"") -> 72 | B77: Mirties app‘sas | C77: Countdown | D77: US | E77: 476.3 | F77: 39 | G77: 2 | H77: 43763 | I77: ACME Film
A78: =IF(B78<>"",ROWS($B$6:B78),"") -> 73 | B78: Geras laikas | C78: Good time | D78: US | E78: 446.5 | F78: 36 | G78: 1 | H78: 42993 | I78: A-ONE FILMS
A79: =IF(B79<>"",ROWS($B$6:B79),"") -> 74 | B79: Gordonas ir Padi | C79: Gordon och Paddy | D79: SE | E79: 425.75 | F79: 29 | G79: 1 | H79: 43560 | I79: Europos kinas
A80: =IF(B80<>"",ROWS($B$6:B80),"") -> 75 | B80: Gražuolė ir Sebastianas | C80: Belle et Sébastien: | D80: FR | E80: 419.71 | F80: 29 | G80: 1 | H80: 43189 | I80: Europos kinas
A81: =IF(B81<>"",ROWS($B$6:B119),"") -> 114 | B81: Šuniškas pokštas | C81: Trouble | D81: CA, US | E81: 393.119 | F81: 38 | G81: 1 | H81: 43749 | I81: ACME Film
A82: =IF(B82<>"",ROWS($B$6:B82),"") -> 77 | B82: Dalaso Klubas | C82: Dallas Buyers Club | D82: US | E82: 384 | F82: 26 | G82: 1 | H82: 41718 | I82: ACME Film
A83: =IF(B83<>"",ROWS($B$6:B83),"") -> 78 | B83: Tobulas vyras | C83: L'homme fidèle | D83: FR | E83: 335.76 | F83: 25 | G83: 1 | H83: 43588 | I83: Kino Pasaka
A84: =IF(B84<>"",ROWS($B$6:B84),"") -> 79 | B84: Dilili Paryžiuje | C84: Dilili à Paris | D84: FR | E84: 333.75 | F84: 32 | G84: 1 | H84: 43896 | I84: Estinfilm
A85: =IF(B85<>"",ROWS($B$6:B85),"") -> 80 | B85: Importinis jaunikis | C85: Importinis jaunikis | D85: LT | E85: 328 | F85: 23 | G85: 2 | H85: 43861 | I85: ACME Film
A86: =IF(B86<>"",ROWS($B$6:B86),"") -> 81 | B86: Mamytė | C86: Mommy | D86: CA | E86: 321.75 | F86: 37 | G86: 1 | H86: 42174 | I86: Europos kinas
A87: =IF(B87<>"",ROWS($B$6:B87),"") -> 82 | B87: Komivojažierius | C87: Forushande | D87: IR, FR | E87: 317.75 | F87: 56 | G87: 1 | H87: 42748 | I87: Kino Aljansas
A88: =IF(B88<>"",ROWS($B$6:B88),"") -> 83 | B88: Playmobil Filmas | C88: Playmobil: Movie | D88: FR | E88: 315 | F88: 22 | G88: 1 | H88: 43763 | I88: ACME Film
A89: =IF(B89<>"",ROWS($B$6:B89),"") -> 84 | B89: Pasaulis pirklauso Tau | C89: Le monde ou rien | D89: FR | E89: 313.79 | F89: 40 | G89: 1 | H89: - | I89: Europos kinas
A90: =IF(B90<>"",ROWS($B$6:B90),"") -> 85 | B90: Džonas Vikas 3 | C90: John Wick: Chapter 3 - Parabellum | D90: US | E90: 312.636 | F90: 35 | G90: 2 | H90: 43602 | I90: ACME Film
A91: =IF(B91<>"",ROWS($B$6:B91),"") -> 86 | B91: Vaikų žaidimai | C91: Child's Play | D91: US | E91: 305.8 | F91: 24 | G91: 1 | H91: 43636 | I91: ACME Film
A92: =IF(B92<>"",ROWS($B$6:B92),"") -> 87 | B92: Mažylio Nikolia atostogos | C92: Les Vacances du petit Nicolas | D92: FR | E92: 270 | F92: 17 | G92: 1 | H92: 41936 | I92: A-ONE FILMS
A93: =IF(B93<>"",ROWS($B$6:B93),"") -> 88 | B93: Tarp pilkų debesų | C93: Ashes in the Snow | D93: LT | E93: 268.5 | F93: 19 | G93: 1 | H93: 43385 | I93: ACME Film
A94: =IF(B94<>"",ROWS($B$6:B94),"") -> 89 | B94: Bjaurios lėlės | C94: Uggly Dolls | D94: US | E94: 241.5 | F94: 17 | G94: 1 | H94: 43651 | I94: ACME Film
A95: =IF(B95<>"",ROWS($B$6:B95),"") -> 90 | B95: REDIRECTED | C95: REDIRECTED | D95: LT | E95: 240 | F95: 17 | G95: 1 | H95: 41649 | I95: Cinema Cult Distribution
A96: =IF(B96<>"",ROWS($B$6:B96),"") -> 91 | B96: Tulpės, meilė, garbė ir dviratis | C96: Tulipani: Liefde, eer en een fiets | D96: NL | E96: 237.83 | F96: 17 | G96: 1 | H96: 43812 | I96: Artbox
A97: =IF(B97<>"",ROWS($B$6:B97),"") -> 92 | B97: Floridos projektas | C97: The Florida Project | D97: US | E97: 229.87 | F97: 167 | G97: 1 | H97: 43196 | I97: A-ONE FILMS
A98: =IF(B98<>"",ROWS($B$6:B98),"") -> 93 | B98: Nepaprasta Remio kelionė | C98: Rémi sans famille | D98: FR | E98: 225.81 | F98: 25 | G98: 1 | H98: 43707 | I98: Estinfilm
A99: =IF(B99<>"",ROWS($B$6:B99),"") -> 94 | B99: Zero 3 | C99: Zero 3 | D99: LT | E99: 213 | F99: 15 | G99: 1 | H99: 42762 | I99: Cinema Cult Distribution
A100: =IF(B100<>"",ROWS($B$6:B100),"") -> 95 | B100: Berniukas ir pasaulis | C100: O Menino e o Mundo | D100: BR | E100: 212.84 | F100: 21 | G100: 1 | H100: - | I100: Europos kinas
A101: =IF(B101<>"",ROWS($B$6:B101),"") -> 96 | B101: Aš iš kitos veidrodžio pusės | C101: Double Trouble | D101: DE | E101: 192 | F101: 15 | G101: 1 | H101: 43602 | I101: Travolta
...

Sheet Birželis
A1: ='2020'!A1 -> 2020
A2: ='2020'!A2 -> Lietuvos kino teatruose rodytų filmų TOP
A3: Birželis
A5: Eil. Nr. | B5: Filmo pavadinimas | C5: Filmo pavadinimas originalo kalba | D5: Kilmės šalis | E5: Pajamos | F5: Žiūrovų skaičius | G5: Kopijų skaičius | H5: Premjeros data | I5: Platintojas
A6: =IF(B6<>"",ROWS($B$6:B6),"") -> 1 | B6: Nova Lituania | C6: Nova Lituania | D6: LT | E6: 16618.85 | F6: 3235 | G6: 18 | H6: 44008 | I6: Čiobreliai (M-films)
A7: =IF(B7<>"",ROWS($B$6:B7),"") -> 2 | B7: Ežiukas Sonic | C7: Sonic The Hedgehog | D7: US, JP, CA | E7: 15915.32 | F7: 3269 | G7: 14 | H7: 44008 | I7: Dukine Film Distribution / Paramount Pictures
A8: =IF(B8<>"",ROWS($B$6:B8),"") -> 3 | B8: Kaponė | C8: Capone | D8: US | E8: 13341 | F8: 2614 | G8: 12 | H8: 44008 | I8: Garsų pasaulio įrašai
A9: =IF(B9<>"",ROWS($B$6:B9),"") -> 4 | B9: Viešbutis BELGRADAS | C9: Отель «Белград» | D9: RU | E9: 7024 | F9: 1466 | G9: 11 | H9: 44008 | I9: Garsų pasaulio įrašai
A10: =IF(B10<>"",ROWS($B$6:B10),"") -> 5 | B10: Meile tikiu | C10: I still believe | D10: US | E10: 5434.67 | F10: 949 | G10: 12 | H10: 44008 | I10: ACME Film
A11: =IF(B11<>"",ROWS($B$6:B11),"") -> 6 | B11: Pirmyn | C11: Onward | D11: US | E11: 5272.28 | F11: 1195 | G11: 9 | H11: 43896 | I11: Theatrical Film Distribution / WDSMPI
A12: =IF(B12<>"",ROWS($B$6:B12),"") -> 7 | B12: Augintiniai susivienija | C12: Pets United | D12: UK, CN, DE | E12: 3040 | F12: 725 | G12: 3 | H12: 43882 | I12: Garsų pasaulio įrašai
A13: =IF(B13<>"",ROWS($B$6:B13),"") -> 8 | B13: Parazitas | C13: Gisaengchung | D13: KR | E13: 2436.2 | F13: 471 | G13: 5 | H13: 43987 | I13: Europos kinas
A14: =IF(B14<>"",ROWS($B$6:B14),"") -> 9 | B14: Kristaus kūnas | C14: Boże Ciało | D14: PL, FR | E14: 2325 | F14: 479 | G14: 2 | H14: 43987 | I14: Europos kinas
A15: =IF(B15<>"",ROWS($B$6:B15),"") -> 10 | B15: Nematomas žmogus | C15: The Invisible Man | D15: US | E15: 1806.35 | F15: 295 | G15: 5 | H15: 43896 | I15: Dukine Film Distribution / Universal Pictures International
A16: =IF(B16<>"",ROWS($B$6:B16),"") -> 11 | B16: Bloodshot | C16: Bloodshot | D16: US | E16: 1614 | F16: 268 | G16: 4 | H16: 43903 | I16: ACME Film
A17: =IF(B17<>"",ROWS($B$6:B17),"") -> 12 | B17: Bjaurusis aš 3 | C17: Despicable Me 3 | D17: US | E17: 1542.2 | F17: 300 | G17: 1 | H17: 42916 | I17: Dukine Film Distribution / Universal Pictures International
A18: =IF(B18<>"",ROWS($B$6:B18),"") -> 13 | B18: Tarp žvaigždžių | C18: Interstellar | D18: US | E18: 1423.5 | F18: 220 | G18: 4 | H18: 41970 | I18: ACME Film / WB
A19: =IF(B19<>"",ROWS($B$6:B19),"") -> 14 | B19: Bėgantis skustuvo ašmenimis 2049 | C19: Blade Runner 2049 | D19: US | E19: 1386.4 | F19: 226 | G19: 4 | H19: 43014 | I19: ACME Film / SONY
A20: =IF(B20<>"",ROWS($B$6:B20),"") -> 15 | B20: Žanas Polis Gotjė. Sapnas, vizija, šou | C20: Jean Paul Gaultier: Freak and Chic | D20: FR | E20: 1235.6 | F20: 267 | G20: 9 | H20: 44008 | I20: Best Film
A21: =IF(B21<>"",ROWS($B$6:B21),"") -> 16 | B21: Jonukas ir Grytutė. Siaubo pasaka | C21: Gretel & Hansel | D21: US, IE, CA | E21: 1103.6 | F21: 193 | G21: 4 | H21: 43868 | I21: Travolta
A22: =IF(B22<>"",ROWS($B$6:B22),"") -> 17 | B22: Garsioji meškinų invazija į Siciliją | C22: La Fameuse Invasion des ours en Sicile | D22: FR, IT | E22: 988 | F22: 255 | G22: 1 | H22: 43987 | I22: Europos kinas
A23: =IF(B23<>"",ROWS($B$6:B23),"") -> 18 | B23: Matijas ir Maksimas | C23: Matthias et Maxime | D23: CA | E23: 988 | F23: 212 | G23: 1 | H23: 43973 | I23: VLG Film
A24: =IF(B24<>"",ROWS($B$6:B24),"") -> 19 | B24: Oazė: žaidimas prasideda | C24: Ready Player One | D24: US | E24: 902.8 | F24: 152 | G24: 8 | H24: 43189 | I24: ACME Film / WB
A25: =IF(B25<>"",ROWS($B$6:B25),"") -> 20 | B25: Suteik man sparnus | C25: Donne moi des Ailes | D25: FR | E25: 768 | F25: 235 | G25: 4 | H25: 43987 | I25: Europos kinas
A26: =IF(B26<>"",ROWS($B$6:B26),"") -> 21 | B26: Saulės kultas | C26: Midsommar | D26: US, SE | E26: 636 | F26: 96 | G26: 1 | H26: 43651 | I26: VLG Film
A27: =IF(B27<>"",ROWS($B$6:B27),"") -> 22 | B27: Ginklai Akimbo | C27: Guns Akimbo | D27: UK, DE, NZ | E27: 604.05 | F27: 87 | G27: 2 | H27: 43896 | I27: Travolta
A28: =IF(B28<>"",ROWS($B$6:B28),"") -> 23 | B28: Šėtono vaikas II | C28: Brahms: The Boy 2 | D28: US | E28: 568 | F28: 84 | G28: 4 | H28: 43889 | I28: ACME Film
A29: =IF(B29<>"",ROWS($B$6:B29),"") -> 24 | B29: Bohemijos rapsodija | C29: Bohemian Rhapsody | D29: UK. US | E29: 552.1 | F29: 112 | G29: 7 | H29: 43406 | I29: Theatrical Film Distribution / 20th Century Fox
A30: =IF(B30<>"",ROWS($B$6:B30),"") -> 25 | B30: Visa tiesa apie divą | C30: The Truth | D30: FR, JP | E30: 521.5 | F30: 125 | G30: 3 | H30: 43987 | I30: Europos kinas
A31: =IF(B31<>"",ROWS($B$6:B31),"") -> 26 | B31: Daktaras Dolitlis | C31: Dolittle | D31: US | E31: 518.6 | F31: 109 | G31: 1 | H31: 43847 | I31: Dukine Film Distribution / Universal Pictures International
A32: =IF(B32<>"",ROWS($B$6:B32),"") -> 27 | B32: Tylos zona | C32: A Quiet Place | D32: US | E32: 514.5 | F32: 86 | G32: 1 | H32: 43196 | I32: Dukine Film Distribution / Paramount Pictures
A33: =IF(B33<>"",ROWS($B$6:B33),"") -> 28 | B33: Gravitacija | C33: Gravity 3D | D33: US | E33: 500 | F33: 87 | G33: 4 | H33: 44002 | I33: ACME Film / WB
A34: =IF(B34<>"",ROWS($B$6:B34),"") -> 29 | B34: Ypatingieji | C34: The Specials | D34: FR | E34: 444.5 | F34: 85 | G34: 3 | H34: 43868 | I34: Theatrical Film Distribution
A35: =IF(B35<>"",ROWS($B$6:B35),"") -> 30 | B35: Nuostabi epocha | C35: La Belle Epoque | D35: FR | E35: 402 | F35: 104 | G35: 1 | H35: 43805 | I35: VLG Film
A36: =IF(B36<>"",ROWS($B$6:B36),"") -> 31 | B36: Pašėlę vyrukai amžiams | C36: Bad Boys for Life | D36: US | E36: 355.5 | F36: 54 | G36: 4 | H36: 43847 | I36: ACME Film / SONY
A37: =IF(B37<>"",ROWS($B$6:B37),"") -> 32 | B37: Arkties Komanda | C37: Arctic Justice | D37: UK, KR, IN | E37: 329 | F37: 63 | G37: 1 | H37: 43875 | I37: VLG Film
A38: =IF(B38<>"",ROWS($B$6:B38),"") -> 33 | B38: Mafijos išdavikas | C38: Il Traditore | D38: FR, IT, DE | E38: 283.62 | F38: 61 | G38: 4 | H38: 43847 | I38: A-One Films
A39: =IF(B39<>"",ROWS($B$6:B39),"") -> 34 | B39: Arčiau debesų | C39: Cloudboy | D39: BG, SE, NL, NO | E39: 256 | F39: 56 | G39: 1 | H39: 42988 | I39: Skalvijos kino centras
A40: =IF(B40<>"",ROWS($B$6:B40),"") -> 35 | B40: TAS: Antroji dalis | C40: IT 2 | D40: US | E40: 175.5 | F40: 27 | G40: 2 | H40: 43714 | I40: ACME Film / WB
A41: =IF(B41<>"",ROWS($B$6:B41),"") -> 36 | B41: Protėvių šauksmas | C41: The Call of The Wild | D41: US, CA | E41: 175.5 | F41: 32 | G41: 3 | H41: 43882 | I41: Theatrical Film Distribution / 20th Century Fox
A42: =IF(B42<>"",ROWS($B$6:B42),"") -> 37 | B42: Košmarų sala | C42: Fantasy Island | D42: US | E42: 171 | F42: 29 | G42: 2 | H42: 43875 | I42: ACME Film / SONY
A43: =IF(B43<>"",ROWS($B$6:B43),"") -> 38 | B43: Martinas Idenas | C43: Martin Eden | D43: IT | E43: 157.7 | F43: 29 | G43: 1 | H43: 43987 | I43: Europos kinas
A44: =IF(B44<>"",ROWS($B$6:B44),"") -> 39 | B44: Piktieji paukščiai. Filmas 2 | C44: The Angry Birds Movie 2 | D44: FI, US | E44: 156.5 | F44: 32 | G44: 2 | H44: 43700 | I44: ACME Film / SONY
A45: =IF(B45<>"",ROWS($B$6:B45),"") -> 40 | B45: Džokeris | C45: Joker | D45: US, CA | E45: 133.5 | F45: 21 | G45: 2 | H45: 43742 | I45: ACME Film / WB
A46: =IF(B46<>"",ROWS($B$6:B46),"") -> 41 | B46: Liepsnojančios moters portretas | C46: Portrait De La Jeune Fille En Feu | D46: FR | E46: 131.5 | F46: 33 | G46: 2 | H46: 43987 | I46: Europos kinas
A47: =IF(B47<>"",ROWS($B$6:B47),"") -> 42 | B47: Proksima | C47: Proxima | D47: FR | E47: 116 | F47: 34 | G47: 1 | H47: 43987 | I47: Europos kinas
A48: =IF(B48<>"",ROWS($B$6:B48),"") -> 43 | B48: Tamsta Varlius | C48: Meester Kikker | D48: NL | E48: 84 | F48: 21 | G48: 1 | H48: 42654 | I48: Skalvijos kino centras
A49: =IF(B49<>"",ROWS($B$6:B49),"") -> 44 | B49: Tas | C49: IT | D49: US | E49: 82 | F49: 13 | G49: 1 | H49: 42986 | I49: ACME Film / WB
A50: =IF(B50<>"",ROWS($B$6:B50),"") -> 45 | B50: QT8: Quentin Tarantino | C50: QT8: Quentin Tarantino | D50: US | E50: 73.9 | F50: 21 | G50: 1 | H50: 43896 | I50: VLG Film
A51: =IF(B51<>"",ROWS($B$6:B51),"") -> 46 | B51: Gyvenimas kaime ir kiti maži stebuklai | C51: The Biggest Little Farm | D51: US | E51: 73 | F51: 18 | G51: 1 | H51: 43987 | I51: Kino Pasaka
A52: =IF(B52<>"",ROWS($B$6:B52),"") -> 47 | B52: Gauruoti šnipai | C52: Spycies | D52: CN, FR | E52: 71.5 | F52: 15 | G52: 1 | H52: 43861 | I52: ACME Film
A53: =IF(B53<>"",ROWS($B$6:B53),"") -> 48 | B53: Gordonas ir Padi | C53: Gordon och Paddy | D53: SE | E53: 63 | F53: 21 | G53: 1 | H53: 43560 | I53: Europos kinas
A54: =IF(B54<>"",ROWS($B$6:B54),"") -> 49 | B54: Žmogus voras: Į naują visatą | C54: Spiderman into the Spiderverse | D54: US | E54: 61 | F54: 12 | G54: 1 | H54: 43448 | I54: ACME Film / SONY
A55: =IF(B55<>"",ROWS($B$6:B55),"") -> 50 | B55: Sinonimai | C55: Synonymes | D55: FR, IL, DE | E55: 60 | F55: 18 | G55: 2 | H55: 43997 | I55: Europos kinas
A56: =IF(B56<>"",ROWS($B$6:B56),"") -> 51 | B56: Labai moteriškos istorijos | C56: Очень женские истории | D56: RU | E56: 59.5 | F56: 13 | G56: 3 | H56: 43903 | I56: Theatrical Film Distribution
A57: =IF(B57<>"",ROWS($B$6:B57),"") -> 52 | B57: Muzika tavo rankose | C57: Au bout des doigts | D57: FR | E57: 57 | F57: 19 | G57: 1 | H57: 43644 | I57: Greta Garbo Films
A58: =IF(B58<>"",ROWS($B$6:B58),"") -> 53 | B58: Švilpautojai (The Whistlers) | C58: The Whistlers | D58: RO, FR, DE, SE | E58: 43.5 | F58: 12 | G58: 1 | H58: 43987 | I58: Europos kinas
A59: =IF(B59<>"",ROWS($B$6:B59),"") -> 54 | B59: Pūkuota šnipė | C59: Marnie’s World | D59: DE, BE | E59: 38 | F59: 13 | G59: 1 | H59: 43637 | I59: Garsų pasaulio įrašai
A60: =IF(B60<>"",ROWS($B$6:B60),"") -> 55 | B60: Importinis jaunikis | C60: Importinis jaunikis | D60: LT | E60: 35.8 | F60: 6 | G60: 1 | H60: 43861 | I60: ACME Film
A61: =IF(B61<>"",ROWS($B$6:B61),"") -> 56 | B61: Aukso žirgas | C61: Golden Horse | D61: LT, LV, LU, DK | E61: 33 | F61: 11 | G61: 1 | H61: 41985 | I61: ACME Film
A62: =IF(B62<>"",ROWS($B$6:B62),"") -> 57 | B62: Gražiausi gyvenimo metai | C62: Les plus belles années d'une vie | D62: FR | E62: 31 | F62: 10 | G62: 1 | H62: 44011 | I62: Europos kinas
A63: =IF(B63<>"",ROWS($B$6:B63),"") -> 58 | B63: Balta balta diena | C63: Hvítur, Hvítur Dagur | D63: IS, DK, SE | E63: 26 | F63: 8 | G63: 4 | H63: 44011 | I63: Europos kinas
A64: =IF(B64<>"",ROWS($B$6:B64),"") -> 59 | B64: Nežinomas šventasis | C64: The Unknown Saint | D64: MA, FR, QA | E64: 23 | F64: 7 | G64: 4 | H64: 43889 | I64: A-one Films
E65: =SUBTOTAL(109,Table3_Birželis[Pajamos]) -> 93783.54 | F65: =SUBTOTAL(109,Table3_Birželis[Žiūrovų skaičius]) -> 18710

Sheet Liepa
A1: ='2020'!A1 -> 2020
A2: ='2020'!A2 -> Lietuvos kino teatruose rodytų filmų TOP
A3: Liepa
A5: Eil. Nr. | B5: Filmo pavadinimas | C5: Filmo pavadinimas originalo kalba | D5: Kilmės šalis | E5: Pajamos | F5: Žiūrovų skaičius | G5: Kopijų skaičius | H5: Premjeros data | I5: Platintojas
A6: =IF(B6<>"",ROWS($B$6:B6),"") -> 1 | B6: Ežiukas Sonic | C6: Sonic The Hedgehog | D6: US, JP, CA | E6: 57969.45 | F6: 12125 | G6: 15 | H6: 44008 | I6: Dukine Film Distribution / Paramount Pictures
A7: =IF(B7<>"",ROWS($B$6:B7),"") -> 2 | B7: Kaponė | C7: Capone | D7: US | E7: 44656 | F7: 6794 | G7: 10 | H7: 44008 | I7: Garsų pasaulio įrašai
A8: =IF(B8<>"",ROWS($B$6:B8),"") -> 3 | B8: Nova Lituania | C8: Nova Lituania | D8: LT | E8: 38853.43 | F8: 6909 | G8: 18 | H8: 44008 | I8: Čiobreliai (M-films)
A9: =IF(B9<>"",ROWS($B$6:B9),"") -> 4 | B9: Pirmyn | C9: Onward | D9: US | E9: 35816.86 | F9: 8015 | G9: 11 | H9: 43896 | I9: Theatrical Film Distribution / WDSMPI
A10: =IF(B10<>"",ROWS($B$6:B10),"") -> 5 | B10: Gnomai sugrįžta | C10: The Elfkin | D10: DE | E10: 28623 | F10: 6663 | G10: 15 | H10: 44029 | I10: Garsų pasaulio įrašai
A11: =IF(B11<>"",ROWS($B$6:B11),"") -> 6 | B11: Dingęs princas | C11: Le prince oublié | D11: FR, BE | E11: 25767.98 | F11: 5481 | G11: 16 | H11: 44022 | I11: ACME Film
A12: =IF(B12<>"",ROWS($B$6:B12),"") -> 7 | B12: Jaga. Tamsiojo miško košmaras | C12: Яга. Кошмар тёмного леса | D12: RU | E12: 24631 | F12: 4189 | G12: 15 | H12: 44015 | I12: Garsų pasaulio įrašai
A13: =IF(B13<>"",ROWS($B$6:B13),"") -> 8 | B13: Sek paskui mane | C13: Follow me | D13: US | E13: 24314 | F13: 4220 | G13: 15 | H13: 44036 | I13: Garsų pasaulio įrašai
A14: =IF(B14<>"",ROWS($B$6:B14),"") -> 9 | B14: Vikingas Vikas | C14: Vic the Viking and the Magic Sword | D14: FR | E14: 23758.77 | F14: 5579 | G14: 16 | H14: 44015 | I14: VLG Film
A15: =IF(B15<>"",ROWS($B$6:B15),"") -> 10 | B15: Forpostas | C15: The Outpost | D15: BG,US | E15: 17628 | F15: 2735 | G15: 13 | H15: 44036 | I15: Garsų pasaulio įrašai
A16: =IF(B16<>"",ROWS($B$6:B16),"") -> 11 | B16: Viešbutis BELGRADAS | C16: Отель «Белград» | D16: RU | E16: 16234 | F16: 2710 | G16: 6 | H16: 44008 | I16: Garsų pasaulio įrašai
A17: =IF(B17<>"",ROWS($B$6:B17),"") -> 12 | B17: Reivas | C17: Beats | D17: UK | E17: 15373.91 | F17: 2657 | G17: 14 | H17: 44022 | I17: Best Film
A18: =IF(B18<>"",ROWS($B$6:B18),"") -> 13 | B18: Audros vaikas | C18: Storm boy | D18: AU | E18: 12883.91 | F18: 2755 | G18: 15 | H18: 44036 | I18: Best Film
A19: =IF(B19<>"",ROWS($B$6:B19),"") -> 14 | B19: Mis nepriklausoma | C19: Misbehaviour | D19: UK | E19: 12283.68 | F19: 2109 | G19: 16 | H19: 44029 | I19: ACME Film
A20: =IF(B20<>"",ROWS($B$6:B20),"") -> 15 | B20: Meile tikiu | C20: I still believe | D20: US | E20: 11600.02 | F20: 2380 | G20: 9 | H20: 44008 | I20: ACME Film
A21: =IF(B21<>"",ROWS($B$6:B21),"") -> 16 | B21: Vienas įkvėpimas | C21: Один вдох | D21: RU | E21: 8188.11 | F21: 1374 | G21: 8 | H21: 44022 | I21: Best Film
A22: =IF(B22<>"",ROWS($B$6:B22),"") -> 17 | B22: Olegas | C22: Oleg | D22: LT, LV, BE, FR | E22: 5932.37 | F22: 1365 | G22: 21 | H22: 44029 | I22: In Script
A23: =IF(B23<>"",ROWS($B$6:B23),"") -> 18 | B23: Kelionė į Graikiją | C23: Trip To Greece | D23: UK | E23: 5162.25 | F23: 918 | G23: 16 | H23: 44029 | I23: Theatrical Film Distribution
A24: =IF(B24<>"",ROWS($B$6:B24),"") -> 19 | B24: Paryžiaus undinėlė | C24: Mermaid in Paris | D24: FR | E24: 4600 | F24: 839 | G24: 15 | H24: 44022 | I24: VLG Film
A25: =IF(B25<>"",ROWS($B$6:B25),"") -> 20 | B25: Mano geriausias draugas | C25: A Very Bad Friend | D25: FR | E25: 4542.18 | F25: 755 | G25: 8 | H25: 44015 | I25: Best Film
A26: =IF(B26<>"",ROWS($B$6:B26),"") -> 21 | B26: Augintiniai susivienija | C26: Pets United | D26: UK, CN, DE | E26: 3607 | F26: 1195 | G26: 3 | H26: 43882 | I26: Garsų pasaulio įrašai
A27: =IF(B27<>"",ROWS($B$6:B27),"") -> 22 | B27: Mirtina nuoma | C27: Rental | D27: US | E27: 3586.55 | F27: 620 | G27: 14 | H27: 44043 | I27: ACME Film
A28: =IF(B28<>"",ROWS($B$6:B28),"") -> 23 | B28: Bjaurusis aš 3 | C28: Despicable Me 3 | D28: US | E28: 3440.3 | F28: 1120 | G28: 6 | H28: 42916 | I28: Dukine Film Distribution / Universal Pictures International
A29: =IF(B29<>"",ROWS($B$6:B29),"") -> 24 | B29: Aš vis dar čia | C29: #IAmHere | D29: FR | E29: 3376.98 | F29: 587 | G29: 14 | H29: 44015 | I29: Theatrical Film Distribution
A30: =IF(B30<>"",ROWS($B$6:B30),"") -> 25 | B30: Alisa | C30: Alice | D30: FR, AU | E30: 3361.8 | F30: 604 | G30: 15 | H30: 44036 | I30: Best Film
A31: =IF(B31<>"",ROWS($B$6:B31),"") -> 26 | B31: Kaip pavogti paveikslą | C31: номер один | D31: RU | E31: 2861.17 | F31: 467 | G31: 10 | H31: 44015 | I31: Theatrical Film Distribution
A32: =IF(B32<>"",ROWS($B$6:B32),"") -> 27 | B32: Bloodshot | C32: Bloodshot | D32: US | E32: 2688.29 | F32: 563 | G32: 4 | H32: 43903 | I32: ACME Film
A33: =IF(B33<>"",ROWS($B$6:B33),"") -> 28 | B33: Tarp žvaigždžių | C33: Interstellar | D33: US | E33: 2518.5 | F33: 434 | G33: 4 | H33: 41970 | I33: ACME Film / WB
A34: =IF(B34<>"",ROWS($B$6:B34),"") -> 29 | B34: Šėtono vaikas II | C34: Brahms: The Boy 2 | D34: US | E34: 2266.97 | F34: 385 | G34: 4 | H34: 43889 | I34: ACME Film
A35: =IF(B35<>"",ROWS($B$6:B35),"") -> 30 | B35: Užsimaskavę šnipai | C35: Spies In Disguise | D35: US | E35: 2208.3 | F35: 473 | G35: 6 | H35: 43840 | I35: Theatrical Film Distribution / WDSMPI
A36: =IF(B36<>"",ROWS($B$6:B36),"") -> 31 | B36: Parazitas | C36: Gisaengchung | D36: KR | E36: 1772 | F36: 417 | G36: 4 | H36: 43987 | I36: Europos kinas
A37: =IF(B37<>"",ROWS($B$6:B37),"") -> 32 | B37: Ginklai Akimbo | C37: Guns Akimbo | D37: UK, DE, NZ | E37: 1239.5 | F37: 200 | G37: 4 | H37: 43896 | I37: Travolta
A38: =IF(B38<>"",ROWS($B$6:B38),"") -> 33 | B38: Skausmas ir šlovė | C38: Dolor y gloria | D38: ES | E38: 1200 | F38: 480 | G38: 1 | H38: 43630 | I38: VLG Film
A39: =IF(B39<>"",ROWS($B$6:B39),"") -> 34 | B39: Ledo šalis 2 | C39: Frozen 2 | D39: US | E39: 1144.06 | F39: 233 | G39: 5 | H39: 43824 | I39: Theatrical Film Distribution / WDSMPI
A40: =IF(B40<>"",ROWS($B$6:B40),"") -> 35 | B40: Neliečiamasis | C40: Untouchable | D40: UK | E40: 1132.1 | F40: 197 | G40: 7 | H40: 44029 | I40: Best Film
A41: =IF(B41<>"",ROWS($B$6:B41),"") -> 36 | B41: Importinis jaunikis | C41: Importinis jaunikis | D41: LT | E41: 930.4 | F41: 207 | G41: 3 | H41: 43861 | I41: ACME Film
A42: =IF(B42<>"",ROWS($B$6:B42),"") -> 37 | B42: Sputnikas | C42: Спутник | D42: RU | E42: 902.1 | F42: 150 | G42: 11 | H42: 44043 | I42: ACME Film
A43: =IF(B43<>"",ROWS($B$6:B43),"") -> 38 | B43: Oazė: žaidimas prasideda | C43: Ready Player One | D43: US | E43: 866.5 | F43: 153 | G43: 3 | H43: 43189 | I43: ACME Film / WB
A44: =IF(B44<>"",ROWS($B$6:B44),"") -> 39 | B44: Arkties Komanda | C44: Arctic Justice | D44: UK, KR, IN | E44: 842 | F44: 440 | G44: 3 | H44: 43875 | I44: VLG Film
A45: =IF(B45<>"",ROWS($B$6:B45),"") -> 40 | B45: Slaptas augintinių gyvenimas 2 | C45: Secret Life of Pets 2 | D45: US | E45: 701 | F45: 344 | G45: 4 | H45: 43616 | I45: Dukine Film Distribution / Universal Pictures International
A46: =IF(B46<>"",ROWS($B$6:B46),"") -> 41 | B46: Kaip prisijaukinti slibiną 3 | C46: How to Train Your Dragon: The Hidden World | D46: US | E46: 674 | F46: 338 | G46: 5 | H46: 43532 | I46: Dukine Film Distribution / Universal Pictures International
A47: =IF(B47<>"",ROWS($B$6:B47),"") -> 42 | B47: Kristaus kūnas | C47: Boże Ciało | D47: PL, FR | E47: 666 | F47: 157 | G47: 4 | H47: 43987 | I47: Europos kinas
A48: =IF(B48<>"",ROWS($B$6:B48),"") -> 43 | B48: Klara ir stebuklingasis drakonas | C48: Clara | D48: UA | E48: 665.31 | F48: 260 | G48: 1 | H48: 43868 | I48: Travolta
A49: =IF(B49<>"",ROWS($B$6:B49),"") -> 44 | B49: Nuostabi epocha | C49: La Belle Epoque | D49: FR | E49: 588 | F49: 118 | G49: 1 | H49: 43805 | I49: VLG Film
A50: =IF(B50<>"",ROWS($B$6:B50),"") -> 45 | B50: Liepsnojančios moters portretas | C50: Portrait De La Jeune Fille En Feu | D50: FR | E50: 586 | F50: 134 | G50: 3 | H50: 43987 | I50: Europos kinas
A51: =IF(B51<>"",ROWS($B$6:B51),"") -> 46 | B51: Fiksiai prieš Krabius | C51: Фиксики против кработов | D51: RU | E51: 533 | F51: 276 | G51: 2 | H51: 43854 | I51: Garsų pasaulio įrašai
A52: =IF(B52<>"",ROWS($B$6:B52),"") -> 47 | B52: Džentelmenai | C52: (Toff Guys) Gentlemen (Gun head) | D52: US | E52: 517.5 | F52: 116 | G52: 2 | H52: 43854 | I52: ACME Film
A53: =IF(B53<>"",ROWS($B$6:B53),"") -> 48 | B53: Piktieji paukščiai. Filmas 2 | C53: The Angry Birds Movie 2 | D53: FI, US | E53: 462 | F53: 233 | G53: 2 | H53: 43700 | I53: ACME Film / SONY
A54: =IF(B54<>"",ROWS($B$6:B54),"") -> 49 | B54: Pūkuota šnipė | C54: Marnie’s World | D54: DE, BE | E54: 425 | F54: 112 | G54: 1 | H54: 43637 | I54: Garsų pasaulio įrašai
A55: =IF(B55<>"",ROWS($B$6:B55),"") -> 50 | B55: Kubos voratinklis | C55: Wasp Network | D55: FR, ES, BE | E55: 418 | F55: 94 | G55: 2 | H55: 43896 | I55: ACME Film
A56: =IF(B56<>"",ROWS($B$6:B56),"") -> 51 | B56: Proksima | C56: Proxima | D56: FR | E56: 412 | F56: 89 | G56: 3 | H56: 43987 | I56: Europos kinas
A57: =IF(B57<>"",ROWS($B$6:B57),"") -> 52 | B57: Tylos zona | C57: A Quiet Place | D57: US | E57: 392.5 | F57: 62 | G57: 1 | H57: 43196 | I57: Dukine Film Distribution / Paramount Pictures
A58: =IF(B58<>"",ROWS($B$6:B58),"") -> 53 | B58: Išgyventi vasarą | C58: Išgyventi vasarą | D58: LT | E58: 378 | F58: 113 | G58: 1 | H58: 43574 | I58: Europos kinas
A59: =IF(B59<>"",ROWS($B$6:B59),"") -> 54 | B59: Mano šuo kvanka | C59: My dog stupid | D59: FR | E59: 374 | F59: 80 | G59: 1 | H59: 43868 | I59: VLG Film
A60: =IF(B60<>"",ROWS($B$6:B60),"") -> 55 | B60: Martinas Idenas | C60: Martin Eden | D60: IT | E60: 355 | F60: 85 | G60: 3 | H60: 43987 | I60: Europos kinas
A61: =IF(B61<>"",ROWS($B$6:B61),"") -> 56 | B61: Žanas Polis Gotjė. Sapnas, vizija, šou | C61: Jean Paul Gaultier: Freak and Chic | D61: FR | E61: 347.4 | F61: 76 | G61: 4 | H61: 44008 | I61: Best Film
A62: =IF(B62<>"",ROWS($B$6:B62),"") -> 57 | B62: Gražiausi gyvenimo metai | C62: Les plus belles années d'une vie | D62: FR | E62: 311 | F62: 94 | G62: 1 | H62: 44011 | I62: Europos kinas
A63: =IF(B63<>"",ROWS($B$6:B63),"") -> 58 | B63: Vieną kartą Holivude | C63: Once Upon a Time in Hollywood | D63: US | E63: 290 | F63: 37 | G63: 1 | H63: 43693 | I63: ACME Film / SONY
A64: =IF(B64<>"",ROWS($B$6:B64),"") -> 59 | B64: O tada mes šokome | C64: And Then We Danced | D64: SE, GE, FR | E64: 286 | F64: 63 | G64: 2 | H64: 43791 | I64: A-one Films
A65: =IF(B65<>"",ROWS($B$6:B65),"") -> 60 | B65: Diunkerkas | C65: Dunkirk | D65: US | E65: 265.5 | F65: 59 | G65: 1 | H65: 42937 | I65: ACME Film / WB
A66: =IF(B66<>"",ROWS($B$6:B66),"") -> 61 | B66: Protėvių šauksmas | C66: The Call of The Wild | D66: US, CA | E66: 252.7 | F66: 56 | G66: 1 | H66: 43882 | I66: Theatrical Film Distribution / 20th Century Fox
A67: =IF(B67<>"",ROWS($B$6:B67),"") -> 62 | B67: Jonukas ir Grytutė. Siaubo pasaka | C67: Gretel & Hansel | D67: US, IE, CA | E67: 209.1 | F67: 41 | G67: 1 | H67: 43868 | I67: Travolta
A68: =IF(B68<>"",ROWS($B$6:B68),"") -> 63 | B68: Lego filmas 2 | C68: Lego Movie 2 | D68: US | E68: 148 | F68: 75 | G68: 1 | H68: 43504 | I68: ACME Film / WB
A69: =IF(B69<>"",ROWS($B$6:B69),"") -> 64 | B69: Jūsų Vincentas | C69: Loving Vincent | D69: PL, UK | E69: 140 | F69: 56 | G69: 1 | H69: 43189 | I69: Europos kinas
A70: =IF(B70<>"",ROWS($B$6:B70),"") -> 65 | B70: Krautuvų valsas | C70: In the Aisles | D70: DE | E70: 135 | F70: 30 | G70: 1 | H70: 43455 | I70: A-one Films
A71: =IF(B71<>"",ROWS($B$6:B71),"") -> 66 | B71: Šuns tikslas 2 | C71: Molly and Max (A Dog's Journey) | D71: US | E71: 131 | F71: 67 | G71: 2 | H71: 43721 | I71: ACME Film
A72: =IF(B72<>"",ROWS($B$6:B72),"") -> 67 | B72: Visa tiesa apie divą | C72: The Truth | D72: FR, JP | E72: 99 | F72: 24 | G72: 1 | H72: 43987 | I72: Europos kinas
A73: =IF(B73<>"",ROWS($B$6:B73),"") -> 68 | B73: Balta balta diena | C73: Hvítur, Hvítur Dagur | D73: IS, DK, SE | E73: 89 | F73: 27 | G73: 1 | H73: 44011 | I73: Europos kinas
A74: =IF(B74<>"",ROWS($B$6:B74),"") -> 69 | B74: Pašėlę vyrukai amžiams | C74: Bad Boys for Life | D74: US | E74: 81 | F74: 18 | G74: 1 | H74: 43847 | I74: ACME Film / SONY
A75: =IF(B75<>"",ROWS($B$6:B75),"") -> 70 | B75: Atsiprašome, neradome jūsų | C75: Sorry We Missed You | D75: UK, FR, BE | E75: 76 | F75: 22 | G75: 1 | H75: 44029 | I75: Europos kinas
A76: =IF(B76<>"",ROWS($B$6:B76),"") -> 71 | B76: Tiesiog nuostabu | C76: Thalasso | D76: FR | E76: 73 | F76: 23 | G76: 1 | H76: 44015 | I76: Europos kinas
A77: =IF(B77<>"",ROWS($B$6:B77),"") -> 72 | B77: Vasara | C77: Лето | D77: RU | E77: 66 | F77: 21 | G77: 1 | H77: 43560 | I77: Europos kinas
A78: =IF(B78<>"",ROWS($B$6:B78),"") -> 73 | B78: Nematomas žmogus | C78: The Invisible Man | D78: US | E78: 61.3 | F78: 10 | G78: 1 | H78: 43896 | I78: Dukine Film Distribution / Universal Pictures International
A79: =IF(B79<>"",ROWS($B$6:B79),"") -> 74 | B79: Bėgantis skustuvo ašmenimis 2049 | C79: Blade Runner 2049 | D79: US | E79: 56 | F79: 12 | G79: 1 | H79: 43014 | I79: ACME Film / SONY
A80: =IF(B80<>"",ROWS($B$6:B80),"") -> 75 | B80: Mažosios moterys | C80: Little Women | D80: US | E80: 50 | F80: 11 | G80: 1 | H80: 43854 | I80: ACME Film / SONY
A81: =IF(B81<>"",ROWS($B$6:B81),"") -> 76 | B81: Damų laimė | C81: Les Dames | D81: CH | E81: 45 | F81: 15 | G81: 1 | H81: 43707 | I81: Greta Garbo Films
A82: =IF(B82<>"",ROWS($B$6:B82),"") -> 77 | B82: Tamso riteris | C82: Dark Knight | D82: US | E82: 32.04 | F82: 12 | G82: 1 | H82: 39654 | I82: ACME Film / WB
A83: =IF(B83<>"",ROWS($B$6:B83),"") -> 78 | B83: Tamsos riterio sugrįžimas | C83: Dark Knight Rise | D83: US, UK | E83: 32.04 | F83: 12 | G83: 1 | H83: 41117 | I83: ACME Film / WB
A84: =IF(B84<>"",ROWS($B$6:B84),"") -> 79 | B84: Betmenas: Pradžia | C84: Batman Begins | D84: US | E84: 31.92 | F84: 12 | G84: 1 | H84: 38885 | I84: ACME Film / WB
E85: =SUBTOTAL(109,Table3_Liepa[Pajamos]) -> 470218.75 | F85: =SUBTOTAL(109,Table3_Liepa[Žiūrovų skaičius]) -> 92981

Sheet Rugpjūtis
A1: ='2020'!A1 -> 2020
A2: ='2020'!A2 -> Lietuvos kino teatruose rodytų filmų TOP
A3: Rugpjūtis
A5: Eil. Nr. | B5: Filmo pavadinimas | C5: Filmo pavadinimas originalo kalba | D5: Kilmės šalis | E5: Pajamos | F5: Žiūrovų skaičius | G5: Kopijų skaičius | H5: Premjeros data | I5: Platintojas
A6: =IF(B6<>"",ROWS($B$6:B6),"") -> 1 | B6: Grenlandija: Išlikimas | C6: Greenland | D6: US | E6: 127241.26 | F6: 20813 | G6: 14 | H6: 44057 | I6: ACME Film
A7: =IF(B7<>"",ROWS($B$6:B7),"") -> 2 | B7: Tenet | C7: Tenet | D7: US, UK | E7: 120791.51 | F7: 18732 | G7: 16 | H7: 44071 | I7: ACME Film / WB
A8: =IF(B8<>"",ROWS($B$6:B8),"") -> 3 | B8: Kapitonas Kardadantis ir stebuklingas deimantas | C8: Captain Sabertooth and the Magic Diamond | D8: NO | E8: 34792 | F8: 8208 | G8: 16 | H8: 44043 | I8: Garsų pasaulio įrašai
A9: =IF(B9<>"",ROWS($B$6:B9),"") -> 4 | B9: Įtūžęs | C9: Unhinged | D9: US | E9: 30413 | F9: 4851 | G9: 16 | H9: 44043 | I9: VLG Film
A10: =IF(B10<>"",ROWS($B$6:B10),"") -> 5 | B10: Troliai 2 | C10: Trolls World Tour | D10: US | E10: 28165.25 | F10: 6127 | G10: 12 | H10: 44078 | I10: Dukine Film Distribution / Universal Pictures International
A11: =IF(B11<>"",ROWS($B$6:B11),"") -> 6 | B11: Palm Springs | C11: Palm Springs | D11: US | E11: 27738.68 | F11: 5146 | G11: 14 | H11: 44057 | I11: VLG Film
A12: =IF(B12<>"",ROWS($B$6:B12),"") -> 7 | B12: Pradžia (Jubiliejinis leidimas) | C12: Inception (10th Anniversary re-release) | D12: US, UK | E12: 23991.2 | F12: 3807 | G12: 11 | H12: 44057 | I12: ACME Film / WB
A13: =IF(B13<>"",ROWS($B$6:B13),"") -> 8 | B13: Paslaptingas sodas | C13: Secret Garden | D13: UK, FR | E13: 22777.75 | F13: 5064 | G13: 14 | H13: 44064 | I13: ACME Film
A14: =IF(B14<>"",ROWS($B$6:B14),"") -> 9 | B14: Mirtina nuoma | C14: Rental | D14: US | E14: 20815.1 | F14: 3528 | G14: 14 | H14: 44043 | I14: ACME Film
A15: =IF(B15<>"",ROWS($B$6:B15),"") -> 10 | B15: Traukinys į Busaną 2: Pusiasalis | C15: Train to Busan 2: Peninsula | D15: KR | E15: 20396.59 | F15: 3535 | G15: 13 | H15: 44057 | I15: Best Film
A16: =IF(B16<>"",ROWS($B$6:B16),"") -> 11 | B16: Sek paskui mane | C16: Follow me | D16: US | E16: 17702 | F16: 2875 | G16: 11 | H16: 44036 | I16: Garsų pasaulio įrašai
A17: =IF(B17<>"",ROWS($B$6:B17),"") -> 12 | B17: Nuosavas šnipas | C17: My Spy | D17: US | E17: 16759.96 | F17: 3193 | G17: 13 | H17: 44050 | I17: ACME Film
A18: =IF(B18<>"",ROWS($B$6:B18),"") -> 13 | B18: Kosminis Samsamas | C18: Samsam | D18: FR | E18: 14962.86 | F18: 3581 | G18: 15 | H18: 44057 | I18: VLG Film
A19: =IF(B19<>"",ROWS($B$6:B19),"") -> 14 | B19: Geriausi draugai | C19: Ella Bella Bingo | D19: NO | E19: 14380.95 | F19: 3514 | G19: 15 | H19: 44050 | I19: Theatrical Film Distribution
A20: =IF(B20<>"",ROWS($B$6:B20),"") -> 15 | B20: Pirmyn | C20: Onward | D20: US | E20: 13467.32 | F20: 2956 | G20: 10 | H20: 43896 | I20: Theatrical Film Distribution / WDSMPI
A21: =IF(B21<>"",ROWS($B$6:B21),"") -> 16 | B21: Ežiukas Sonic | C21: Sonic The Hedgehog | D21: US, JP, CA | E21: 12447.22 | F21: 2733 | G21: 9 | H21: 44008 | I21: Dukine Film Distribution / Paramount Pictures
A22: =IF(B22<>"",ROWS($B$6:B22),"") -> 17 | B22: Karas su seneliu | C22: War With Grandpa | D22: US | E22: 12228.18 | F22: 2184 | G22: 11 | H22: 44071 | I22: Theatrical Film Distribution
A23: =IF(B23<>"",ROWS($B$6:B23),"") -> 18 | B23: Audros vaikas | C23: Storm boy | D23: AU | E23: 12090.19 | F23: 2596 | G23: 15 | H23: 44036 | I23: Best Film
A24: =IF(B24<>"",ROWS($B$6:B24),"") -> 19 | B24: Forpostas | C24: The Outpost | D24: BG,US | E24: 11719 | F24: 2012 | G24: 11 | H24: 44036 | I24: Garsų pasaulio įrašai
A25: =IF(B25<>"",ROWS($B$6:B25),"") -> 20 | B25: Aš gražuolė | C25: Красотка в ударе | D25: RU | E25: 9827 | F25: 1779 | G25: 10 | H25: 44064 | I25: Garsų pasaulio įrašai
A26: =IF(B26<>"",ROWS($B$6:B26),"") -> 21 | B26: Gnomai sugrįžta | C26: The Elfkin | D26: DE | E26: 9308 | F26: 2107 | G26: 12 | H26: 44029 | I26: Garsų pasaulio įrašai
A27: =IF(B27<>"",ROWS($B$6:B27),"") -> 22 | B27: Uždraustoji zona | C27: Запретная зона | D27: BY | E27: 7721.97 | F27: 1308 | G27: 13 | H27: 44050 | I27: Theatrical Film Distribution
A28: =IF(B28<>"",ROWS($B$6:B28),"") -> 23 | B28: Pieniniai dantys | C28: Babyteeth | D28: AU | E28: 7367 | F28: 1285 | G28: 12 | H28: 44050 | I28: A-One Films
A29: =IF(B29<>"",ROWS($B$6:B29),"") -> 24 | B29: Advokatas | C29: Advokatas | D29: LT | E29: 6158.1 | F29: 1110 | G29: 18 | H29: 44071 | I29: Naratyvas
A30: =IF(B30<>"",ROWS($B$6:B30),"") -> 25 | B30: Tesla | C30: Tesla | D30: US | E30: 6014 | F30: 1284 | G30: 14 | H30: 44064 | I30: Garsų pasaulio įrašai
A31: =IF(B31<>"",ROWS($B$6:B31),"") -> 26 | B31: Karo šmėklos | C31: Ghosts of War | D31: UK | E31: 4922.9 | F31: 848 | G31: 11 | H31: 44057 | I31: Theatrical Film Distribution
A32: =IF(B32<>"",ROWS($B$6:B32),"") -> 27 | B32: Nova Lituania | C32: Nova Lituania | D32: LT | E32: 4849.26 | F32: 849 | G32: 6 | H32: 44008 | I32: Čiobreliai (M-films)
A33: =IF(B33<>"",ROWS($B$6:B33),"") -> 28 | B33: Dingęs princas | C33: Le prince oublié | D33: FR, BE | E33: 3763.39 | F33: 805 | G33: 7 | H33: 44022 | I33: ACME Film
A34: =IF(B34<>"",ROWS($B$6:B34),"") -> 29 | B34: Kaponė | C34: Capone | D34: US | E34: 3434 | F34: 472 | G34: 3 | H34: 44008 | I34: Garsų pasaulio įrašai
A35: =IF(B35<>"",ROWS($B$6:B35),"") -> 30 | B35: Viešbutis BELGRADAS | C35: Отель «Белград» | D35: RU | E35: 3123 | F35: 498 | G35: 2 | H35: 44008 | I35: Garsų pasaulio įrašai
A36: =IF(B36<>"",ROWS($B$6:B36),"") -> 31 | B36: Šarlis Aznavūras | C36: Le regard de Charles | D36: FR | E36: 3013 | F36: 582 | G36: 5 | H36: 44057 | I36: A-One Films
A37: =IF(B37<>"",ROWS($B$6:B37),"") -> 32 | B37: Sputnikas | C37: Спутник | D37: RU | E37: 2767.95 | F37: 463 | G37: 11 | H37: 44043 | I37: ACME Film
A38: =IF(B38<>"",ROWS($B$6:B38),"") -> 33 | B38: Languotas Nindzė | C38: Ternet Ninja | D38: DK | E38: 2598 | F38: 479 | G38: 7 | H38: 44071 | I38: Estinfilm
A39: =IF(B39<>"",ROWS($B$6:B39),"") -> 34 | B39: Maištininkė | C39: Rogue | D39: US | E39: 1899.5 | F39: 304 | G39: 10 | H39: 44071 | I39: Theatrical Film Distribution
A40: =IF(B40<>"",ROWS($B$6:B40),"") -> 35 | B40: Westwood: pankė, ikona, aktyvistė | C40: Westwood: Punk. Icon. Activist | D40: UK | E40: 1725 | F40: 334 | G40: 7 | H40: 44064 | I40: Greta Garbo Films
A41: =IF(B41<>"",ROWS($B$6:B41),"") -> 36 | B41: Imperatorius basas | C41: The Barefoot Emperor | D41: BE | E41: 1667.5 | F41: 289 | G41: 6 | H41: 44064 | I41: A-One Films
A42: =IF(B42<>"",ROWS($B$6:B42),"") -> 37 | B42: Jaga. Tamsiojo miško košmaras | C42: Яга. Кошмар тёмного леса | D42: RU | E42: 1301 | F42: 203 | G42: 3 | H42: 44015 | I42: Garsų pasaulio įrašai
A43: =IF(B43<>"",ROWS($B$6:B43),"") -> 38 | B43: Reivas | C43: Beats | D43: UK | E43: 1205.92 | F43: 254 | G43: 4 | H43: 44022 | I43: Best Film
A44: =IF(B44<>"",ROWS($B$6:B44),"") -> 39 | B44: Liūtas karalius | C44: The Lion King | D44: US | E44: 1184.26 | F44: 246 | G44: 6 | H44: 43665 | I44: Theatrical Film Distribution / WDSMPI
A45: =IF(B45<>"",ROWS($B$6:B45),"") -> 40 | B45: Piktieji paukščiai. Filmas 2 | C45: The Angry Birds Movie 2 | D45: FI, US | E45: 1183.6 | F45: 578 | G45: 5 | H45: 43700 | I45: ACME Film / SONY
A46: =IF(B46<>"",ROWS($B$6:B46),"") -> 41 | B46: Skyrybų klubas | C46: Divorce club | D46: FR | E46: 1152 | F46: 1446 | G46: 1 | H46: 44113 | I46: Kino pasaka
A47: =IF(B47<>"",ROWS($B$6:B47),"") -> 42 | B47: Bjaurusis aš 3 | C47: Despicable Me 3 | D47: US | E47: 1140 | F47: 575 | G47: 5 | H47: 42916 | I47: Dukine Film Distribution / Universal Pictures International
A48: =IF(B48<>"",ROWS($B$6:B48),"") -> 43 | B48: Mis nepriklausoma | C48: Misbehaviour | D48: UK | E48: 1131.2 | F48: 202 | G48: 6 | H48: 44029 | I48: ACME Film
A49: =IF(B49<>"",ROWS($B$6:B49),"") -> 44 | B49: Olegas | C49: Oleg | D49: LT, LV, BE, FR | E49: 1079.91 | F49: 221 | G49: 6 | H49: 44029 | I49: In Script
A50: =IF(B50<>"",ROWS($B$6:B50),"") -> 45 | B50: Ledo šalis 2 | C50: Frozen 2 | D50: US | E50: 1075.86 | F50: 226 | G50: 6 | H50: 43824 | I50: Theatrical Film Distribution / WDSMPI
A51: =IF(B51<>"",ROWS($B$6:B51),"") -> 46 | B51: BENKSIS. Nelegalaus meno iškilimas | C51: Banksy and the Rise of Outlaw Art | D51: UK | E51: 1019.64 | F51: 208 | G51: 8 | H51: 44064 | I51: Best Film
A52: =IF(B52<>"",ROWS($B$6:B52),"") -> 47 | B52: Gauruoti šnipai | C52: Spycies | D52: CN, FR | E52: 979.7 | F52: 528 | G52: 4 | H52: 43861 | I52: ACME Film
A53: =IF(B53<>"",ROWS($B$6:B53),"") -> 48 | B53: Augintiniai susivienija | C53: Pets United | D53: UK, CN, DE | E53: 850 | F53: 339 | G53: 1 | H53: 43882 | I53: Garsų pasaulio įrašai
A54: =IF(B54<>"",ROWS($B$6:B54),"") -> 49 | B54: Nuostabi epocha | C54: La Belle Epoque | D54: FR | E54: 726 | F54: 91 | G54: 1 | H54: 43805 | I54: VLG Film
A55: =IF(B55<>"",ROWS($B$6:B55),"") -> 50 | B55: Vienas įkvėpimas | C55: Один вдох | D55: RU | E55: 704.61 | F55: 118 | G55: 4 | H55: 44022 | I55: Best Film
A56: =IF(B56<>"",ROWS($B$6:B56),"") -> 51 | B56: Nešventas avinėlis | C56: The other lamb | D56: IE, BE, US, UK, PL | E56: 695.5 | F56: 166 | G56: 5 | H56: 44043 | I56: Kino Aljansas
A57: =IF(B57<>"",ROWS($B$6:B57),"") -> 52 | B57: Tarp žvaigždžių | C57: Interstellar | D57: US | E57: 644 | F57: 122 | G57: 1 | H57: 41970 | I57: ACME Film / WB
A58: =IF(B58<>"",ROWS($B$6:B58),"") -> 53 | B58: Slaptas augintinių gyvenimas 2 | C58: Secret Life of Pets 2 | D58: US | E58: 538 | F58: 269 | G58: 4 | H58: 43616 | I58: Dukine Film Distribution / Universal Pictures International
A59: =IF(B59<>"",ROWS($B$6:B59),"") -> 54 | B59: Gogo | C59: Gogo | D59: FR | E59: 521 | F59: 221 | G59: 2 | H59: 44071 | I59: Estinfilm
A60: =IF(B60<>"",ROWS($B$6:B60),"") -> 55 | B60: Ginklai Akimbo | C60: Guns Akimbo | D60: UK, DE, NZ | E60: 377.55 | F60: 26 | G60: 1 | H60: 43896 | I60: Travolta
A61: =IF(B61<>"",ROWS($B$6:B61),"") -> 56 | B61: Arkties Komanda | C61: Arctic Justice | D61: UK, KR, IN | E61: 356.5 | F61: 184 | G61: 4 | H61: 43875 | I61: VLG Film
A62: =IF(B62<>"",ROWS($B$6:B62),"") -> 57 | B62: Fiksiai prieš Krabius | C62: Фиксики против кработов | D62: RU | E62: 356 | F62: 171 | G62: 1 | H62: 43854 | I62: Garsų pasaulio įrašai
A63: =IF(B63<>"",ROWS($B$6:B63),"") -> 58 | B63: Agnes apie Varda | C63: Agnes par Varda | D63: FR | E63: 330.5 | F63: 110 | G63: 4 | H63: 43728 | I63: A-one Films
A64: =IF(B64<>"",ROWS($B$6:B64),"") -> 59 | B64: Halstonas: šlovės ir nuopuolio istorija | C64: Halston | D64: US | E64: 321 | F64: 60 | G64: 1 | H64: 43721 | I64: Greta Garbo Films
A65: =IF(B65<>"",ROWS($B$6:B65),"") -> 60 | B65: Apie begalybę | C65: Om det oändliga | D65: SE, DK, NO | E65: 307 | F65: 70 | G65: 2 | H65: 44064 | I65: Kino Aljansas
A66: =IF(B66<>"",ROWS($B$6:B66),"") -> 61 | B66: O tada mes šokome | C66: And Then We Danced | D66: SE, GE, FR | E66: 289.5 | F66: 61 | G66: 4 | H66: 43791 | I66: A-one Films
A67: =IF(B67<>"",ROWS($B$6:B67),"") -> 62 | B67: Parazitas | C67: Gisaengchung | D67: KR | E67: 247.86 | F67: 64 | G67: 2 | H67: 43987 | I67: Europos kinas
A68: =IF(B68<>"",ROWS($B$6:B68),"") -> 63 | B68: Kaip prisijaukinti slibiną 3 | C68: How to Train Your Dragon: The Hidden World | D68: US | E68: 235.5 | F68: 129 | G68: 2 | H68: 43532 | I68: Dukine Film Distribution / Universal Pictures International
A69: =IF(B69<>"",ROWS($B$6:B69),"") -> 64 | B69: Alisa | C69: Alice | D69: FR, AU | E69: 210.8 | F69: 45 | G69: 4 | H69: 44036 | I69: Best Film
A70: =IF(B70<>"",ROWS($B$6:B70),"") -> 65 | B70: Importinis jaunikis | C70: Importinis jaunikis | D70: LT | E70: 193.5 | F70: 44 | G70: 1 | H70: 43861 | I70: ACME Film
A71: =IF(B71<>"",ROWS($B$6:B71),"") -> 66 | B71: Zomša | C71: Le Daim | D71: FR | E71: 175 | F71: 42 | G71: 1 | H71: 44043 | I71: Europos kinas
A72: =IF(B72<>"",ROWS($B$6:B72),"") -> 67 | B72: Silvio | C72: Loro | D72: IT, FR | E72: 157 | F72: 30 | G72: 1 | H72: 43469 | I72: A-one Films
A73: =IF(B73<>"",ROWS($B$6:B73),"") -> 68 | B73: Kristaus kūnas | C73: Boże Ciało | D73: PL, FR | E73: 150.33 | F73: 38 | G73: 2 | H73: 43987 | I73: Europos kinas
A74: =IF(B74<>"",ROWS($B$6:B74),"") -> 69 | B74: Ilga dienos kelionė į naktį | C74: Long day‘s journey into night | D74: CH, FR | E74: 148 | F74: 42 | G74: 1 | H74: 43560 | I74: Europos kinas
A75: =IF(B75<>"",ROWS($B$6:B75),"") -> 70 | B75: QT8: Quentin Tarantino | C75: QT8: Quentin Tarantino | D75: US | E75: 145 | F75: 32 | G75: 1 | H75: 43896 | I75: VLG Film
A76: =IF(B76<>"",ROWS($B$6:B76),"") -> 71 | B76: Vikingas Vikas | C76: Vic the Viking and the Magic Sword | D76: FR | E76: 145 | F76: 35 | G76: 1 | H76: 44015 | I76: VLG Film
A77: =IF(B77<>"",ROWS($B$6:B77),"") -> 72 | B77: Šuniškas pokštas | C77: Trouble | D77: CA, US | E77: 142 | F77: 71 | G77: 1 | H77: 43749 | I77: ACME Film
A78: =IF(B78<>"",ROWS($B$6:B78),"") -> 73 | B78: Sinonimai | C78: Synonymes | D78: FR, IL, DE | E78: 138.5 | F78: 43 | G78: 1 | H78: 43997 | I78: Europos kinas
A79: =IF(B79<>"",ROWS($B$6:B79),"") -> 74 | B79: Palaukit mūsų | C79: Not without us? | D79: DE | E79: 130 | F79: 65 | G79: 1 | H79: 42832 | I79: Europos kinas
A80: =IF(B80<>"",ROWS($B$6:B80),"") -> 75 | B80: Gražiausi gyvenimo metai | C80: Les plus belles années d'une vie | D80: FR | E80: 101.5 | F80: 33 | G80: 2 | H80: 44011 | I80: Europos kinas
A81: =IF(B81<>"",ROWS($B$6:B81),"") -> 76 | B81: Ypatingieji | C81: The Specials | D81: FR | E81: 99 | F81: 27 | G81: 1 | H81: 43868 | I81: Theatrical Film Distribution
A82: =IF(B82<>"",ROWS($B$6:B82),"") -> 77 | B82: Moliūgėlio gyvenimas | C82: Ma vie de courgette | D82: CH, FR | E82: 96 | F82: 24 | G82: 1 | H82: 42832 | I82: Europos kinas
A83: =IF(B83<>"",ROWS($B$6:B83),"") -> 78 | B83: Liepsnojančios moters portretas | C83: Portrait De La Jeune Fille En Feu | D83: FR | E83: 87.5 | F83: 27 | G83: 1 | H83: 43987 | I83: Europos kinas
A84: =IF(B84<>"",ROWS($B$6:B84),"") -> 79 | B84: Džentelmenai | C84: (Toff Guys) Gentlemen (Gun head) | D84: US | E84: 75 | F84: 20 | G84: 1 | H84: 43854 | I84: ACME Film
A85: =IF(B85<>"",ROWS($B$6:B85),"") -> 80 | B85: Kelionė į Graikiją | C85: Trip To Greece | D85: UK | E85: 71.5 | F85: 24 | G85: 1 | H85: 44029 | I85: Theatrical Film Distribution
A86: =IF(B86<>"",ROWS($B$6:B86),"") -> 81 | B86: Raudonas vėžlys | C86: The Red Turtle | D86: FR, BE, JP | E86: 58 | F86: 20 | G86: 1 | H86: 42832 | I86: Europos kinas
A87: =IF(B87<>"",ROWS($B$6:B87),"") -> 82 | B87: Aš vis dar čia | C87: #IAmHere | D87: FR | E87: 34 | F87: 6 | G87: 1 | H87: 44015 | I87: Theatrical Film Distribution
A88: =IF(B88<>"",ROWS($B$6:B88),"") -> 83 | B88: Playmobil Filmas | C88: Playmobil: The Movie | D88: FR, US | E88: 30 | F88: 15 | G88: 1 | H88: 44129 | I88: ACME Film
A89: =IF(B89<>"",ROWS($B$6:B89),"") -> 84 | B89: Norėtum! | C89: Magari | D89: IT | E89: 10 | F89: 2 | G89: 1 | H89: 44057 | I89: Europos kinas
E90: =SUBTOTAL(109,Table3_Rugpjūtis[Pajamos]) -> 685390.83 | F90: =SUBTOTAL(109,Table3_Rugpjūtis[Žiūrovų skaičius]) -> 127824

Sheet Rugsėjis
A1: ='2020'!A1 -> 2020
A2: ='2020'!A2 -> Lietuvos kino teatruose rodytų filmų TOP
A3: Rugsėjis
A5: Eil. Nr. | B5: Filmo pavadinimas | C5: Filmo pavadinimas originalo kalba | D5: Kilmės šalis | E5: Pajamos | F5: Žiūrovų skaičius | G5: Kopijų skaičius | H5: Premjeros data | I5: Platintojas
A6: =IF(B6<>"",ROWS($B$6:B6),"") -> 1 | B6: Tenet | C6: Tenet | D6: US, UK | E6: 163760.78 | F6: 25610 | G6: 16 | H6: 44071 | I6: ACME Film / WB
A7: =IF(B7<>"",ROWS($B$6:B7),"") -> 2 | B7: Troliai 2 | C7: Trolls World Tour | D7: US | E7: 152104.52 | F7: 32724 | G7: 18 | H7: 44078 | I7: Dukine Film Distribution / Universal Pictures International
A8: =IF(B8<>"",ROWS($B$6:B8),"") -> 3 | B8: After. Kai mes abejojom | C8: After We Collided | D8: US | E8: 105147 | F8: 17448 | G8: 14 | H8: 44085 | I8: Garsų pasaulio įrašai
A9: =IF(B9<>"",ROWS($B$6:B9),"") -> 4 | B9: Grenlandija: Išlikimas | C9: Greenland | D9: US | E9: 48866 | F9: 8079 | G9: 9 | H9: 44057 | I9: ACME Film
A10: =IF(B10<>"",ROWS($B$6:B10),"") -> 5 | B10: SKŪBIS DŪ! | C10: Scoob! | D10: US | E10: 43888.04 | F10: 9222 | G10: 15 | H10: 44092 | I10: ACME Film / WB
A11: =IF(B11<>"",ROWS($B$6:B11),"") -> 6 | B11: Antebellum: Išrinktoji | C11: Antebellum | D11: US | E11: 34719 | F11: 5831 | G11: 13 | H11: 44092 | I11: ACME Film
A12: =IF(B12<>"",ROWS($B$6:B12),"") -> 7 | B12: Mulan | C12: Mulan | D12: US, CA, HK | E12: 32667 | F12: 5489 | G12: 16 | H12: 44085 | I12: Theatrical Film Distribution / WDSMPI
A13: =IF(B13<>"",ROWS($B$6:B13),"") -> 8 | B13: Karas su seneliu | C13: War With Grandpa | D13: US | E13: 22298.75 | F13: 4064 | G13: 11 | H13: 44071 | I13: Theatrical Film Distribution
A14: =IF(B14<>"",ROWS($B$6:B14),"") -> 9 | B14: Paslaptis: Išdrįsk svajoti | C14: Secret: Dare to Dream | D14: US | E14: 20372.26 | F14: 3428 | G14: 12 | H14: 44078 | I14: ACME Film
A15: =IF(B15<>"",ROWS($B$6:B15),"") -> 10 | B15: Naujieji mutantai | C15: New Mutants | D15: US | E15: 18458 | F15: 3119 | G15: 14 | H15: 44078 | I15: Theatrical Film Distribution / 20th Century Fox
A16: =IF(B16<>"",ROWS($B$6:B16),"") -> 11 | B16: Pilis | C16: Pilis | D16: LT | E16: 16649.06 | F16: 3090 | G16: 19 | H16: 44085 | I16: Artbox
A17: =IF(B17<>"",ROWS($B$6:B17),"") -> 12 | B17: Advokatas | C17: Advokatas | D17: LT | E17: 10985.9 | F17: 1940 | G17: 16 | H17: 44071 | I17: Naratyvas
A18: =IF(B18<>"",ROWS($B$6:B18),"") -> 13 | B18: Lesė grįžta | C18: Lassie Come Home | D18: DE | E18: 9855.3 | F18: 2244 | G18: 15 | H18: 44099 | I18: VLG Film
A19: =IF(B19<>"",ROWS($B$6:B19),"") -> 14 | B19: Deivido Koperfildo istorija | C19: Personal History of David Copperfield | D19: UK, US | E19: 9417.32 | F19: 1673 | G19: 8 | H19: 44092 | I19: VLG Film
A20: =IF(B20<>"",ROWS($B$6:B20),"") -> 15 | B20: Paslaptingas sodas | C20: Secret Garden | D20: UK, FR | E20: 9169.24 | F20: 1974 | G20: 13 | H20: 44064 | I20: ACME Film
A21: =IF(B21<>"",ROWS($B$6:B21),"") -> 16 | B21: Agentė Ava | C21: Ava | D21: US | E21: 7612.88 | F21: 1562 | G21: 9 | H21: 44099 | I21: VLG Film
A22: =IF(B22<>"",ROWS($B$6:B22),"") -> 17 | B22: Atsiminimai iš Italijos | C22: Made in Italy | D22: IT, UK | E22: 7369 | F22: 1480 | G22: 12 | H22: 44099 | I22: ACME Film
A23: =IF(B23<>"",ROWS($B$6:B23),"") -> 18 | B23: Strelcovas | C23: Стрельцов | D23: RU | E23: 7255 | F23: 1463 | G23: 6 | H23: 44099 | I23: Garsų pasaulio įrašai
A24: =IF(B24<>"",ROWS($B$6:B24),"") -> 19 | B24: Palm Springs | C24: Palm Springs | D24: US | E24: 7094.18 | F24: 1252 | G24: 2 | H24: 44057 | I24: VLG Film
A25: =IF(B25<>"",ROWS($B$6:B25),"") -> 20 | B25: Švytinti tamsoje | C25: Radioactive | D25: UK, HU, CN, FR, US | E25: 6353 | F25: 1389 | G25: 14 | H25: 44099 | I25: Theatrical Film Distribution
A26: =IF(B26<>"",ROWS($B$6:B26),"") -> 21 | B26: Kosminis Samsamas | C26: Samsam | D26: FR | E26: 4642.94 | F26: 982 | G26: 3 | H26: 44057 | I26: VLG Film
A27: =IF(B27<>"",ROWS($B$6:B27),"") -> 22 | B27: Kosmobolas | C27: Вратарь Галактики | D27: RU | E27: 4477 | F27: 870 | G27: 6 | H27: 44078 | I27: Garsų pasaulio įrašai
A28: =IF(B28<>"",ROWS($B$6:B28),"") -> 23 | B28: Aš gražuolė | C28: Красотка в ударе | D28: RU | E28: 3588 | F28: 609 | G28: 5 | H28: 44064 | I28: Garsų pasaulio įrašai
A29: =IF(B29<>"",ROWS($B$6:B29),"") -> 24 | B29: Languotas Nindzė | C29: Ternet Ninja | D29: DK | E29: 2997 | F29: 890 | G29: 5 | H29: 44071 | I29: Estinfilm
A30: =IF(B30<>"",ROWS($B$6:B30),"") -> 25 | B30: LX 2048 | C30: LX 2048 | D30: US | E30: 2914.36 | F30: 469 | G30: 9 | H30: 44099 | I30: Travolta
A31: =IF(B31<>"",ROWS($B$6:B31),"") -> 26 | B31: Bilas ir Tedas gelbėja visatą | C31: Bill and Ted Face the Music | D31: US | E31: 2621.16 | F31: 454 | G31: 9 | H31: 44085 | I31: ACME Film
A32: =IF(B32<>"",ROWS($B$6:B32),"") -> 27 | B32: Sistema | C32: Sistema | D32: LT | E32: 2290.65 | F32: 502 | G32: 9 | H32: 44092 | I32: Teorema teatras
A33: =IF(B33<>"",ROWS($B$6:B33),"") -> 28 | B33: Kapitonas Kardadantis ir stebuklingas deimantas | C33: Captain Sabertooth and the Magic Diamond | D33: NO | E33: 1453 | F33: 375 | G33: 6 | H33: 44043 | I33: Garsų pasaulio įrašai
A34: =IF(B34<>"",ROWS($B$6:B34),"") -> 29 | B34: Tesla | C34: Tesla | D34: US | E34: 1380 | F34: 289 | G34: 3 | H34: 44064 | I34: Garsų pasaulio įrašai
A35: =IF(B35<>"",ROWS($B$6:B35),"") -> 30 | B35: Westwood: pankė, ikona, aktyvistė | C35: Westwood: Punk. Icon. Activist | D35: UK | E35: 1220 | F35: 249 | G35: 4 | H35: 44064 | I35: Greta Garbo Films
A36: =IF(B36<>"",ROWS($B$6:B36),"") -> 31 | B36: Pirmyn | C36: Onward | D36: US | E36: 1139.1 | F36: 245 | G36: 3 | H36: 43896 | I36: Theatrical Film Distribution / WDSMPI
A37: =IF(B37<>"",ROWS($B$6:B37),"") -> 32 | B37: Maištininkė | C37: Rogue | D37: US | E37: 932.44 | F37: 161 | G37: 10 | H37: 44071 | I37: Theatrical Film Distribution
A38: =IF(B38<>"",ROWS($B$6:B38),"") -> 33 | B38: Geriausi draugai | C38: Ella Bella Bingo | D38: NO | E38: 726.95 | F38: 220 | G38: 5 | H38: 44050 | I38: Theatrical Film Distribution
A39: =IF(B39<>"",ROWS($B$6:B39),"") -> 34 | B39: Ežiukas Sonic | C39: Sonic The Hedgehog | D39: US, JP, CA | E39: 722.29 | F39: 153 | G39: 3 | H39: 44008 | I39: Dukine Film Distribution / Paramount Pictures
A40: =IF(B40<>"",ROWS($B$6:B40),"") -> 35 | B40: Trumpas kinas. Lietuviški filmukai vaikams | C40: Trumpas kinas. Lietuviški filmukai vaikams | D40: LT | E40: 691.01 | F40: 287 | G40: 4 | H40: 44078 | I40: LITHUANIAN SHORTS
A41: =IF(B41<>"",ROWS($B$6:B41),"") -> 36 | B41: BENKSIS. Nelegalaus meno iškilimas | C41: Banksy and the Rise of Outlaw Art | D41: UK | E41: 667.36 | F41: 406 | G41: 3 | H41: 44064 | I41: Best Film
A42: =IF(B42<>"",ROWS($B$6:B42),"") -> 37 | B42: Nuostabi epocha | C42: La Belle Epoque | D42: FR | E42: 652 | F42: 112 | G42: 1 | H42: 43805 | I42: VLG Film
A43: =IF(B43<>"",ROWS($B$6:B43),"") -> 38 | B43: Traukinys į Busaną 2: Pusiasalis | C43: Train to Busan 2: Peninsula | D43: KR | E43: 586.11 | F43: 111 | G43: 4 | H43: 44057 | I43: Best Film
A44: =IF(B44<>"",ROWS($B$6:B44),"") -> 39 | B44: Nova Lituania | C44: Nova Lituania | D44: LT | E44: 543.72 | F44: 103 | G44: 4 | H44: 44008 | I44: Čiobreliai (M-films)
A45: =IF(B45<>"",ROWS($B$6:B45),"") -> 40 | B45: Šarlis Aznavūras | C45: Le regard de Charles | D45: FR | E45: 501 | F45: 108 | G45: 3 | H45: 44057 | I45: A-One Films
A46: =IF(B46<>"",ROWS($B$6:B46),"") -> 41 | B46: Ypatingieji | C46: The Specials | D46: FR | E46: 500 | F46: 100 | G46: 1 | H46: 43868 | I46: Theatrical Film Distribution
A47: =IF(B47<>"",ROWS($B$6:B47),"") -> 42 | B47: Pieniniai dantys | C47: Babyteeth | D47: AU | E47: 391 | F47: 69 | G47: 4 | H47: 44050 | I47: A-One Films
A48: =IF(B48<>"",ROWS($B$6:B48),"") -> 43 | B48: Imperatorius basas | C48: The Barefoot Emperor | D48: BE | E48: 347.5 | F48: 79 | G48: 2 | H48: 44064 | I48: A-One Films
A49: =IF(B49<>"",ROWS($B$6:B49),"") -> 44 | B49: Apie begalybę | C49: Om det oändliga | D49: SE, DK, NO | E49: 344.5 | F49: 83 | G49: 1 | H49: 44064 | I49: Kino Aljansas
A50: =IF(B50<>"",ROWS($B$6:B50),"") -> 45 | B50: Bintė | C50: Binti | D50: BE | E50: 329 | F50: 119 | G50: 1 | H50: 44080 | I50: Skalvijos kino centras
A51: =IF(B51<>"",ROWS($B$6:B51),"") -> 46 | B51: Trumpas kinas. Mūsų pasaulis | C51: Trumpas kinas. Lietuviški filmukai vaikams | D51: LT | E51: 292.13 | F51: 69 | G51: 4 | H51: 44078 | I51: LITHUANIAN SHORTS
A52: =IF(B52<>"",ROWS($B$6:B52),"") -> 47 | B52: Romi salonas | C52: Kapsalon Romi | D52: NL, DE | E52: 243 | F52: 98 | G52: 1 | H52: 43792 | I52: Skalvijos kino centras
A53: =IF(B53<>"",ROWS($B$6:B53),"") -> 48 | B53: Bjaurusis aš 3 | C53: Despicable Me 3 | D53: US | E53: 109.5 | F53: 23 | G53: 1 | H53: 42916 | I53: Dukine Film Distribution / Universal Pictures International
A54: =IF(B54<>"",ROWS($B$6:B54),"") -> 49 | B54: Atsargiai, ragana | C54: Zlogonje | D54: MK | E54: 96 | F54: 24 | G54: 1 | H54: 43435 | I54: Skalvijos kino centras
A55: =IF(B55<>"",ROWS($B$6:B55),"") -> 50 | B55: Audros vaikas | C55: Storm boy | D55: AU | E55: 86.09 | F55: 43 | G55: 1 | H55: 44036 | I55: Best Film
A56: =IF(B56<>"",ROWS($B$6:B56),"") -> 51 | B56: Lady Bird | C56: Lady Bird | D56: US | E56: 80 | F56: 20 | G56: 1 | H56: 43161 | I56: NCG Distribution / Universal Pictures International
A57: =IF(B57<>"",ROWS($B$6:B57),"") -> 52 | B57: Gauruoti šnipai | C57: Spycies | D57: CN, FR | E57: 28 | F57: 14 | G57: 1 | H57: 43861 | I57: ACME Film
A58: =IF(B58<>"",ROWS($B$6:B58),"") -> 53 | B58: Nešventas avinėlis | C58: The other lamb | D58: IE, BE, US, UK, PL | E58: 27 | F58: 7 | G58: 1 | H58: 44043 | I58: Kino Aljansas
A59: =IF(B59<>"",ROWS($B$6:B59),"") -> 54 | B59: Slaptas augintinių gyvenimas 2 | C59: Secret Life of Pets 2 | D59: US | E59: 12 | F59: 6 | G59: 1 | H59: 43616 | I59: Dukine Film Distribution / Universal Pictures International
A60: =IF(B60<>"",ROWS($B$6:B60),"") -> 55 | B60: Ramenai | C60: Ramen Teh | D60: SG, JP, FR | E60: 6 | F60: 2 | G60: 1 | H60: 43609 | I60: Greta Garbo Films
A61: =IF(B61<>"",ROWS($B$6:B61),"") -> 56 | B61: Šuniškas pokštas | C61: Trouble | D61: CA, US | E61: 4 | F61: 2 | G61: 1 | H61: 43749 | I61: ACME Film
E62: =SUBTOTAL(109,Table3_Rugsėjis[Pajamos]) -> 771684.04 | F62: =SUBTOTAL(109,Table3_Rugsėjis[Žiūrovų skaičius]) -> 141434

Sheet Spalis
A1: ='2020'!A1 -> 2020
A2: ='2020'!A2 -> Lietuvos kino teatruose rodytų filmų TOP
A3: Spalis
A5: Eil. Nr. | B5: Filmo pavadinimas | C5: Filmo pavadinimas originalo kalba | D5: Kilmės šalis | E5: Pajamos | F5: Žiūrovų skaičius | G5: Kopijų skaičius | H5: Premjeros data | I5: Platintojas
A6: =IF(B6<>"",ROWS($B$6:B6),"") -> 1 | B6: Didžiapėdžio vaikis 2 | C6: Bigfoot family | D6: BE, FR | E6: 105573.07 | F6: 21271 | G6: 14 | H6: 44106 | I6: VLG Film
A7: =IF(B7<>"",ROWS($B$6:B7),"") -> 2 | B7: Moterys meluoja geriau. Robertėlis: antroji banga | C7: Moterys meluoja geriau. Robertėlis: antroji banga | D7: LT | E7: 67713 | F7: 11300 | G7: 18 | H7: 44127 | I7: Singing fish
A8: =IF(B8<>"",ROWS($B$6:B8),"") -> 3 | B8: Sapnų kūrėjai | C8: Dreambuilders | D8: DK | E8: 61550 | F8: 13234 | G8: 16 | H8: 44113 | I8: ACME Film
A9: =IF(B9<>"",ROWS($B$6:B9),"") -> 4 | B9: Tenet | C9: Tenet | D9: US, UK | E9: 55329 | F9: 8141 | G9: 9 | H9: 44071 | I9: ACME Film / WB
A10: =IF(B10<>"",ROWS($B$6:B10),"") -> 5 | B10: Troliai 2 | C10: Trolls World Tour | D10: US | E10: 48464.59 | F10: 9999 | G10: 12 | H10: 44078 | I10: Dukine Film Distribution / Universal Pictures International
A11: =IF(B11<>"",ROWS($B$6:B11),"") -> 6 | B11: Grenlandija: Išlikimas | C11: Greenland | D11: US | E11: 48142.44 | F11: 7699 | G11: 8 | H11: 44057 | I11: ACME Film
A12: =IF(B12<>"",ROWS($B$6:B12),"") -> 7 | B12: Sąžiningas vagišius | C12: Honest Thief | D12: US | E12: 34659.83 | F12: 5690 | G12: 13 | H12: 44113 | I12: Theatrical Film Distribution
A13: =IF(B13<>"",ROWS($B$6:B13),"") -> 8 | B13: SKŪBIS DŪ! | C13: Scoob! | D13: US | E13: 28514.22 | F13: 5792 | G13: 12 | H13: 44092 | I13: ACME Film / WB
A14: =IF(B14<>"",ROWS($B$6:B14),"") -> 9 | B14: After. Kai mes abejojom | C14: After We Collided | D14: US | E14: 25799 | F14: 4146 | G14: 11 | H14: 44085 | I14: Garsų pasaulio įrašai
A15: =IF(B15<>"",ROWS($B$6:B15),"") -> 10 | B15: Antebellum: Išrinktoji | C15: Antebellum | D15: US | E15: 22439.29 | F15: 3548 | G15: 8 | H15: 44092 | I15: ACME Film
A16: =IF(B16<>"",ROWS($B$6:B16),"") -> 11 | B16: Lizdas | C16: The Nest | D16: CA, UK | E16: 17868.03 | F16: 2988 | G16: 14 | H16: 44106 | I16: Theatrical Film Distribution
A17: =IF(B17<>"",ROWS($B$6:B17),"") -> 12 | B17: Amžinybė tarp mūsų | C17: Endless | D17: US | E17: 16992.27 | F17: 2904 | G17: 16 | H17: 44120 | I17: Best Film
A18: =IF(B18<>"",ROWS($B$6:B18),"") -> 13 | B18: Ateik pažaisti | C18: Come Play (Larry) | D18: US | E18: 15622.02 | F18: 2502 | G18: 15 | H18: 44134 | I18: ACME Film
A19: =IF(B19<>"",ROWS($B$6:B19),"") -> 14 | B19: Strelcovas | C19: Стрельцов | D19: RU | E19: 14947 | F19: 2412 | G19: 6 | H19: 44099 | I19: Garsų pasaulio įrašai
A20: =IF(B20<>"",ROWS($B$6:B20),"") -> 15 | B20: Lesė grįžta | C20: Lassie Come Home | D20: DE | E20: 14040.39 | F20: 2887 | G20: 12 | H20: 44099 | I20: VLG Film
A21: =IF(B21<>"",ROWS($B$6:B21),"") -> 16 | B21: Dylere | C21: La Dorrone | D21: FR | E21: 12336 | F21: 2280 | G21: 14 | H21: 44106 | I21: A-One Films
A22: =IF(B22<>"",ROWS($B$6:B22),"") -> 17 | B22: Pabaigos ir pradžios | C22: Endings, Beginnings | D22: US | E22: 12021.58 | F22: 2078 | G22: 14 | H22: 44113 | I22: Theatrical Film Distribution
A23: =IF(B23<>"",ROWS($B$6:B23),"") -> 18 | B23: Tobula žmona | C23: How to be a good wife | D23: FR | E23: 11968.61 | F23: 2294 | G23: 14 | H23: 44120 | I23: VLG Film
A24: =IF(B24<>"",ROWS($B$6:B24),"") -> 19 | B24: Drakono raitelis | C24: Dragon Rider | D24: DE | E24: 11695 | F24: 2761 | G24: 15 | H24: 44127 | I24: Garsų pasaulio įrašai
A25: =IF(B25<>"",ROWS($B$6:B25),"") -> 20 | B25: Mulan | C25: Mulan | D25: US, CA, HK | E25: 11097.92 | F25: 1871 | G25: 6 | H25: 44085 | I25: Theatrical Film Distribution / WDSMPI
A26: =IF(B26<>"",ROWS($B$6:B26),"") -> 21 | B26: Atsiminimai iš Italijos | C26: Made in Italy | D26: IT, UK | E26: 10334.43 | F26: 1791 | G26: 9 | H26: 44099 | I26: ACME Film
A27: =IF(B27<>"",ROWS($B$6:B27),"") -> 22 | B27: Švytinti tamsoje | C27: Radioactive | D27: UK, HU, CN, FR, US | E27: 8052.53 | F27: 1450 | G27: 10 | H27: 44099 | I27: Theatrical Film Distribution
A28: =IF(B28<>"",ROWS($B$6:B28),"") -> 23 | B28: Matyk kaip aš | C28: Смотри как я | D28: RU | E28: 5822.61 | F28: 984 | G28: 9 | H28: 44120 | I28: Best Film
A29: =IF(B29<>"",ROWS($B$6:B29),"") -> 24 | B29: Raganos | C29: Witches | D29: US | E29: 5689.6 | F29: 1039 | G29: 13 | H29: 44134 | I29: ACME Film / WB
A30: =IF(B30<>"",ROWS($B$6:B30),"") -> 25 | B30: Skyrybų klubas | C30: Divorce club | D30: FR | E30: 5152.8 | F30: 963 | G30: 6 | H30: 44113 | I30: Kino pasaka
A31: =IF(B31<>"",ROWS($B$6:B31),"") -> 26 | B31: Juodasis strazdas | C31: Blackbird | D31: US, UK | E31: 4471.86 | F31: 837 | G31: 16 | H31: 44127 | I31: Theatrical Film Distribution
A32: =IF(B32<>"",ROWS($B$6:B32),"") -> 27 | B32: Pilis | C32: Pilis | D32: LT | E32: 4273.94 | F32: 1339 | G32: 8 | H32: 44085 | I32: Artbox
A33: =IF(B33<>"",ROWS($B$6:B33),"") -> 28 | B33: LX 2048 | C33: LX 2048 | D33: US | E33: 4070.77 | F33: 908 | G33: 6 | H33: 44099 | I33: Travolta
A34: =IF(B34<>"",ROWS($B$6:B34),"") -> 29 | B34: Meilei dydis nesvarbu | C34: Любовь без размера | D34: RU | E34: 4058 | F34: 603 | G34: 7 | H34: 44134 | I34: Garsų pasaulio įrašai
A35: =IF(B35<>"",ROWS($B$6:B35),"") -> 30 | B35: Ikaras. Mieteko Košo legenda | C35: Ikar. Legenda Mietka Kosza | D35: PL | E35: 3180 | F35: 811 | G35: 6 | H35: 44106 | I35: A-One Films
A36: =IF(B36<>"",ROWS($B$6:B36),"") -> 31 | B36: Agentė Ava | C36: Ava | D36: US | E36: 2476.6 | F36: 454 | G36: 8 | H36: 44099 | I36: VLG Film
A37: =IF(B37<>"",ROWS($B$6:B37),"") -> 32 | B37: Deivido Koperfildo istorija | C37: Personal History of David Copperfield | D37: UK, US | E37: 2275.5 | F37: 516 | G37: 2 | H37: 44092 | I37: VLG Film
A38: =IF(B38<>"",ROWS($B$6:B38),"") -> 33 | B38: Helmut Newton: begėdiškas grožis | C38: Helmut Newton: The Bad and the Beautiful | D38: DE | E38: 2149 | F38: 433 | G38: 6 | H38: 44132 | I38: A-One Films
A39: =IF(B39<>"",ROWS($B$6:B39),"") -> 34 | B39: Persų kalbos pamokos | C39: Persian Lessons | D39: DE, RU | E39: 1463.2 | F39: 274 | G39: 7 | H39: 44134 | I39: Best Film
A40: =IF(B40<>"",ROWS($B$6:B40),"") -> 35 | B40: Raganų klubas: Palikimas | C40: Craft Legacy | D40: US, CA | E40: 1449.52 | F40: 229 | G40: 9 | H40: 44141 | I40: ACME Film / SONY
A41: =IF(B41<>"",ROWS($B$6:B41),"") -> 36 | B41: Nuostabi epocha | C41: La Belle Epoque | D41: FR | E41: 1177 | F41: 192 | G41: 3 | H41: 43805 | I41: VLG Film
A42: =IF(B42<>"",ROWS($B$6:B42),"") -> 37 | B42: Kilpa | C42: Petla | D42: PL | E42: 927.1 | F42: 229 | G42: 3 | H42: 44099 | I42: Kinostar Filmverleih
A43: =IF(B43<>"",ROWS($B$6:B43),"") -> 38 | B43: Sistema | C43: Sistema | D43: LT | E43: 907.04 | F43: 256 | G43: 2 | H43: 44092 | I43: Teorema teatras
A44: =IF(B44<>"",ROWS($B$6:B44),"") -> 39 | B44: Karas su seneliu | C44: War With Grandpa | D44: US | E44: 704.94 | F44: 122 | G44: 1 | H44: 44071 | I44: Theatrical Film Distribution
A45: =IF(B45<>"",ROWS($B$6:B45),"") -> 40 | B45: Bintė | C45: Binti | D45: BE | E45: 647 | F45: 301 | G45: 1 | H45: 44080 | I45: Skalvijos kino centras
A46: =IF(B46<>"",ROWS($B$6:B46),"") -> 41 | B46: Palm Springs | C46: Palm Springs | D46: US | E46: 474 | F46: 89 | G46: 1 | H46: 44057 | I46: VLG Film
A47: =IF(B47<>"",ROWS($B$6:B47),"") -> 42 | B47: Tamsta Varlius | C47: Meester Kikker | D47: NL | E47: 388 | F47: 97 | G47: 1 | H47: 42654 | I47: Skalvijos kino centras
A48: =IF(B48<>"",ROWS($B$6:B48),"") -> 43 | B48: Atsargiai, ragana | C48: Zlogonje | D48: MK | E48: 360 | F48: 72 | G48: 1 | H48: 43435 | I48: Skalvijos kino centras
A49: =IF(B49<>"",ROWS($B$6:B49),"") -> 44 | B49: Auksiniai balsai | C49: Golden voices | D49: IL | E49: 351.5 | F49: 59 | G49: 6 | H49: 44134 | I49: Best Film
A50: =IF(B50<>"",ROWS($B$6:B50),"") -> 45 | B50: Jokūbas, Mimi ir kalbantys šunys | C50: Jekabs, Mimmi un runajosie suni | D50: LV, PL | E50: 339 | F50: 101 | G50: 1 | H50: 44114 | I50: Skalvijos kino centras
A51: =IF(B51<>"",ROWS($B$6:B51),"") -> 46 | B51: Klubas Studio 54 | C51: Studio 54 | D51: US | E51: 297 | F51: 48 | G51: 1 | H51: 43531 | I51: Greta Garbo Films
A52: =IF(B52<>"",ROWS($B$6:B52),"") -> 47 | B52: BENKSIS. Nelegalaus meno iškilimas | C52: Banksy and the Rise of Outlaw Art | D52: UK | E52: 294 | F52: 46 | G52: 2 | H52: 44064 | I52: Best Film
A53: =IF(B53<>"",ROWS($B$6:B53),"") -> 48 | B53: Povaizdis | C53: Povidoki | D53: PL | E53: 274 | F53: 59 | G53: 1 | H53: 42804 | I53: A-One Films
A54: =IF(B54<>"",ROWS($B$6:B54),"") -> 49 | B54: Saldi dienos pabaiga | C54: Dolce Fine Giornata | D54: PL | E54: 255 | F54: 54 | G54: 2 | H54: 43700 | I54: A-one films
A55: =IF(B55<>"",ROWS($B$6:B55),"") -> 50 | B55: Didžioji skruzdėlyčių karalystė | C55: Minuscule, Valley of the Lost Ants | D55: FR | E55: 238 | F55: 95 | G55: 1 | H55: 41691 | I55: ACME Film
A56: =IF(B56<>"",ROWS($B$6:B56),"") -> 51 | B56: Nova Lituania | C56: Nova Lituania | D56: LT | E56: 234 | F56: 76 | G56: 2 | H56: 44008 | I56: Čiobreliai (M-films)
A57: =IF(B57<>"",ROWS($B$6:B57),"") -> 52 | B57: Advokatas | C57: Advokatas | D57: LT | E57: 220 | F57: 36 | G57: 1 | H57: 44071 | I57: Naratyvas
A58: =IF(B58<>"",ROWS($B$6:B58),"") -> 53 | B58: Ypatingieji | C58: The Specials | D58: FR | E58: 181.5 | F58: 37 | G58: 1 | H58: 43868 | I58: Theatrical Film Distribution
A59: =IF(B59<>"",ROWS($B$6:B59),"") -> 54 | B59: Didelis blogas lapinas ir kitos istorijos | C59: Le grand méchant renard et autres contes... | D59: BE, FR | E59: 165 | F59: 66 | G59: 1 | H59: 43379 | I59: Skalvijos kino centras
A60: =IF(B60<>"",ROWS($B$6:B60),"") -> 55 | B60: Paslaptingas sodas | C60: Secret Garden | D60: UK, FR | E60: 152.3 | F60: 54 | G60: 1 | H60: 44064 | I60: ACME Film
A61: =IF(B61<>"",ROWS($B$6:B61),"") -> 56 | B61: Arčiau debesų | C61: Cloudboy | D61: BG, SE, NL, NO | E61: 102 | F61: 51 | G61: 1 | H61: 42988 | I61: Skalvijos kino centras
A62: =IF(B62<>"",ROWS($B$6:B62),"") -> 57 | B62: Trumpas kinas. Mūsų pasaulis | C62: Trumpas kinas. Lietuviški filmukai vaikams | D62: LT | E62: 91 | F62: 24 | G62: 4 | H62: 44078 | I62: LITHUANIAN SHORTS
A63: =IF(B63<>"",ROWS($B$6:B63),"") -> 58 | B63: Geriausi draugai | C63: Ella Bella Bingo | D63: NO | E63: 83 | F63: 30 | G63: 1 | H63: 44050 | I63: Theatrical Film Distribution
A64: =IF(B64<>"",ROWS($B$6:B64),"") -> 59 | B64: Lady Bird | C64: Lady Bird | D64: US | E64: 80 | F64: 20 | G64: 1 | H64: 43161 | I64: NCG Distribution / Universal Pictures International
A65: =IF(B65<>"",ROWS($B$6:B65),"") -> 60 | B65: Pieniniai dantys | C65: Babyteeth | D65: AU | E65: 31 | F65: 5 | G65: 1 | H65: 44050 | I65: A-One Films
A66: =IF(B66<>"",ROWS($B$6:B66),"") -> 61 | B66: Trumpas kinas. Lietuviški filmukai vaikams | C66: Trumpas kinas. Lietuviški filmukai vaikams | D66: LT | E66: 25 | F66: 8 | G66: 2 | H66: 44078 | I66: LITHUANIAN SHORTS
A67: =IF(B67<>"",ROWS($B$6:B67),"") -> 62 | B67: Imperatorius basas | C67: The Barefoot Emperor | D67: BE | E67: 7.5 | F67: 5 | G67: 1 | H67: 44064 | I67: A-One Films
A68: =IF(B68<>"",ROWS($B$6:B68),"")
A69: =IF(B69<>"",ROWS($B$6:B69),"")
A70: =IF(B70<>"",ROWS($B$6:B70),"")
A71: =IF(B71<>"",ROWS($B$6:B71),"")
E72: =SUBTOTAL(109,Table3_Spalis[Pajamos]) -> 710699.5 | F72: =SUBTOTAL(109,Table3_Spalis[Žiūrovų skaičius]) -> 130660

Sheet Lapkritis
A1: ='2020'!A1 -> 2020
A2: ='2020'!A2 -> Lietuvos kino teatruose rodytų filmų TOP
A3: Lapkritis
A5: Eil. Nr. | B5: Filmo pavadinimas | C5: Filmo pavadinimas originalo kalba | D5: Kilmės šalis | E5: Pajamos | F5: Žiūrovų skaičius | G5: Kopijų skaičius | H5: Premjeros data | I5: Platintojas
A6: =IF(B6<>"",ROWS($B$6:B6),"") -> 1 | B6: Ateik pažaisti | C6: Come Play (Larry) | D6: US | E6: 21511 | F6: 3739 | G6: 15 | H6: 44134 | I6: ACME Film
A7: =IF(B7<>"",ROWS($B$6:B7),"") -> 2 | B7: Moterys meluoja geriau. Robertėlis: antroji banga | C7: Moterys meluoja geriau. Robertėlis: antroji banga | D7: LT | E7: 11326 | F7: 2276 | G7: 10 | H7: 44127 | I7: Singing fish
A8: =IF(B8<>"",ROWS($B$6:B8),"") -> 3 | B8: Raganos | C8: Witches | D8: US | E8: 8348 | F8: 1675 | G8: 13 | H8: 44134 | I8: ACME Film / WB
A9: =IF(B9<>"",ROWS($B$6:B9),"") -> 4 | B9: Didžiapėdžio vaikis 2 | C9: Bigfoot family | D9: BE, FR | E9: 5451 | F9: 1191 | G9: 11 | H9: 44106 | I9: VLG Film
A10: =IF(B10<>"",ROWS($B$6:B10),"") -> 5 | B10: Meilei dydis nesvarbu | C10: Любовь без размера | D10: RU | E10: 4501 | F10: 915 | G10: 7 | H10: 44134 | I10: Garsų pasaulio įrašai
A11: =IF(B11<>"",ROWS($B$6:B11),"") -> 6 | B11: Persų kalbos pamokos | C11: Persian Lessons | D11: DE, RU | E11: 4452.82 | F11: 860 | G11: 14 | H11: 44134 | I11: Best Film
A12: =IF(B12<>"",ROWS($B$6:B12),"") -> 7 | B12: Grenlandija: Išlikimas | C12: Greenland | D12: US | E12: 3276.72 | F12: 625 | G12: 8 | H12: 44057 | I12: ACME Film
A13: =IF(B13<>"",ROWS($B$6:B13),"") -> 8 | B13: Sapnų kūrėjai | C13: Dreambuilders | D13: DK | E13: 2267.13 | F13: 513 | G13: 13 | H13: 44113 | I13: ACME Film
A14: =IF(B14<>"",ROWS($B$6:B14),"") -> 9 | B14: Tenet | C14: Tenet | D14: US, UK | E14: 2253.54 | F14: 455 | G14: 4 | H14: 44071 | I14: ACME Film / WB
A15: =IF(B15<>"",ROWS($B$6:B15),"") -> 10 | B15: Drakono raitelis | C15: Dragon Rider | D15: DE | E15: 1690 | F15: 427 | G15: 14 | H15: 44127 | I15: Garsų pasaulio įrašai
A16: =IF(B16<>"",ROWS($B$6:B16),"") -> 11 | B16: Kolos praraja. Požemių balsai | C16: Кольская сверхглубокая | D16: RU | E16: 1619.39 | F16: 263 | G16: 9 | H16: 44141 | I16: VLG Film
A17: =IF(B17<>"",ROWS($B$6:B17),"") -> 12 | B17: Helmut Newton: begėdiškas grožis | C17: Helmut Newton: The Bad and the Beautiful | D17: DE | E17: 772 | F17: 151 | G17: 6 | H17: 44132 | I17: A-One Films
A18: =IF(B18<>"",ROWS($B$6:B18),"") -> 13 | B18: Sąžiningas vagišius | C18: Honest Thief | D18: US | E18: 764.95 | F18: 153 | G18: 4 | H18: 44113 | I18: Theatrical Film Distribution
A19: =IF(B19<>"",ROWS($B$6:B19),"") -> 14 | B19: Kalakutas, vynas ir merginos | C19: Dinner With Friends | D19: US | E19: 738 | F19: 137 | G19: 3 | H19: 44141 | I19: Theatrical Film Distribution
A20: =IF(B20<>"",ROWS($B$6:B20),"") -> 15 | B20: Raganų klubas: Palikimas | C20: Craft Legacy | D20: US, CA | E20: 618.14 | F20: 99 | G20: 9 | H20: 44141 | I20: ACME Film / SONY
A21: =IF(B21<>"",ROWS($B$6:B21),"") -> 16 | B21: Tobula žmona | C21: How to be a good wife | D21: FR | E21: 558.5 | F21: 108 | G21: 5 | H21: 44120 | I21: VLG Film
A22: =IF(B22<>"",ROWS($B$6:B22),"") -> 17 | B22: Troliai 2 | C22: Trolls World Tour | D22: US | E22: 545.55 | F22: 123 | G22: 2 | H22: 44078 | I22: Dukine Film Distribution / Universal Pictures International
A23: =IF(B23<>"",ROWS($B$6:B23),"") -> 18 | B23: Auksiniai balsai | C23: Golden voices | D23: IL | E23: 544 | F23: 119 | G23: 9 | H23: 44134 | I23: Best Film
A24: =IF(B24<>"",ROWS($B$6:B24),"") -> 19 | B24: Amžinybė tarp mūsų | C24: Endless | D24: US | E24: 449.02 | F24: 106 | G24: 6 | H24: 44120 | I24: Best Film
A25: =IF(B25<>"",ROWS($B$6:B25),"") -> 20 | B25: Lesė grįžta | C25: Lassie Come Home | D25: DE | E25: 393 | F25: 148 | G25: 2 | H25: 44099 | I25: VLG Film
A26: =IF(B26<>"",ROWS($B$6:B26),"") -> 21 | B26: Juodasis strazdas | C26: Blackbird | D26: US, UK | E26: 378 | F26: 83 | G26: 5 | H26: 44127 | I26: Theatrical Film Distribution
A27: =IF(B27<>"",ROWS($B$6:B27),"") -> 22 | B27: SKŪBIS DŪ! | C27: Scoob! | D27: US | E27: 341.64 | F27: 74 | G27: 1 | H27: 44092 | I27: ACME Film / WB
A28: =IF(B28<>"",ROWS($B$6:B28),"") -> 23 | B28: Švytinti tamsoje | C28: Radioactive | D28: UK, HU, CN, FR, US | E28: 267.3 | F28: 52 | G28: 1 | H28: 44099 | I28: Theatrical Film Distribution
A29: =IF(B29<>"",ROWS($B$6:B29),"") -> 24 | B29: Ekskursantė | C29: Ekskursantė | D29: LT | E29: 243 | F29: 77 | G29: 1 | H29: 41544 | I29: Cinemark
A30: =IF(B30<>"",ROWS($B$6:B30),"") -> 25 | B30: Antebellum: Išrinktoji | C30: Antebellum | D30: US | E30: 205.1 | F30: 49 | G30: 4 | H30: 44092 | I30: ACME Film
A31: =IF(B31<>"",ROWS($B$6:B31),"") -> 26 | B31: Deivido Koperfildo istorija | C31: Personal History of David Copperfield | D31: UK, US | E31: 200 | F31: 10 | G31: 1 | H31: 44092 | I31: VLG Film
A32: =IF(B32<>"",ROWS($B$6:B32),"") -> 27 | B32: Dylere | C32: La Dorrone | D32: FR | E32: 101 | F32: 17 | G32: 1 | H32: 44106 | I32: A-One Films
A33: =IF(B33<>"",ROWS($B$6:B33),"") -> 28 | B33: Mulan | C33: Mulan | D33: US, CA, HK | E33: 82.5 | F33: 18 | G33: 1 | H33: 44085 | I33: Theatrical Film Distribution / WDSMPI
A34: =IF(B34<>"",ROWS($B$6:B34),"") -> 29 | B34: After. Kai mes abejojom | C34: After We Collided | D34: US | E34: 72 | F34: 10 | G34: 1 | H34: 44085 | I34: Garsų pasaulio įrašai
A35: =IF(B35<>"",ROWS($B$6:B35),"") -> 30 | B35: Kelionė į Graikiją | C35: Trip To Greece | D35: UK | E35: 70 | F35: 14 | G35: 1 | H35: 44029 | I35: Theatrical Film Distribution
A36: =IF(B36<>"",ROWS($B$6:B36),"") -> 31 | B36: Atsiminimai iš Italijos | C36: Made in Italy | D36: IT, UK | E36: 56 | F36: 10 | G36: 1 | H36: 44099 | I36: ACME Film
A37: =IF(B37<>"",ROWS($B$6:B37),"") -> 32 | B37: Skyrybų klubas | C37: Divorce club | D37: FR | E37: 48 | F37: 11 | G37: 1 | H37: 44113 | I37: Kino pasaka
A38: =IF(B38<>"",ROWS($B$6:B38),"") -> 33 | B38: Paslaptingas sodas | C38: Secret Garden | D38: UK, FR | E38: 20 | F38: 4 | G38: 1 | H38: 44064 | I38: ACME Film
A39: =IF(B39<>"",ROWS($B$6:B39),"") -> 34 | B39: BENKSIS. Nelegalaus meno iškilimas | C39: Banksy and the Rise of Outlaw Art | D39: UK | E39: 20 | F39: 4 | G39: 1 | H39: 44064 | I39: Best Film
E40: =SUBTOTAL(109,Table3_Lapkritis[Pajamos]) -> 74184.3 | F40: =SUBTOTAL(109,Table3_Lapkritis[Žiūrovų skaičius]) -> 14516
